PDS_VERSION_ID = PDS3
/* FILE DATA ELEMENTS */
RECORD_TYPE = UNDEFINED
/* POINTERS TO DATA OBJECTS */
^IMAGE = ("H8407_0000_IR4.TIF")
/* IDENTIFICATION DATA ELEMENTS */
DATA_SET_ID = "MEX-M-HRSC-4-REFDR-MAPPROJECT-EXT3-V4.0"
DATA_SET_NAME = "MARS EXPRESS HRSC MAP PROJECTED REFDR EXTENSION3 V4.0"
DETECTOR_ID = MEX_HRSC_IR
EVENT_TYPE = "MARS-REGIONAL-MAPPING-Te-Im-La"
INSTRUMENT_HOST_ID = MEX
INSTRUMENT_HOST_NAME = "MARS EXPRESS"
INSTRUMENT_ID = HRSC
INSTRUMENT_NAME = "HIGH RESOLUTION STEREO CAMERA"
MISSION_NAME = "MARS EXPRESS"
MISSION_PHASE_NAME = ME_Phase_21
PROCESSING_LEVEL_ID = 4
PRODUCT_CREATION_TIME = 2023-02-03T04:36:48.000Z
PRODUCT_ID = "H8407_0000_IR4.TIF"
RELEASE_ID = 0004
REVISION_ID = 0000
/* QUALITY DATA ELEMENTS */
DATA_QUALITY_ID = 1
DATA_QUALITY_DESC = "Data calculated based on original SPICE kernels"
/* TIME DATA ELEMENTS */
SPACECRAFT_CLOCK_START_COUNT = "1/0228381386.09064"
SPACECRAFT_CLOCK_STOP_COUNT = "1/0228381657.57623"
START_TIME = 2010-07-28T07:17:26.396Z
STOP_TIME = 2010-07-28T07:20:50.269Z
/* ORBITAL DATA ELEMENTS */
ASCENDING_NODE_LONGITUDE = 56.73
MAXIMUM_RESOLUTION = 0.0599
FOOTPRINT_POINT_LATITUDE = (-22.7085,-22.7086,-22.7082,-22.7076, -22.7076,-22.7166,-22.5042,-22.0801, -21.6565,-21.2397,-20.9234,-20.5524, -20.3028,-20.0528,-19.8036,-19.5537, -19.3057,-18.9347,-18.6867,-18.4406, -18.1966,-17.9501,-17.704,-17.4585, -17.2136,-16.9675,-16.7237,-16.478, -16.1149,-15.8729,-15.6298,-15.3839, -15.1334,-14.8824,-14.6355,-14.3833, -14.1317,-13.8797,-13.4999,-13.2425, -12.9854,-12.7302,-12.4697,-12.2067, -11.9464,-11.5506,-11.1503,-10.8843, -10.6141,-10.4791,-10.4475,-10.4442, -10.4407,-10.4407,-10.4373,-10.4371, -10.4381,-10.8443,-11.1076,-11.3729, -11.6403,-12.036,-12.4297,-12.6913, -12.95,-13.2049,-13.4626,-13.7182, -13.9698,-14.2222,-14.4753,-14.8475, -15.097,-15.3444,-15.5944,-15.8399, -16.2055,-16.45,-16.6938,-16.9379, -17.1831,-17.5509,-17.7973,-18.0437, -18.29,-18.5375,-18.908,-19.1562, -19.4062,-19.6515,-19.9015,-20.2755, -20.6485,-21.0043,-21.3198,-21.8447, -22.2659,-22.5864,-22.693,-22.7085)
FOOTPRINT_POINT_LONGITUDE = (194.208,193.717,193.252,192.874, 192.861,192.854,192.854,192.852,192.85, 192.846,192.844,192.841,192.839,192.837 ,192.834,192.832,192.83,192.825,192.822 ,192.819,192.815,192.812,192.809, 192.805,192.801,192.798,192.794,192.791 ,192.784,192.78,192.775,192.77,192.766, 192.763,192.758,192.753,192.747,192.742 ,192.733,192.728,192.722,192.716, 192.709,192.703,192.697,192.687,192.677 ,192.67,192.663,192.659,192.658,192.967 ,193.448,193.867,194.302,194.318, 194.323,194.319,194.315,194.312,194.31, 194.306,194.303,194.3,194.299,194.295, 194.293,194.291,194.288,194.286,194.283 ,194.279,194.277,194.275,194.273, 194.271,194.268,194.267,194.264,194.262 ,194.26,194.257,194.255,194.253,194.251 ,194.249,194.245,194.243,194.242, 194.238,194.237,194.233,194.229,194.227 ,194.224,194.218,194.214,194.212, 194.212,194.208)
ORBIT_NUMBER = 8407
ORBITAL_ECCENTRICITY = 0.579
ORBITAL_INCLINATION = 86.83
ORBITAL_SEMIMAJOR_AXIS = 8823.82
PERIAPSIS_ALTITUDE = 324.39
PERIAPSIS_ARGUMENT_ANGLE = 325.39
PERIAPSIS_TIME = 2010-07-28T07:13:59.000Z
SPACECRAFT_ORIENTATION = (0.0,1.0,0.0)
^MEX_ORIENTATION_DESC = "MEX_ORIENTATION_DESC.TXT"
SPACECRAFT_POINTING_MODE = NADIR
^MEX_POINTING_DESC = "MEX_POINTING_DESC.TXT"
RIGHT_ASCENSION = -1e+32
DECLINATION = -1e+32
OFFSET_ANGLE = -1e+32
SPACECRAFT_SOLAR_DISTANCE = 2.39225e+08
TARGET_NAME = MARS
/* CAMERA DATA ELEMENTS */
DETECTOR_TEMPERATURE = 17.351
FOCAL_PLANE_TEMPERATURE = 7.5638
INST_CMPRS_NAME = "DISCRETE COSINE TRANSFORMATION (DCT)"
INST_CMPRS_RATIO = 5.33933
INST_CMPRS_QUALITY = 0
INST_CMPRS_QUANTZ_TBL_ID = 0
INSTRUMENT_TEMPERATURE = 11.0301
LENS_TEMPERATURE = 8.1755
MACROPIXEL_SIZE = 4
MISSING_FRAMES = 0
PIXEL_SUBSAMPLING_FLAG = N
SIGNAL_CHAIN_ID = 2
/* RADIOMETRIC DATA ELEMENTS */
BANDWIDTH = 81.0
CENTER_FILTER_WAVELENGTH = 955.5
RADIANCE_OFFSET = 0.125386
RADIANCE_SCALING_FACTOR = 0.00585952
REFLECTANCE_SCALING_FACTOR = 0.00072344
MEX:REFLECTANCE_OFFSET = 0.0154806
/* IMAGE OBJECT DEFINITIONS */
OBJECT = IMAGE
  INTERCHANGE_FORMAT = BINARY
  LINES = 14582
  LINE_SAMPLES = 1838
  SAMPLE_TYPE = UNSIGNED_INTEGER
  SAMPLE_BITS = 8
  BANDS = 1
  BAND_STORAGE_TYPE = BAND_SEQUENTIAL
  MAXIMUM = 255
  MEAN = 98.2868
  MINIMUM = 1
  STANDARD_DEVIATION = 28.9305
END_OBJECT = IMAGE
/* MAP OBJECT DEFINITIONS */
OBJECT = IMAGE_MAP_PROJECTION
  ^DATA_SET_MAP_PROJECTION_CATALOG= "DSMAP.CAT"
  A_AXIS_RADIUS = 3396.0
  B_AXIS_RADIUS = 3396.0
  C_AXIS_RADIUS = 3396.0
  CENTER_LATITUDE = 0.0
  CENTER_LONGITUDE = 194.0
  COORDINATE_SYSTEM_NAME = PLANETOGRAPHIC
  COORDINATE_SYSTEM_TYPE = "BODY-FIXED ROTATING"
  EASTERNMOST_LONGITUDE = 194.323
  FIRST_STANDARD_PARALLEL = "N/A"
  LINE_FIRST_PIXEL = 1
  LINE_LAST_PIXEL = 14582
  LINE_PROJECTION_OFFSET = -12363.875
  MAP_PROJECTION_ROTATION = 0.0
  MAP_PROJECTION_TYPE = SINUSOIDAL
  MAP_RESOLUTION = 1185.42760773333
  MAP_SCALE = 0.05
  MAXIMUM_LATITUDE = -10.4371
  MINIMUM_LATITUDE = -22.7166
  POSITIVE_LONGITUDE_DIRECTION = EAST
  REFERENCE_LATITUDE = "N/A"
  REFERENCE_LONGITUDE = "N/A"
  SAMPLE_FIRST_PIXEL = 1
  SAMPLE_LAST_PIXEL = 1838
  SAMPLE_PROJECTION_OFFSET = 1517.875
  SECOND_STANDARD_PARALLEL = "N/A"
  WESTERNMOST_LONGITUDE = 192.658
END_OBJECT = IMAGE_MAP_PROJECTION
END
