PDS_VERSION_ID = PDS3
/* FILE DATA ELEMENTS */
RECORD_TYPE = UNDEFINED
/* POINTERS TO DATA OBJECTS */
^IMAGE = ("H8401_0000_IR4.TIF")
/* IDENTIFICATION DATA ELEMENTS */
DATA_SET_ID = "MEX-M-HRSC-4-REFDR-MAPPROJECT-EXT3-V4.0"
DATA_SET_NAME = "MARS EXPRESS HRSC MAP PROJECTED REFDR EXTENSION3 V4.0"
DETECTOR_ID = MEX_HRSC_IR
EVENT_TYPE = "MARS-REGIONAL-MAPPING-Im-Fl"
INSTRUMENT_HOST_ID = MEX
INSTRUMENT_HOST_NAME = "MARS EXPRESS"
INSTRUMENT_ID = HRSC
INSTRUMENT_NAME = "HIGH RESOLUTION STEREO CAMERA"
MISSION_NAME = "MARS EXPRESS"
MISSION_PHASE_NAME = ME_Phase_21
PROCESSING_LEVEL_ID = 4
PRODUCT_CREATION_TIME = 2023-02-03T04:36:48.000Z
PRODUCT_ID = "H8401_0000_IR4.TIF"
RELEASE_ID = 0004
REVISION_ID = 0000
/* QUALITY DATA ELEMENTS */
DATA_QUALITY_ID = 1
DATA_QUALITY_DESC = "Data calculated based on original SPICE kernels"
/* TIME DATA ELEMENTS */
SPACECRAFT_CLOCK_START_COUNT = "1/0228230414.09153"
SPACECRAFT_CLOCK_STOP_COUNT = "1/0228230658.48303"
START_TIME = 2010-07-26T13:21:23.569Z
STOP_TIME = 2010-07-26T13:24:09.766Z
/* ORBITAL DATA ELEMENTS */
ASCENDING_NODE_LONGITUDE = 56.85
MAXIMUM_RESOLUTION = 0.0685
FOOTPRINT_POINT_LATITUDE = (-14.3929,-14.3941,-14.3961,-14.3979, -14.3993,-14.402,-14.4021,-14.3905, -14.1271,-13.7778,-13.4247,-13.0779, -12.723,-12.4489,-12.2632,-12.0827, -11.8118,-11.6297,-11.4495,-11.2657, -11.0817,-10.8962,-10.711,-10.5233, -10.3367,-10.1526,-9.8676,-9.67765, -9.48691,-9.20209,-9.00864,-8.81516, -8.62156,-8.32716,-8.12814,-7.83278, -7.63679,-7.43673,-7.13693,-6.83645, -6.53351,-6.23103,-6.02677,-5.82235, -5.61928,-5.41352,-5.20433,-4.99692, -4.89275,-4.83014,-4.8215,-4.81747, -4.8133,-4.81002,-4.80821,-4.80804, -4.80916,-5.01761,-5.32705,-5.53459, -5.73933,-5.94444,-6.1503,-6.4547, -6.75787,-6.95992,-7.15999,-7.3601, -7.65938,-7.85572,-8.1508,-8.34748, -8.64538,-8.83911,-9.03325,-9.32033, -9.51075,-9.70129,-9.89231,-10.0801, -10.3594,-10.6397,-10.827,-11.0113, -11.195,-11.3795,-11.564,-11.7475, -11.9283,-12.1089,-12.2903,-12.4713, -12.8293,-13.0951,-13.4505,-13.6288, -13.9807,-14.243,-14.3308,-14.3929)
FOOTPRINT_POINT_LONGITUDE = (88.0223,87.8146,87.4824,87.1917, 86.9704,86.5548,86.541,86.5415,86.537, 86.5305,86.5232,86.5124,86.5049,86.5002 ,86.4978,86.4935,86.4872,86.4828, 86.4768,86.4722,86.4677,86.4637,86.4587 ,86.454,86.4489,86.4429,86.4365,86.431, 86.426,86.418,86.4128,86.4072,86.4017, 86.3914,86.3863,86.3777,86.3717,86.3658 ,86.3565,86.3474,86.3371,86.3268, 86.3198,86.3124,86.3047,86.2972,86.2902 ,86.2826,86.279,86.2768,86.7901,87.2353 ,87.5782,87.8869,88.0929,88.1101, 88.1158,88.1134,88.1083,88.1057,88.1031 ,88.1005,88.0981,88.095,88.0912,88.0893 ,88.0874,88.0854,88.0824,88.0803, 88.0772,88.0751,88.0718,88.0699,88.068, 88.0651,88.0633,88.0614,88.0596,88.0577 ,88.0544,88.0513,88.0495,88.0479, 88.0461,88.0445,88.0427,88.0409,88.0394 ,88.0376,88.0361,88.0343,88.0309, 88.0283,88.0249,88.0233,88.0216,88.0195 ,88.019,88.0223)
ORBIT_NUMBER = 8401
ORBITAL_ECCENTRICITY = 0.58
ORBITAL_INCLINATION = 86.83
ORBITAL_SEMIMAJOR_AXIS = 8831.79
PERIAPSIS_ALTITUDE = 323.62
PERIAPSIS_ARGUMENT_ANGLE = 326.39
PERIAPSIS_TIME = 2010-07-26T13:15:57.000Z
SPACECRAFT_ORIENTATION = (0.0,1.0,0.0)
^MEX_ORIENTATION_DESC = "MEX_ORIENTATION_DESC.TXT"
SPACECRAFT_POINTING_MODE = NADIR
^MEX_POINTING_DESC = "MEX_POINTING_DESC.TXT"
RIGHT_ASCENSION = -1e+32
DECLINATION = -1e+32
OFFSET_ANGLE = -1e+32
SPACECRAFT_SOLAR_DISTANCE = 2.39499e+08
TARGET_NAME = MARS
/* CAMERA DATA ELEMENTS */
DETECTOR_TEMPERATURE = 17.9627
FOCAL_PLANE_TEMPERATURE = 7.5638
INST_CMPRS_NAME = "DISCRETE COSINE TRANSFORMATION (DCT)"
INST_CMPRS_RATIO = 5.63472
INST_CMPRS_QUALITY = 0
INST_CMPRS_QUANTZ_TBL_ID = 0
INSTRUMENT_TEMPERATURE = 10.8262
LENS_TEMPERATURE = 7.9716
MACROPIXEL_SIZE = 4
MISSING_FRAMES = 1
PIXEL_SUBSAMPLING_FLAG = N
SIGNAL_CHAIN_ID = 2
/* RADIOMETRIC DATA ELEMENTS */
BANDWIDTH = 81.0
CENTER_FILTER_WAVELENGTH = 955.5
RADIANCE_OFFSET = 0.130049
RADIANCE_SCALING_FACTOR = 0.00264712
REFLECTANCE_SCALING_FACTOR = 0.000327572
MEX:REFLECTANCE_OFFSET = 0.0160931
/* IMAGE OBJECT DEFINITIONS */
OBJECT = IMAGE
  INTERCHANGE_FORMAT = BINARY
  LINES = 11353
  LINE_SAMPLES = 2031
  SAMPLE_TYPE = UNSIGNED_INTEGER
  SAMPLE_BITS = 8
  BANDS = 1
  BAND_STORAGE_TYPE = BAND_SEQUENTIAL
  MAXIMUM = 255
  MEAN = 101.357
  MINIMUM = 1
  STANDARD_DEVIATION = 29.4616
END_OBJECT = IMAGE
/* MAP OBJECT DEFINITIONS */
OBJECT = IMAGE_MAP_PROJECTION
  ^DATA_SET_MAP_PROJECTION_CATALOG= "DSMAP.CAT"
  A_AXIS_RADIUS = 3396.0
  B_AXIS_RADIUS = 3396.0
  C_AXIS_RADIUS = 3396.0
  CENTER_LATITUDE = 0.0
  CENTER_LONGITUDE = 87.0
  COORDINATE_SYSTEM_NAME = PLANETOGRAPHIC
  COORDINATE_SYSTEM_TYPE = "BODY-FIXED ROTATING"
  EASTERNMOST_LONGITUDE = 88.11579999999999
  FIRST_STANDARD_PARALLEL = "N/A"
  LINE_FIRST_PIXEL = 1
  LINE_LAST_PIXEL = 11353
  LINE_PROJECTION_OFFSET = -5730.625
  MAP_PROJECTION_ROTATION = 0.0
  MAP_PROJECTION_TYPE = SINUSOIDAL
  MAP_RESOLUTION = 1185.42760773333
  MAP_SCALE = 0.05
  MAXIMUM_LATITUDE = -4.80804
  MINIMUM_LATITUDE = -14.4021
  POSITIVE_LONGITUDE_DIRECTION = EAST
  REFERENCE_LATITUDE = "N/A"
  REFERENCE_LONGITUDE = "N/A"
  SAMPLE_FIRST_PIXEL = 1
  SAMPLE_LAST_PIXEL = 2031
  SAMPLE_PROJECTION_OFFSET = 788.875
  SECOND_STANDARD_PARALLEL = "N/A"
  WESTERNMOST_LONGITUDE = 86.27679999999999
END_OBJECT = IMAGE_MAP_PROJECTION
END
