PDS_VERSION_ID = PDS3
/* FILE DATA ELEMENTS */
RECORD_TYPE = UNDEFINED
/* POINTERS TO DATA OBJECTS */
^IMAGE = ("H8396_0009_ND4.TIF")
/* IDENTIFICATION DATA ELEMENTS */
DATA_SET_ID = "MEX-M-HRSC-4-REFDR-MAPPROJECT-EXT3-V4.0"
DATA_SET_NAME = "MARS EXPRESS HRSC MAP PROJECTED REFDR EXTENSION3 V4.0"
DETECTOR_ID = MEX_HRSC_NADIR
EVENT_TYPE = "MARS-REGIONAL-MAPPING-Vo-Te"
INSTRUMENT_HOST_ID = MEX
INSTRUMENT_HOST_NAME = "MARS EXPRESS"
INSTRUMENT_ID = HRSC
INSTRUMENT_NAME = "HIGH RESOLUTION STEREO CAMERA"
MISSION_NAME = "MARS EXPRESS"
MISSION_PHASE_NAME = ME_Phase_21
PROCESSING_LEVEL_ID = 4
PRODUCT_CREATION_TIME = 2023-02-03T04:36:48.000Z
PRODUCT_ID = "H8396_0009_ND4.TIF"
RELEASE_ID = 0004
REVISION_ID = 0000
/* QUALITY DATA ELEMENTS */
DATA_QUALITY_ID = 1
DATA_QUALITY_DESC = "Data calculated based on original SPICE kernels"
/* TIME DATA ELEMENTS */
SPACECRAFT_CLOCK_START_COUNT = "1/0228104794.09040"
SPACECRAFT_CLOCK_STOP_COUNT = "1/0228105240.16830"
START_TIME = 2010-07-25T02:27:35.349Z
STOP_TIME = 2010-07-25T02:31:48.337Z
/* ORBITAL DATA ELEMENTS */
ASCENDING_NODE_LONGITUDE = 56.95
MAXIMUM_RESOLUTION = 0.0247
FOOTPRINT_POINT_LATITUDE = (4.81487,4.80988,4.8044,4.7987,4.79283, 4.78676,4.77847,4.77806,4.77789,5.12365 ,5.59028,5.94389,6.41904,6.89942,7.3853 ,7.87659,8.37313,8.74901,9.25566, 9.63918,9.89668,10.1563,10.5478,10.943, 11.2081,11.4753,11.7436,12.0138,12.2861 ,12.5594,12.8345,13.1116,13.3901,13.67, 13.9525,14.2366,14.522,14.809,15.0986, 15.3898,15.6828,15.9776,16.2743,16.573, 16.8738,17.1767,17.4813,17.9418,18.0969 ,18.1133,18.1299,18.1397,18.1488, 18.1609,18.1715,18.1808,18.1873,18.1877 ,18.1874,17.8774,17.5697,17.264,16.96, 16.658,16.3584,16.0607,15.7648,15.4708, 15.1786,14.8881,14.6001,14.3137,14.0286 ,13.7452,13.4645,13.185,12.9069,12.6311 ,12.3568,12.0836,11.8127,11.5435, 11.2754,11.0095,10.6131,10.2203,9.95988 ,9.70168,9.31686,8.80866,8.30634,7.9336 ,7.44094,6.9537,6.47198,5.9955,5.407, 4.94201,4.82638,4.81487)
FOOTPRINT_POINT_LONGITUDE = (238.934,238.613,238.271,237.926, 237.579,237.231,236.77,236.748,236.755, 236.738,236.715,236.697,236.673,236.648 ,236.621,236.593,236.565,236.544, 236.513,236.489,236.474,236.457,236.432 ,236.408,236.391,236.373,236.356, 236.338,236.32,236.302,236.283,236.264, 236.245,236.225,236.205,236.185,236.164 ,236.143,236.122,236.101,236.079, 236.057,236.035,236.012,235.988,235.965 ,235.941,235.904,235.891,235.89,236.452 ,236.814,237.175,237.697,238.218, 238.737,239.157,239.19,239.205,239.196, 239.187,239.178,239.17,239.161,239.153, 239.145,239.138,239.13,239.123,239.116, 239.109,239.102,239.095,239.089,239.083 ,239.076,239.07,239.064,239.059,239.053 ,239.047,239.042,239.037,239.031, 239.024,239.017,239.012,239.007,238.999 ,238.99,238.981,238.975,238.968,238.96, 238.953,238.946,238.938,238.931,238.93, 238.934)
ORBIT_NUMBER = 8396
ORBITAL_ECCENTRICITY = 0.58
ORBITAL_INCLINATION = 86.83
ORBITAL_SEMIMAJOR_AXIS = 8833.92
PERIAPSIS_ALTITUDE = 323.97
PERIAPSIS_ARGUMENT_ANGLE = 327.23
PERIAPSIS_TIME = 2010-07-25T02:17:34.000Z
SPACECRAFT_ORIENTATION = (0.0,1.0,0.0)
^MEX_ORIENTATION_DESC = "MEX_ORIENTATION_DESC.TXT"
SPACECRAFT_POINTING_MODE = ACROSSTRACK
^MEX_POINTING_DESC = "MEX_POINTING_DESC.TXT"
RIGHT_ASCENSION = -1e+32
DECLINATION = -1e+32
OFFSET_ANGLE = 0.686
SPACECRAFT_SOLAR_DISTANCE = 2.39724e+08
TARGET_NAME = MARS
/* CAMERA DATA ELEMENTS */
DETECTOR_TEMPERATURE = 18.5744
FOCAL_PLANE_TEMPERATURE = 8.7872
INST_CMPRS_NAME = "DISCRETE COSINE TRANSFORMATION (DCT)"
INST_CMPRS_RATIO = 6.61677
INST_CMPRS_QUALITY = 0
INST_CMPRS_QUANTZ_TBL_ID = 0
INSTRUMENT_TEMPERATURE = 11.6418
LENS_TEMPERATURE = 9.195
MACROPIXEL_SIZE = 1
MISSING_FRAMES = 0
PIXEL_SUBSAMPLING_FLAG = N
SIGNAL_CHAIN_ID = 0
/* RADIOMETRIC DATA ELEMENTS */
BANDWIDTH = 177.0
CENTER_FILTER_WAVELENGTH = 677.5
RADIANCE_OFFSET = 2.46003
RADIANCE_SCALING_FACTOR = 0.023645
REFLECTANCE_SCALING_FACTOR = 0.000721848
MEX:REFLECTANCE_OFFSET = 0.0751011
/* IMAGE OBJECT DEFINITIONS */
OBJECT = IMAGE
  INTERCHANGE_FORMAT = BINARY
  LINES = 31794
  LINE_SAMPLES = 7471
  SAMPLE_TYPE = UNSIGNED_INTEGER
  SAMPLE_BITS = 8
  BANDS = 1
  BAND_STORAGE_TYPE = BAND_SEQUENTIAL
  MAXIMUM = 255
  MEAN = 116.655
  MINIMUM = 1
  STANDARD_DEVIATION = 18.1357
END_OBJECT = IMAGE
/* MAP OBJECT DEFINITIONS */
OBJECT = IMAGE_MAP_PROJECTION
  ^DATA_SET_MAP_PROJECTION_CATALOG= "DSMAP.CAT"
  A_AXIS_RADIUS = 3396.0
  B_AXIS_RADIUS = 3396.0
  C_AXIS_RADIUS = 3396.0
  CENTER_LATITUDE = 0.0
  CENTER_LONGITUDE = 238.0
  COORDINATE_SYSTEM_NAME = PLANETOGRAPHIC
  COORDINATE_SYSTEM_TYPE = "BODY-FIXED ROTATING"
  EASTERNMOST_LONGITUDE = 239.205
  FIRST_STANDARD_PARALLEL = "N/A"
  LINE_FIRST_PIXEL = 1
  LINE_LAST_PIXEL = 31794
  LINE_PROJECTION_OFFSET = 43119.0
  MAP_PROJECTION_ROTATION = 0.0
  MAP_PROJECTION_TYPE = SINUSOIDAL
  MAP_RESOLUTION = 2370.85521546667
  MAP_SCALE = 0.025
  MAXIMUM_LATITUDE = 18.1877
  MINIMUM_LATITUDE = 4.77789
  POSITIVE_LONGITUDE_DIRECTION = EAST
  REFERENCE_LATITUDE = "N/A"
  REFERENCE_LONGITUDE = "N/A"
  SAMPLE_FIRST_PIXEL = 1
  SAMPLE_LAST_PIXEL = 7471
  SAMPLE_PROJECTION_OFFSET = 4755.0
  SECOND_STANDARD_PARALLEL = "N/A"
  WESTERNMOST_LONGITUDE = 235.89
END_OBJECT = IMAGE_MAP_PROJECTION
END
