PDS_VERSION_ID = PDS3
/* FILE DATA ELEMENTS */
RECORD_TYPE = UNDEFINED
/* POINTERS TO DATA OBJECTS */
^IMAGE = ("H8393_0000_P24.TIF")
/* IDENTIFICATION DATA ELEMENTS */
DATA_SET_ID = "MEX-M-HRSC-4-REFDR-MAPPROJECT-EXT3-V4.0"
DATA_SET_NAME = "MARS EXPRESS HRSC MAP PROJECTED REFDR EXTENSION3 V4.0"
DETECTOR_ID = MEX_HRSC_P2
EVENT_TYPE = "MARS-REGIONAL-MAPPING-Eo-La"
INSTRUMENT_HOST_ID = MEX
INSTRUMENT_HOST_NAME = "MARS EXPRESS"
INSTRUMENT_ID = HRSC
INSTRUMENT_NAME = "HIGH RESOLUTION STEREO CAMERA"
MISSION_NAME = "MARS EXPRESS"
MISSION_PHASE_NAME = ME_Phase_21
PROCESSING_LEVEL_ID = 4
PRODUCT_CREATION_TIME = 2023-02-03T04:36:48.000Z
PRODUCT_ID = "H8393_0000_P24.TIF"
RELEASE_ID = 0004
REVISION_ID = 0000
/* QUALITY DATA ELEMENTS */
DATA_QUALITY_ID = 1
DATA_QUALITY_DESC = "Data calculated based on original SPICE kernels"
/* TIME DATA ELEMENTS */
SPACECRAFT_CLOCK_START_COUNT = "1/0228028988.08240"
SPACECRAFT_CLOCK_STOP_COUNT = "1/0228029276.39110"
START_TIME = 2010-07-24T05:23:23.012Z
STOP_TIME = 2010-07-24T05:26:25.113Z
/* ORBITAL DATA ELEMENTS */
ASCENDING_NODE_LONGITUDE = 57.0
MAXIMUM_RESOLUTION = 0.0648
FOOTPRINT_POINT_LATITUDE = (-12.4173,-12.3973,-12.3752,-12.3632, -12.3426,-12.3417,-12.3347,-11.8014, -11.2701,-10.8495,-10.4165,-10.2004, -9.77215,-9.55651,-9.22611,-9.00536, -8.78441,-8.56368,-8.34281,-8.00358, -7.77732,-7.55121,-7.32525,-7.09522, -6.86417,-6.63378,-6.40305,-6.17089, -5.93456,-5.69861,-5.46311,-5.22705, -4.86709,-4.6269,-4.38736,-4.14384, -3.89834,-3.65282,-3.28297,-3.03339, -2.78404,-2.53084,-2.27973,-2.02451, -1.7699,-1.51221,-1.25273,-0.864024, -0.732309,-0.688773,-0.705626,-0.716527 ,-0.728061,-0.736618,-0.74392,-0.744178 ,-0.745606,-1.00845,-1.26769,-1.52725, -1.78628,-2.04097,-2.29626,-2.55167, -2.80216,-3.05223,-3.30291,-3.55161, -3.79693,-4.04232,-4.41008,-4.65082, -4.89131,-5.13251,-5.37189,-5.72602, -5.96208,-6.31605,-6.66381,-6.89575, -7.12815,-7.35892,-7.58201,-7.92143, -8.14795,-8.48676,-8.81989,-9.04235, -9.26373,-9.48581,-9.70433,-9.91997, -10.3477,-10.5629,-10.8857,-11.523, -11.9496,-12.269,-12.3758,-12.4173)
FOOTPRINT_POINT_LONGITUDE = (184.909,184.487,184.052,183.83,183.462 ,183.447,183.436,183.424,183.413, 183.409,183.398,183.395,183.393,183.39, 183.385,183.382,183.378,183.374,183.37, 183.363,183.358,183.353,183.348,183.343 ,183.338,183.333,183.328,183.322, 183.315,183.309,183.304,183.297,183.289 ,183.282,183.277,183.27,183.263,183.255 ,183.244,183.237,183.23,183.218,183.214 ,183.205,183.196,183.188,183.179, 183.165,183.161,183.16,183.653,183.982, 184.357,184.675,184.974,184.99,184.995, 184.993,184.991,184.99,184.988,184.986, 184.984,184.982,184.98,184.978,184.977, 184.975,184.973,184.971,184.968,184.967 ,184.965,184.963,184.961,184.959, 184.957,184.954,184.952,184.95,184.949, 184.947,184.944,184.942,184.94,184.937, 184.935,184.934,184.932,184.93,184.928, 184.926,184.921,184.918,184.915,184.911 ,184.909,184.907,184.906,184.909)
ORBIT_NUMBER = 8393
ORBITAL_ECCENTRICITY = 0.579
ORBITAL_INCLINATION = 86.83
ORBITAL_SEMIMAJOR_AXIS = 8827.0
PERIAPSIS_ALTITUDE = 324.88
PERIAPSIS_ARGUMENT_ANGLE = 327.78
PERIAPSIS_TIME = 2010-07-24T05:18:42.000Z
SPACECRAFT_ORIENTATION = (0.0,1.0,0.0)
^MEX_ORIENTATION_DESC = "MEX_ORIENTATION_DESC.TXT"
SPACECRAFT_POINTING_MODE = ACROSSTRACK
^MEX_POINTING_DESC = "MEX_POINTING_DESC.TXT"
RIGHT_ASCENSION = -1e+32
DECLINATION = -1e+32
OFFSET_ANGLE = 1.346
SPACECRAFT_SOLAR_DISTANCE = 2.39859e+08
TARGET_NAME = MARS
/* CAMERA DATA ELEMENTS */
DETECTOR_TEMPERATURE = 17.9627
FOCAL_PLANE_TEMPERATURE = 7.3599
INST_CMPRS_NAME = "DISCRETE COSINE TRANSFORMATION (DCT)"
INST_CMPRS_RATIO = 3.3942
INST_CMPRS_QUALITY = 0
INST_CMPRS_QUANTZ_TBL_ID = 0
INSTRUMENT_TEMPERATURE = 10.8262
LENS_TEMPERATURE = 7.7677
MACROPIXEL_SIZE = 4
MISSING_FRAMES = 0
PIXEL_SUBSAMPLING_FLAG = N
SIGNAL_CHAIN_ID = 3
/* RADIOMETRIC DATA ELEMENTS */
BANDWIDTH = 177.0
CENTER_FILTER_WAVELENGTH = 676.5
RADIANCE_OFFSET = 1.59387
RADIANCE_SCALING_FACTOR = 0.0181934
REFLECTANCE_SCALING_FACTOR = 0.000554981
MEX:REFLECTANCE_OFFSET = 0.0486204
/* IMAGE OBJECT DEFINITIONS */
OBJECT = IMAGE
  INTERCHANGE_FORMAT = BINARY
  LINES = 13824
  LINE_SAMPLES = 2277
  SAMPLE_TYPE = UNSIGNED_INTEGER
  SAMPLE_BITS = 8
  BANDS = 1
  BAND_STORAGE_TYPE = BAND_SEQUENTIAL
  MAXIMUM = 255
  MEAN = 117.676
  MINIMUM = 1
  STANDARD_DEVIATION = 24.296
END_OBJECT = IMAGE
/* MAP OBJECT DEFINITIONS */
OBJECT = IMAGE_MAP_PROJECTION
  ^DATA_SET_MAP_PROJECTION_CATALOG= "DSMAP.CAT"
  A_AXIS_RADIUS = 3396.0
  B_AXIS_RADIUS = 3396.0
  C_AXIS_RADIUS = 3396.0
  CENTER_LATITUDE = 0.0
  CENTER_LONGITUDE = 184.0
  COORDINATE_SYSTEM_NAME = PLANETOGRAPHIC
  COORDINATE_SYSTEM_TYPE = "BODY-FIXED ROTATING"
  EASTERNMOST_LONGITUDE = 184.995
  FIRST_STANDARD_PARALLEL = "N/A"
  LINE_FIRST_PIXEL = 1
  LINE_LAST_PIXEL = 13824
  LINE_PROJECTION_OFFSET = -869.125
  MAP_PROJECTION_ROTATION = 0.0
  MAP_PROJECTION_TYPE = SINUSOIDAL
  MAP_RESOLUTION = 1185.42760773333
  MAP_SCALE = 0.05
  MAXIMUM_LATITUDE = -0.688773
  MINIMUM_LATITUDE = -12.4173
  POSITIVE_LONGITUDE_DIRECTION = EAST
  REFERENCE_LATITUDE = "N/A"
  REFERENCE_LONGITUDE = "N/A"
  SAMPLE_FIRST_PIXEL = 1
  SAMPLE_LAST_PIXEL = 2277
  SAMPLE_PROJECTION_OFFSET = 1041.125
  SECOND_STANDARD_PARALLEL = "N/A"
  WESTERNMOST_LONGITUDE = 183.16
END_OBJECT = IMAGE_MAP_PROJECTION
END
