PDS_VERSION_ID = PDS3
/* FILE DATA ELEMENTS */
RECORD_TYPE = UNDEFINED
/* POINTERS TO DATA OBJECTS */
^IMAGE = ("H8385_0000_IR4.TIF")
/* IDENTIFICATION DATA ELEMENTS */
DATA_SET_ID = "MEX-M-HRSC-4-REFDR-MAPPROJECT-EXT3-V4.0"
DATA_SET_NAME = "MARS EXPRESS HRSC MAP PROJECTED REFDR EXTENSION3 V4.0"
DETECTOR_ID = MEX_HRSC_IR
EVENT_TYPE = "MARS-REGIONAL-MAPPING-Vo-Fl"
INSTRUMENT_HOST_ID = MEX
INSTRUMENT_HOST_NAME = "MARS EXPRESS"
INSTRUMENT_ID = HRSC
INSTRUMENT_NAME = "HIGH RESOLUTION STEREO CAMERA"
MISSION_NAME = "MARS EXPRESS"
MISSION_PHASE_NAME = ME_Phase_21
PROCESSING_LEVEL_ID = 4
PRODUCT_CREATION_TIME = 2023-02-03T04:36:48.000Z
PRODUCT_ID = "H8385_0000_IR4.TIF"
RELEASE_ID = 0004
REVISION_ID = 0000
/* QUALITY DATA ELEMENTS */
DATA_QUALITY_ID = 1
DATA_QUALITY_DESC = "Data calculated based on original SPICE kernels"
/* TIME DATA ELEMENTS */
SPACECRAFT_CLOCK_START_COUNT = "1/0227827757.07308"
SPACECRAFT_CLOCK_STOP_COUNT = "1/0227828003.27278"
START_TIME = 2010-07-21T21:30:58.629Z
STOP_TIME = 2010-07-21T21:33:08.748Z
/* ORBITAL DATA ELEMENTS */
ASCENDING_NODE_LONGITUDE = 57.15
MAXIMUM_RESOLUTION = 0.1952
FOOTPRINT_POINT_LATITUDE = (1.53778,1.53886,1.53957,1.54016, 1.54064,1.54098,1.54116,1.5412,1.54108, 1.54082,1.54045,1.53991,1.53932,1.53854 ,1.53843,1.56057,1.92184,2.22564, 2.46929,2.71649,2.96344,3.21373,3.46346 ,3.71615,3.9681,4.22445,4.60857,4.86664 ,5.12641,5.25691,5.38662,5.5182,5.71481 ,5.91252,6.04481,6.24347,6.375,6.57151, 6.70524,6.84088,6.9765,7.11199,7.24894, 7.38584,7.52253,7.66035,7.79845,8.00586 ,8.07562,8.13953,8.1421,8.14384,8.14608 ,8.14728,8.14812,8.1493,8.15045,8.15174 ,8.15177,8.15419,8.15378,8.15299, 8.15289,8.14988,8.01062,7.87237,7.7345, 7.59642,7.45968,7.25503,7.1182,6.98287, 6.84741,6.7119,6.57796,6.4436,6.30905, 6.10957,5.97658,5.77749,5.64605,5.5141, 5.38234,5.18679,5.05624,4.79704,4.47398 ,4.21851,3.83571,3.51871,3.20867, 3.02177,2.83692,2.59012,2.34463,2.16162 ,1.91782,1.67641,1.61606,1.53778)
FOOTPRINT_POINT_LONGITUDE = (285.182,284.988,284.833,284.679, 284.524,284.37,284.217,284.063,283.91, 283.757,283.605,283.452,283.319,283.166 ,283.147,283.142,283.125,283.111,283.1, 283.088,283.077,283.065,283.053,283.041 ,283.029,283.016,282.997,282.984, 282.971,282.964,282.958,282.951,282.94, 282.93,282.923,282.912,282.904,282.893, 282.885,282.878,282.871,282.863,282.856 ,282.848,282.841,282.833,282.825, 282.813,282.809,282.806,283.013,283.201 ,283.46,283.648,283.837,284.049,284.31, 284.475,284.618,284.902,285.116,285.283 ,285.306,285.322,285.318,285.315, 285.311,285.307,285.303,285.298,285.294 ,285.291,285.287,285.284,285.28,285.277 ,285.274,285.269,285.266,285.261, 285.258,285.255,285.252,285.247,285.244 ,285.239,285.231,285.226,285.218, 285.212,285.204,285.2,285.196,285.191, 285.185,285.182,285.177,285.172,285.171 ,285.182)
ORBIT_NUMBER = 8385
ORBITAL_ECCENTRICITY = 0.579
ORBITAL_INCLINATION = 86.82
ORBITAL_SEMIMAJOR_AXIS = 8836.21
PERIAPSIS_ALTITUDE = 325.04
PERIAPSIS_ARGUMENT_ANGLE = 329.16
PERIAPSIS_TIME = 2010-07-21T21:21:39.000Z
SPACECRAFT_ORIENTATION = (0.0,1.0,0.0)
^MEX_ORIENTATION_DESC = "MEX_ORIENTATION_DESC.TXT"
SPACECRAFT_POINTING_MODE = ACROSSTRACK
^MEX_POINTING_DESC = "MEX_POINTING_DESC.TXT"
RIGHT_ASCENSION = -1e+32
DECLINATION = -1e+32
OFFSET_ANGLE = -0.43
SPACECRAFT_SOLAR_DISTANCE = 2.40213e+08
TARGET_NAME = MARS
/* CAMERA DATA ELEMENTS */
DETECTOR_TEMPERATURE = 16.9432
FOCAL_PLANE_TEMPERATURE = 7.5638
INST_CMPRS_NAME = "DISCRETE COSINE TRANSFORMATION (DCT)"
INST_CMPRS_RATIO = 14.1474
INST_CMPRS_QUALITY = 0
INST_CMPRS_QUANTZ_TBL_ID = 0
INSTRUMENT_TEMPERATURE = 10.8262
LENS_TEMPERATURE = 7.7677
MACROPIXEL_SIZE = 8
MISSING_FRAMES = 0
PIXEL_SUBSAMPLING_FLAG = N
SIGNAL_CHAIN_ID = 2
/* RADIOMETRIC DATA ELEMENTS */
BANDWIDTH = 81.0
CENTER_FILTER_WAVELENGTH = 955.5
RADIANCE_OFFSET = 0.776411
RADIANCE_SCALING_FACTOR = 0.00339607
REFLECTANCE_SCALING_FACTOR = 0.000422759
MEX:REFLECTANCE_OFFSET = 0.0966514
/* IMAGE OBJECT DEFINITIONS */
OBJECT = IMAGE
  INTERCHANGE_FORMAT = BINARY
  LINES = 1972
  LINE_SAMPLES = 674
  SAMPLE_TYPE = UNSIGNED_INTEGER
  SAMPLE_BITS = 8
  BANDS = 1
  BAND_STORAGE_TYPE = BAND_SEQUENTIAL
  MAXIMUM = 255
  MEAN = 107.519
  MINIMUM = 1
  STANDARD_DEVIATION = 22.5096
END_OBJECT = IMAGE
/* MAP OBJECT DEFINITIONS */
OBJECT = IMAGE_MAP_PROJECTION
  ^DATA_SET_MAP_PROJECTION_CATALOG= "DSMAP.CAT"
  A_AXIS_RADIUS = 3396.0
  B_AXIS_RADIUS = 3396.0
  C_AXIS_RADIUS = 3396.0
  CENTER_LATITUDE = 0.0
  CENTER_LONGITUDE = 284.0
  COORDINATE_SYSTEM_NAME = PLANETOGRAPHIC
  COORDINATE_SYSTEM_TYPE = "BODY-FIXED ROTATING"
  EASTERNMOST_LONGITUDE = 285.322
  FIRST_STANDARD_PARALLEL = "N/A"
  LINE_FIRST_PIXEL = 1
  LINE_LAST_PIXEL = 1972
  LINE_PROJECTION_OFFSET = 2421.1875
  MAP_PROJECTION_ROTATION = 0.0
  MAP_PROJECTION_TYPE = SINUSOIDAL
  MAP_RESOLUTION = 296.356901933333
  MAP_SCALE = 0.2
  MAXIMUM_LATITUDE = 8.15419
  MINIMUM_LATITUDE = 1.53778
  POSITIVE_LONGITUDE_DIRECTION = EAST
  REFERENCE_LATITUDE = "N/A"
  REFERENCE_LONGITUDE = "N/A"
  SAMPLE_FIRST_PIXEL = 1
  SAMPLE_LAST_PIXEL = 674
  SAMPLE_PROJECTION_OFFSET = 322.8125
  SECOND_STANDARD_PARALLEL = "N/A"
  WESTERNMOST_LONGITUDE = 282.806
END_OBJECT = IMAGE_MAP_PROJECTION
END
