PDS_VERSION_ID = PDS3
/* FILE DATA ELEMENTS */
RECORD_TYPE = UNDEFINED
/* POINTERS TO DATA OBJECTS */
^IMAGE = ("H8384_0000_P24.TIF")
/* IDENTIFICATION DATA ELEMENTS */
DATA_SET_ID = "MEX-M-HRSC-4-REFDR-MAPPROJECT-EXT3-V4.0"
DATA_SET_NAME = "MARS EXPRESS HRSC MAP PROJECTED REFDR EXTENSION3 V4.0"
DETECTOR_ID = MEX_HRSC_P2
EVENT_TYPE = "MARS-REGIONAL-MAPPING-Im-Fl"
INSTRUMENT_HOST_ID = MEX
INSTRUMENT_HOST_NAME = "MARS EXPRESS"
INSTRUMENT_ID = HRSC
INSTRUMENT_NAME = "HIGH RESOLUTION STEREO CAMERA"
MISSION_NAME = "MARS EXPRESS"
MISSION_PHASE_NAME = ME_Phase_21
PROCESSING_LEVEL_ID = 4
PRODUCT_CREATION_TIME = 2023-02-03T04:36:48.000Z
PRODUCT_ID = "H8384_0000_P24.TIF"
RELEASE_ID = 0004
REVISION_ID = 0000
/* QUALITY DATA ELEMENTS */
DATA_QUALITY_ID = 1
DATA_QUALITY_DESC = "Data calculated based on original SPICE kernels"
/* TIME DATA ELEMENTS */
SPACECRAFT_CLOCK_START_COUNT = "1/0227802315.08410"
SPACECRAFT_CLOCK_STOP_COUNT = "1/0227802597.38339"
START_TIME = 2010-07-21T14:25:28.850Z
STOP_TIME = 2010-07-21T14:28:38.137Z
/* ORBITAL DATA ELEMENTS */
ASCENDING_NODE_LONGITUDE = 57.18
MAXIMUM_RESOLUTION = 0.0593
FOOTPRINT_POINT_LATITUDE = (-15.2929,-15.3058,-15.3139,-15.3206, -15.3208,-15.3252,-14.7054,-14.1974, -13.8413,-13.5971,-13.2307,-12.9873, -12.6223,-12.2517,-12.009,-11.6483, -11.4046,-11.1609,-10.7962,-10.5532, -10.3096,-10.0669,-9.82465,-9.58209, -9.34135,-9.10058,-8.85901,-8.6183, -8.37072,-8.1197,-7.87186,-7.62469, -7.38155,-7.13236,-6.87859,-6.62574, -6.24679,-5.98845,-5.72786,-5.46907, -5.21136,-4.94665,-4.68212,-4.28589, -4.01832,-3.61236,-3.20704,-3.06928, -3.05293,-3.0457,-3.03328,-3.02331, -3.01229,-3.01183,-3.01285,-3.42185, -3.69153,-3.96194,-4.23027,-4.62711, -4.89163,-5.15681,-5.41569,-5.67516, -5.93448,-6.19374,-6.44651,-6.69983, -6.95321,-7.33177,-7.57922,-7.82765, -8.07517,-8.32032,-8.56775,-8.80954, -9.05148,-9.29344,-9.5352,-9.77824, -10.021,-10.2639,-10.5064,-10.7499, -10.9937,-11.2369,-11.4809,-11.7248, -11.9685,-12.3342,-12.5784,-12.9437, -13.3106,-13.5556,-13.9209,-14.3638, -14.8764,-15.1842,-15.2859,-15.2929)
FOOTPRINT_POINT_LONGITUDE = (27.2589,26.7392,26.3479,25.9598, 25.9477,25.9455,25.9365,25.9299,25.9247 ,25.9209,25.9151,25.9113,25.9053, 25.8981,25.894,25.8883,25.8837,25.879, 25.8719,25.8671,25.8621,25.8571,25.8521 ,25.847,25.8421,25.8371,25.8318,25.8266 ,25.8204,25.8141,25.8083,25.8025, 25.7974,25.7917,25.7854,25.7792,25.7696 ,25.763,25.7558,25.7489,25.7422,25.7348 ,25.7275,25.7164,25.7088,25.6969, 25.6848,25.6807,25.6803,26.0523,26.5624 ,26.9252,27.2758,27.2911,27.2962, 27.2935,27.2922,27.2906,27.2892,27.2869 ,27.2857,27.2841,27.2828,27.2812, 27.2799,27.2787,27.2778,27.2768,27.2758 ,27.2745,27.2736,27.2722,27.2715, 27.2726,27.2703,27.2695,27.2687,27.2681 ,27.2677,27.2666,27.2658,27.265,27.2646 ,27.2637,27.2625,27.262,27.2611,27.2602 ,27.2596,27.2589,27.2583,27.2582, 27.2571,27.2563,27.2568,27.2552,27.2547 ,27.2544,27.255,27.2589)
ORBIT_NUMBER = 8384
ORBITAL_ECCENTRICITY = 0.579
ORBITAL_INCLINATION = 86.82
ORBITAL_SEMIMAJOR_AXIS = 8835.11
PERIAPSIS_ALTITUDE = 325.36
PERIAPSIS_ARGUMENT_ANGLE = 329.33
PERIAPSIS_TIME = 2010-07-21T14:21:56.000Z
SPACECRAFT_ORIENTATION = (0.0,1.0,0.0)
^MEX_ORIENTATION_DESC = "MEX_ORIENTATION_DESC.TXT"
SPACECRAFT_POINTING_MODE = ACROSSTRACK
^MEX_POINTING_DESC = "MEX_POINTING_DESC.TXT"
RIGHT_ASCENSION = -1e+32
DECLINATION = -1e+32
OFFSET_ANGLE = -0.4
SPACECRAFT_SOLAR_DISTANCE = 2.40257e+08
TARGET_NAME = MARS
/* CAMERA DATA ELEMENTS */
DETECTOR_TEMPERATURE = 18.3705
FOCAL_PLANE_TEMPERATURE = 7.7677
INST_CMPRS_NAME = "DISCRETE COSINE TRANSFORMATION (DCT)"
INST_CMPRS_RATIO = 10.0529
INST_CMPRS_QUALITY = 0
INST_CMPRS_QUANTZ_TBL_ID = 0
INSTRUMENT_TEMPERATURE = 11.0301
LENS_TEMPERATURE = 8.3794
MACROPIXEL_SIZE = 4
MISSING_FRAMES = 0
PIXEL_SUBSAMPLING_FLAG = N
SIGNAL_CHAIN_ID = 3
/* RADIOMETRIC DATA ELEMENTS */
BANDWIDTH = 177.0
CENTER_FILTER_WAVELENGTH = 676.5
RADIANCE_OFFSET = 0.710768
RADIANCE_SCALING_FACTOR = 0.0183167
REFLECTANCE_SCALING_FACTOR = 0.000560599
MEX:REFLECTANCE_OFFSET = 0.0217537
/* IMAGE OBJECT DEFINITIONS */
OBJECT = IMAGE
  INTERCHANGE_FORMAT = BINARY
  LINES = 14581
  LINE_SAMPLES = 1996
  SAMPLE_TYPE = UNSIGNED_INTEGER
  SAMPLE_BITS = 8
  BANDS = 1
  BAND_STORAGE_TYPE = BAND_SEQUENTIAL
  MAXIMUM = 255
  MEAN = 69.0713
  MINIMUM = 1
  STANDARD_DEVIATION = 32.1296
END_OBJECT = IMAGE
/* MAP OBJECT DEFINITIONS */
OBJECT = IMAGE_MAP_PROJECTION
  ^DATA_SET_MAP_PROJECTION_CATALOG= "DSMAP.CAT"
  A_AXIS_RADIUS = 3396.0
  B_AXIS_RADIUS = 3396.0
  C_AXIS_RADIUS = 3396.0
  CENTER_LATITUDE = 0.0
  CENTER_LONGITUDE = 27.0
  COORDINATE_SYSTEM_NAME = PLANETOGRAPHIC
  COORDINATE_SYSTEM_TYPE = "BODY-FIXED ROTATING"
  EASTERNMOST_LONGITUDE = 27.2962
  FIRST_STANDARD_PARALLEL = "N/A"
  LINE_FIRST_PIXEL = 1
  LINE_LAST_PIXEL = 14581
  LINE_PROJECTION_OFFSET = -3570.875
  MAP_PROJECTION_ROTATION = 0.0
  MAP_PROJECTION_TYPE = SINUSOIDAL
  MAP_RESOLUTION = 1185.42760773333
  MAP_SCALE = 0.05
  MAXIMUM_LATITUDE = -3.01183
  MINIMUM_LATITUDE = -15.3252
  POSITIVE_LONGITUDE_DIRECTION = EAST
  REFERENCE_LATITUDE = "N/A"
  REFERENCE_LONGITUDE = "N/A"
  SAMPLE_FIRST_PIXEL = 1
  SAMPLE_LAST_PIXEL = 1996
  SAMPLE_PROJECTION_OFFSET = 1607.875
  SECOND_STANDARD_PARALLEL = "N/A"
  WESTERNMOST_LONGITUDE = 25.6803
END_OBJECT = IMAGE_MAP_PROJECTION
END
