PDS_VERSION_ID = PDS3
/* FILE DATA ELEMENTS */
RECORD_TYPE = UNDEFINED
/* POINTERS TO DATA OBJECTS */
^IMAGE = ("H8384_0000_ND4.TIF")
/* IDENTIFICATION DATA ELEMENTS */
DATA_SET_ID = "MEX-M-HRSC-4-REFDR-MAPPROJECT-EXT3-V4.0"
DATA_SET_NAME = "MARS EXPRESS HRSC MAP PROJECTED REFDR EXTENSION3 V4.0"
DETECTOR_ID = MEX_HRSC_NADIR
EVENT_TYPE = "MARS-REGIONAL-MAPPING-Im-Fl"
INSTRUMENT_HOST_ID = MEX
INSTRUMENT_HOST_NAME = "MARS EXPRESS"
INSTRUMENT_ID = HRSC
INSTRUMENT_NAME = "HIGH RESOLUTION STEREO CAMERA"
MISSION_NAME = "MARS EXPRESS"
MISSION_PHASE_NAME = ME_Phase_21
PROCESSING_LEVEL_ID = 4
PRODUCT_CREATION_TIME = 2023-02-03T04:36:48.000Z
PRODUCT_ID = "H8384_0000_ND4.TIF"
RELEASE_ID = 0004
REVISION_ID = 0000
/* QUALITY DATA ELEMENTS */
DATA_QUALITY_ID = 1
DATA_QUALITY_DESC = "Data calculated based on original SPICE kernels"
/* TIME DATA ELEMENTS */
SPACECRAFT_CLOCK_START_COUNT = "1/0227802315.08410"
SPACECRAFT_CLOCK_STOP_COUNT = "1/0227802597.38339"
START_TIME = 2010-07-21T14:25:50.444Z
STOP_TIME = 2010-07-21T14:29:07.410Z
/* ORBITAL DATA ELEMENTS */
ASCENDING_NODE_LONGITUDE = 57.18
MAXIMUM_RESOLUTION = 0.0147
FOOTPRINT_POINT_LATITUDE = (-15.304,-15.3074,-15.3099,-15.3118, -15.3118,-15.3117,-14.9549,-14.5985, -14.3612,-14.1241,-13.8872,-13.6505, -13.414,-13.1777,-12.9416,-12.4701, -11.9994,-11.5298,-11.061,-10.5932, -10.1263,-9.88906,-9.64995,-9.41116, -9.17263,-8.93435,-8.69109,-8.44708, -8.20326,-7.95985,-7.71326,-7.46426, -7.21571,-6.96732,-6.71584,-6.46194, -6.20839,-5.95518,-5.56828,-5.30982, -5.05173,-4.65785,-4.39459,-4.13176, -3.86392,-3.59579,-3.19284,-3.05625, -3.03248,-3.02865,-3.02265,-3.01868, -3.01525,-3.01194,-3.01173,-3.01191, -3.28457,-3.55253,-3.82091,-4.08955, -4.35266,-4.61617,-5.01098,-5.26934, -5.52808,-5.91587,-6.16934,-6.42315, -6.6773,-6.92956,-7.17817,-7.42711, -7.67639,-7.92377,-8.16738,-8.41124, -8.65552,-8.89958,-9.13809,-9.37687, -9.61591,-9.85525,-10.0933,-10.5606, -11.0289,-11.4981,-11.9682,-12.4393, -12.9112,-13.1475,-13.384,-13.6207, -13.8576,-14.0948,-14.3321,-14.5697, -14.8074,-15.1643,-15.2834,-15.304)
FOOTPRINT_POINT_LONGITUDE = (27.2706,26.8422,26.4181,25.9455, 25.9325,25.9272,25.9218,25.9162,25.9129 ,25.9093,25.9055,25.9016,25.8975, 25.8934,25.8894,25.8806,25.8712,25.8629 ,25.8533,25.8434,25.8331,25.8278, 25.8223,25.8172,25.8119,25.8063,25.8007 ,25.7946,25.7876,25.7815,25.7753, 25.7691,25.7639,25.7572,25.7505,25.7437 ,25.7368,25.7298,25.7185,25.7112, 25.7037,25.692,25.684,25.6762,25.6679, 25.6594,25.6465,25.6421,25.6414,25.9704 ,26.4661,26.7824,27.0501,27.302,27.3188 ,27.327,27.3249,27.3226,27.3205,27.3186 ,27.3167,27.3149,27.3121,27.3101, 27.3082,27.3053,27.3037,27.3023,27.3009 ,27.2995,27.2982,27.2969,27.2952, 27.2939,27.293,27.2932,27.2907,27.2895, 27.2884,27.2875,27.2868,27.2852,27.2841 ,27.2824,27.2797,27.2776,27.2756,27.274 ,27.2729,27.2722,27.271,27.2698,27.2704 ,27.2687,27.2682,27.2676,27.2671, 27.2665,27.2668,27.2706)
ORBIT_NUMBER = 8384
ORBITAL_ECCENTRICITY = 0.579
ORBITAL_INCLINATION = 86.82
ORBITAL_SEMIMAJOR_AXIS = 8835.11
PERIAPSIS_ALTITUDE = 325.36
PERIAPSIS_ARGUMENT_ANGLE = 329.33
PERIAPSIS_TIME = 2010-07-21T14:21:56.000Z
SPACECRAFT_ORIENTATION = (0.0,1.0,0.0)
^MEX_ORIENTATION_DESC = "MEX_ORIENTATION_DESC.TXT"
SPACECRAFT_POINTING_MODE = ACROSSTRACK
^MEX_POINTING_DESC = "MEX_POINTING_DESC.TXT"
RIGHT_ASCENSION = -1e+32
DECLINATION = -1e+32
OFFSET_ANGLE = -0.4
SPACECRAFT_SOLAR_DISTANCE = 2.40257e+08
TARGET_NAME = MARS
/* CAMERA DATA ELEMENTS */
DETECTOR_TEMPERATURE = 17.9627
FOCAL_PLANE_TEMPERATURE = 7.7677
INST_CMPRS_NAME = "DISCRETE COSINE TRANSFORMATION (DCT)"
INST_CMPRS_RATIO = 8.14855
INST_CMPRS_QUALITY = 0
INST_CMPRS_QUANTZ_TBL_ID = 0
INSTRUMENT_TEMPERATURE = 11.0301
LENS_TEMPERATURE = 8.3794
MACROPIXEL_SIZE = 1
MISSING_FRAMES = 0
PIXEL_SUBSAMPLING_FLAG = N
SIGNAL_CHAIN_ID = 0
/* RADIOMETRIC DATA ELEMENTS */
BANDWIDTH = 177.0
CENTER_FILTER_WAVELENGTH = 677.5
RADIANCE_OFFSET = 0.607671
RADIANCE_SCALING_FACTOR = 0.0177932
REFLECTANCE_SCALING_FACTOR = 0.00054562
MEX:REFLECTANCE_OFFSET = 0.0186339
/* IMAGE OBJECT DEFINITIONS */
OBJECT = IMAGE
  INTERCHANGE_FORMAT = BINARY
  LINES = 58324
  LINE_SAMPLES = 7983
  SAMPLE_TYPE = UNSIGNED_INTEGER
  SAMPLE_BITS = 8
  BANDS = 1
  BAND_STORAGE_TYPE = BAND_SEQUENTIAL
  MAXIMUM = 255
  MEAN = 68.1381
  MINIMUM = 1
  STANDARD_DEVIATION = 31.9192
END_OBJECT = IMAGE
/* MAP OBJECT DEFINITIONS */
OBJECT = IMAGE_MAP_PROJECTION
  ^DATA_SET_MAP_PROJECTION_CATALOG= "DSMAP.CAT"
  A_AXIS_RADIUS = 3396.0
  B_AXIS_RADIUS = 3396.0
  C_AXIS_RADIUS = 3396.0
  CENTER_LATITUDE = 0.0
  CENTER_LONGITUDE = 27.0
  COORDINATE_SYSTEM_NAME = PLANETOGRAPHIC
  COORDINATE_SYSTEM_TYPE = "BODY-FIXED ROTATING"
  EASTERNMOST_LONGITUDE = 27.327
  FIRST_STANDARD_PARALLEL = "N/A"
  LINE_FIRST_PIXEL = 1
  LINE_LAST_PIXEL = 58324
  LINE_PROJECTION_OFFSET = -14282.0
  MAP_PROJECTION_ROTATION = 0.0
  MAP_PROJECTION_TYPE = SINUSOIDAL
  MAP_RESOLUTION = 4741.71043093333
  MAP_SCALE = 0.0125
  MAXIMUM_LATITUDE = -3.01173
  MINIMUM_LATITUDE = -15.3118
  POSITIVE_LONGITUDE_DIRECTION = EAST
  REFERENCE_LATITUDE = "N/A"
  REFERENCE_LONGITUDE = "N/A"
  SAMPLE_FIRST_PIXEL = 1
  SAMPLE_LAST_PIXEL = 7983
  SAMPLE_PROJECTION_OFFSET = 6433.0
  SECOND_STANDARD_PARALLEL = "N/A"
  WESTERNMOST_LONGITUDE = 25.6414
END_OBJECT = IMAGE_MAP_PROJECTION
END
