PDS_VERSION_ID = PDS3
/* FILE DATA ELEMENTS */
RECORD_TYPE = UNDEFINED
/* POINTERS TO DATA OBJECTS */
^IMAGE = ("H8382_0000_P24.TIF")
/* IDENTIFICATION DATA ELEMENTS */
DATA_SET_ID = "MEX-M-HRSC-4-REFDR-MAPPROJECT-EXT3-V4.0"
DATA_SET_NAME = "MARS EXPRESS HRSC MAP PROJECTED REFDR EXTENSION3 V4.0"
DETECTOR_ID = MEX_HRSC_P2
EVENT_TYPE = "MARS-REGIONAL-MAPPING-Vo"
INSTRUMENT_HOST_ID = MEX
INSTRUMENT_HOST_NAME = "MARS EXPRESS"
INSTRUMENT_ID = HRSC
INSTRUMENT_NAME = "HIGH RESOLUTION STEREO CAMERA"
MISSION_NAME = "MARS EXPRESS"
MISSION_PHASE_NAME = ME_Phase_21
PROCESSING_LEVEL_ID = 4
PRODUCT_CREATION_TIME = 2023-02-03T04:36:48.000Z
PRODUCT_ID = "H8382_0000_P24.TIF"
RELEASE_ID = 0004
REVISION_ID = 0000
/* QUALITY DATA ELEMENTS */
DATA_QUALITY_ID = 1
DATA_QUALITY_DESC = "Data calculated based on original SPICE kernels"
/* TIME DATA ELEMENTS */
SPACECRAFT_CLOCK_START_COUNT = "1/0227751982.09129"
SPACECRAFT_CLOCK_STOP_COUNT = "1/0227752360.21001"
START_TIME = 2010-07-21T00:26:36.302Z
STOP_TIME = 2010-07-21T00:30:59.319Z
/* ORBITAL DATA ELEMENTS */
ASCENDING_NODE_LONGITUDE = 57.21
MAXIMUM_RESOLUTION = 0.0307
FOOTPRINT_POINT_LATITUDE = (-13.1199,-13.0956,-13.0688,-13.0335, -13.0325,-13.0447,-12.7416,-12.4387, -12.1363,-11.8331,-11.2282,-10.473, -9.86921,-9.26696,-8.80537,-8.4969, -8.03438,-7.72031,-7.40476,-7.08887, -6.7736,-6.45053,-6.12733,-5.80444, -5.47797,-5.14802,-4.81859,-4.48636, -4.14953,-3.81293,-3.47311,-3.12914, -2.78501,-2.26107,-1.91132,-1.37846, -1.02241,-0.480087,-0.11761,0.435949, 0.805457,1.181,1.5566,1.93915,2.51559, 2.90416,3.49446,3.69219,3.73924,3.72666 ,3.71396,3.70521,3.68654,3.68607, 3.68522,3.28711,2.89197,2.50124,2.11337 ,1.73001,1.34954,0.972803,0.597267, 0.227409,-0.142738,-0.506484,-1.05107, -1.40814,-1.94238,-2.29274,-2.81788, -3.16181,-3.50614,-3.84731,-4.18442, -4.69063,-5.18598,-5.51628,-5.84413, -6.16708,-6.49049,-6.97306,-7.28919, -7.60566,-8.0796,-8.38804,-8.69715, -9.00643,-9.61657,-10.069,-10.6736, -10.976,-11.2788,-11.7331,-12.0366, -12.3392,-12.6425,-12.9461,-13.0978, -13.1199)
FOOTPRINT_POINT_LONGITUDE = (229.9,229.474,229.033,228.488,228.473, 228.487,228.485,228.483,228.481,228.478 ,228.472,228.463,228.454,228.446, 228.438,228.434,228.426,228.42,228.414, 228.407,228.401,228.395,228.387,228.379 ,228.372,228.364,228.356,228.348, 228.339,228.33,228.32,228.31,228.299, 228.283,228.273,228.256,228.245,228.228 ,228.216,228.197,228.185,228.173,228.16 ,228.146,228.125,228.11,228.087,228.079 ,228.077,228.468,228.89,229.21,230.002, 230.02,230.026,230.024,230.021,230.019, 230.016,230.014,230.011,230.008,230.006 ,230.003,230.001,229.998,229.995, 229.992,229.989,229.987,229.983,229.981 ,229.979,229.977,229.975,229.972, 229.968,229.966,229.964,229.962,229.96, 229.956,229.954,229.952,229.949,229.947 ,229.944,229.942,229.938,229.934, 229.929,229.927,229.924,229.921,229.918 ,229.915,229.912,229.91,229.908,229.9)
ORBIT_NUMBER = 8382
ORBITAL_ECCENTRICITY = 0.579
ORBITAL_INCLINATION = 86.84
ORBITAL_SEMIMAJOR_AXIS = 8835.93
PERIAPSIS_ALTITUDE = 324.65
PERIAPSIS_ARGUMENT_ANGLE = 329.64
PERIAPSIS_TIME = 2010-07-21T00:22:35.000Z
SPACECRAFT_ORIENTATION = (0.0,1.0,0.0)
^MEX_ORIENTATION_DESC = "MEX_ORIENTATION_DESC.TXT"
SPACECRAFT_POINTING_MODE = ACROSSTRACK
^MEX_POINTING_DESC = "MEX_POINTING_DESC.TXT"
RIGHT_ASCENSION = -1e+32
DECLINATION = -1e+32
OFFSET_ANGLE = 1.5
SPACECRAFT_SOLAR_DISTANCE = 2.40344e+08
TARGET_NAME = MARS
/* CAMERA DATA ELEMENTS */
DETECTOR_TEMPERATURE = 18.3705
FOCAL_PLANE_TEMPERATURE = 7.7677
INST_CMPRS_NAME = "DISCRETE COSINE TRANSFORMATION (DCT)"
INST_CMPRS_RATIO = 4.77297
INST_CMPRS_QUALITY = 0
INST_CMPRS_QUANTZ_TBL_ID = 0
INSTRUMENT_TEMPERATURE = 11.0301
LENS_TEMPERATURE = 8.1755
MACROPIXEL_SIZE = 2
MISSING_FRAMES = 0
PIXEL_SUBSAMPLING_FLAG = N
SIGNAL_CHAIN_ID = 3
/* RADIOMETRIC DATA ELEMENTS */
BANDWIDTH = 177.0
CENTER_FILTER_WAVELENGTH = 676.5
RADIANCE_OFFSET = 1.46683
RADIANCE_SCALING_FACTOR = 0.0186948
REFLECTANCE_SCALING_FACTOR = 0.000572592
MEX:REFLECTANCE_OFFSET = 0.0449264
/* IMAGE OBJECT DEFINITIONS */
OBJECT = IMAGE
  INTERCHANGE_FORMAT = BINARY
  LINES = 39870
  LINE_SAMPLES = 4831
  SAMPLE_TYPE = UNSIGNED_INTEGER
  SAMPLE_BITS = 8
  BANDS = 1
  BAND_STORAGE_TYPE = BAND_SEQUENTIAL
  MAXIMUM = 255
  MEAN = 128.306
  MINIMUM = 1
  STANDARD_DEVIATION = 25.7722
END_OBJECT = IMAGE
/* MAP OBJECT DEFINITIONS */
OBJECT = IMAGE_MAP_PROJECTION
  ^DATA_SET_MAP_PROJECTION_CATALOG= "DSMAP.CAT"
  A_AXIS_RADIUS = 3396.0
  B_AXIS_RADIUS = 3396.0
  C_AXIS_RADIUS = 3396.0
  CENTER_LATITUDE = 0.0
  CENTER_LONGITUDE = 229.0
  COORDINATE_SYSTEM_NAME = PLANETOGRAPHIC
  COORDINATE_SYSTEM_TYPE = "BODY-FIXED ROTATING"
  EASTERNMOST_LONGITUDE = 230.026
  FIRST_STANDARD_PARALLEL = "N/A"
  LINE_FIRST_PIXEL = 1
  LINE_LAST_PIXEL = 39870
  LINE_PROJECTION_OFFSET = 8867.25
  MAP_PROJECTION_ROTATION = 0.0
  MAP_PROJECTION_TYPE = SINUSOIDAL
  MAP_RESOLUTION = 2370.85521546667
  MAP_SCALE = 0.025
  MAXIMUM_LATITUDE = 3.73924
  MINIMUM_LATITUDE = -13.1199
  POSITIVE_LONGITUDE_DIRECTION = EAST
  REFERENCE_LATITUDE = "N/A"
  REFERENCE_LONGITUDE = "N/A"
  SAMPLE_FIRST_PIXEL = 1
  SAMPLE_LAST_PIXEL = 4831
  SAMPLE_PROJECTION_OFFSET = 2275.75
  SECOND_STANDARD_PARALLEL = "N/A"
  WESTERNMOST_LONGITUDE = 228.077
END_OBJECT = IMAGE_MAP_PROJECTION
END
