PDS_VERSION_ID = PDS3
/* FILE DATA ELEMENTS */
RECORD_TYPE = UNDEFINED
/* POINTERS TO DATA OBJECTS */
^IMAGE = ("H8382_0000_ND4.TIF")
/* IDENTIFICATION DATA ELEMENTS */
DATA_SET_ID = "MEX-M-HRSC-4-REFDR-MAPPROJECT-EXT3-V4.0"
DATA_SET_NAME = "MARS EXPRESS HRSC MAP PROJECTED REFDR EXTENSION3 V4.0"
DETECTOR_ID = MEX_HRSC_NADIR
EVENT_TYPE = "MARS-REGIONAL-MAPPING-Vo"
INSTRUMENT_HOST_ID = MEX
INSTRUMENT_HOST_NAME = "MARS EXPRESS"
INSTRUMENT_ID = HRSC
INSTRUMENT_NAME = "HIGH RESOLUTION STEREO CAMERA"
MISSION_NAME = "MARS EXPRESS"
MISSION_PHASE_NAME = ME_Phase_21
PROCESSING_LEVEL_ID = 4
PRODUCT_CREATION_TIME = 2023-02-03T04:36:48.000Z
PRODUCT_ID = "H8382_0000_ND4.TIF"
RELEASE_ID = 0004
REVISION_ID = 0000
/* QUALITY DATA ELEMENTS */
DATA_QUALITY_ID = 1
DATA_QUALITY_DESC = "Data calculated based on original SPICE kernels"
/* TIME DATA ELEMENTS */
SPACECRAFT_CLOCK_START_COUNT = "1/0227751982.09129"
SPACECRAFT_CLOCK_STOP_COUNT = "1/0227752360.21001"
START_TIME = 2010-07-21T00:26:59.448Z
STOP_TIME = 2010-07-21T00:31:35.441Z
/* ORBITAL DATA ELEMENTS */
ASCENDING_NODE_LONGITUDE = 57.21
MAXIMUM_RESOLUTION = 0.0153
FOOTPRINT_POINT_LATITUDE = (-13.0756,-13.0755,-13.0746,-13.0726, -13.0725,-13.0726,-12.6266,-12.0332, -11.4411,-10.8506,-10.247,-9.94507, -9.64357,-9.18158,-8.87324,-8.56535, -8.09518,-7.78059,-7.4665,-7.14726, -6.82637,-6.506,-6.18153,-5.85446, -5.52799,-5.19678,-4.86376,-4.53136, -4.19237,-3.68441,-3.16761,-2.82322, -2.47246,-2.12194,-1.58917,-1.23304, -0.870505,-0.508516,-0.140966,0.226751, 0.600008,1.16316,1.54242,1.92584, 2.50582,2.89612,3.48902,3.68832,3.7093, 3.71505,3.72406,3.72927,3.73575,3.74032 ,3.74059,3.74039,3.3419,2.9455,2.55423, 1.97249,1.58781,1.20769,0.642885, 0.26843,-0.1001,-0.468845,-0.831612, -1.19524,-1.55219,-2.08645,-2.43768, -2.78953,-3.30742,-3.65283,-3.99195, -4.33175,-4.83485,-5.16852,-5.50075, -5.82782,-6.15548,-6.48095,-6.8019, -7.12337,-7.4436,-7.75825,-8.0734, -8.54479,-8.85322,-9.16209,-9.62529, -9.92729,-10.2297,-10.5325,-10.8347, -11.4263,-12.0193,-12.9114,-13.0604, -13.0756)
FOOTPRINT_POINT_LONGITUDE = (229.919,229.477,229.019,228.482, 228.467,228.478,228.474,228.47,228.462, 228.456,228.447,228.442,228.437,228.43, 228.425,228.419,228.41,228.404,228.398, 228.391,228.384,228.377,228.369,228.361 ,228.353,228.344,228.336,228.327, 228.318,228.303,228.287,228.275,228.264 ,228.252,228.235,228.223,228.211, 228.199,228.186,228.174,228.16,228.14, 228.126,228.111,228.088,228.073,228.048 ,228.039,228.038,228.392,228.964, 229.304,229.739,230.051,230.07,230.079, 230.076,230.072,230.068,230.063,230.059 ,230.055,230.05,230.046,230.043,230.04, 230.036,230.033,230.03,230.025,230.022, 230.019,230.015,230.012,230.009,230.006 ,230.002,229.999,229.997,229.994, 229.991,229.988,229.985,229.982,229.98, 229.977,229.975,229.97,229.968,229.965, 229.961,229.958,229.955,229.952,229.949 ,229.944,229.938,229.929,229.927, 229.919)
ORBIT_NUMBER = 8382
ORBITAL_ECCENTRICITY = 0.579
ORBITAL_INCLINATION = 86.84
ORBITAL_SEMIMAJOR_AXIS = 8835.93
PERIAPSIS_ALTITUDE = 324.65
PERIAPSIS_ARGUMENT_ANGLE = 329.64
PERIAPSIS_TIME = 2010-07-21T00:22:35.000Z
SPACECRAFT_ORIENTATION = (0.0,1.0,0.0)
^MEX_ORIENTATION_DESC = "MEX_ORIENTATION_DESC.TXT"
SPACECRAFT_POINTING_MODE = ACROSSTRACK
^MEX_POINTING_DESC = "MEX_POINTING_DESC.TXT"
RIGHT_ASCENSION = -1e+32
DECLINATION = -1e+32
OFFSET_ANGLE = 1.5
SPACECRAFT_SOLAR_DISTANCE = 2.40344e+08
TARGET_NAME = MARS
/* CAMERA DATA ELEMENTS */
DETECTOR_TEMPERATURE = 18.1666
FOCAL_PLANE_TEMPERATURE = 7.7677
INST_CMPRS_NAME = "DISCRETE COSINE TRANSFORMATION (DCT)"
INST_CMPRS_RATIO = 5.59121
INST_CMPRS_QUALITY = 0
INST_CMPRS_QUANTZ_TBL_ID = 0
INSTRUMENT_TEMPERATURE = 11.0301
LENS_TEMPERATURE = 8.1755
MACROPIXEL_SIZE = 1
MISSING_FRAMES = 0
PIXEL_SUBSAMPLING_FLAG = N
SIGNAL_CHAIN_ID = 0
/* RADIOMETRIC DATA ELEMENTS */
BANDWIDTH = 177.0
CENTER_FILTER_WAVELENGTH = 677.5
RADIANCE_OFFSET = 1.29454
RADIANCE_SCALING_FACTOR = 0.0184362
REFLECTANCE_SCALING_FACTOR = 0.000565746
MEX:REFLECTANCE_OFFSET = 0.0397252
/* IMAGE OBJECT DEFINITIONS */
OBJECT = IMAGE
  INTERCHANGE_FORMAT = BINARY
  LINES = 79739
  LINE_SAMPLES = 9661
  SAMPLE_TYPE = UNSIGNED_INTEGER
  SAMPLE_BITS = 8
  BANDS = 1
  BAND_STORAGE_TYPE = BAND_SEQUENTIAL
  MAXIMUM = 255
  MEAN = 125.908
  MINIMUM = 1
  STANDARD_DEVIATION = 25.9911
END_OBJECT = IMAGE
/* MAP OBJECT DEFINITIONS */
OBJECT = IMAGE_MAP_PROJECTION
  ^DATA_SET_MAP_PROJECTION_CATALOG= "DSMAP.CAT"
  A_AXIS_RADIUS = 3396.0
  B_AXIS_RADIUS = 3396.0
  C_AXIS_RADIUS = 3396.0
  CENTER_LATITUDE = 0.0
  CENTER_LONGITUDE = 229.0
  COORDINATE_SYSTEM_NAME = PLANETOGRAPHIC
  COORDINATE_SYSTEM_TYPE = "BODY-FIXED ROTATING"
  EASTERNMOST_LONGITUDE = 230.079
  FIRST_STANDARD_PARALLEL = "N/A"
  LINE_FIRST_PIXEL = 1
  LINE_LAST_PIXEL = 79739
  LINE_PROJECTION_OFFSET = 17735.0
  MAP_PROJECTION_ROTATION = 0.0
  MAP_PROJECTION_TYPE = SINUSOIDAL
  MAP_RESOLUTION = 4741.71043093333
  MAP_SCALE = 0.0125
  MAXIMUM_LATITUDE = 3.74059
  MINIMUM_LATITUDE = -13.0756
  POSITIVE_LONGITUDE_DIRECTION = EAST
  REFERENCE_LATITUDE = "N/A"
  REFERENCE_LONGITUDE = "N/A"
  SAMPLE_FIRST_PIXEL = 1
  SAMPLE_LAST_PIXEL = 9661
  SAMPLE_PROJECTION_OFFSET = 4552.0
  SECOND_STANDARD_PARALLEL = "N/A"
  WESTERNMOST_LONGITUDE = 228.038
END_OBJECT = IMAGE_MAP_PROJECTION
END
