PDS_VERSION_ID = PDS3
/* FILE DATA ELEMENTS */
RECORD_TYPE = UNDEFINED
/* POINTERS TO DATA OBJECTS */
^IMAGE = ("H8380_0000_S14.TIF")
/* IDENTIFICATION DATA ELEMENTS */
DATA_SET_ID = "MEX-M-HRSC-4-REFDR-MAPPROJECT-EXT3-V4.0"
DATA_SET_NAME = "MARS EXPRESS HRSC MAP PROJECTED REFDR EXTENSION3 V4.0"
DETECTOR_ID = MEX_HRSC_S1
EVENT_TYPE = "MARS-REGIONAL-MAPPING-Vo-Im-Fl"
INSTRUMENT_HOST_ID = MEX
INSTRUMENT_HOST_NAME = "MARS EXPRESS"
INSTRUMENT_ID = HRSC
INSTRUMENT_NAME = "HIGH RESOLUTION STEREO CAMERA"
MISSION_NAME = "MARS EXPRESS"
MISSION_PHASE_NAME = ME_Phase_21
PROCESSING_LEVEL_ID = 4
PRODUCT_CREATION_TIME = 2023-02-03T04:36:48.000Z
PRODUCT_ID = "H8380_0000_S14.TIF"
RELEASE_ID = 0004
REVISION_ID = 0000
/* QUALITY DATA ELEMENTS */
DATA_QUALITY_ID = 1
DATA_QUALITY_DESC = "Data calculated based on original SPICE kernels"
/* TIME DATA ELEMENTS */
SPACECRAFT_CLOCK_START_COUNT = "1/0227701648.08248"
SPACECRAFT_CLOCK_STOP_COUNT = "1/0227702025.55958"
START_TIME = 2010-07-20T10:28:42.947Z
STOP_TIME = 2010-07-20T10:33:46.467Z
/* ORBITAL DATA ELEMENTS */
ASCENDING_NODE_LONGITUDE = 57.25
MAXIMUM_RESOLUTION = 0.0347
FOOTPRINT_POINT_LATITUDE = (-11.7428,-11.7536,-11.7648,-11.779, -11.7793,-11.7742,-11.1969,-10.62, -10.0344,-9.44333,-8.99341,-8.69473, -8.39397,-8.08614,-7.7828,-7.47404, -7.162,-6.85525,-6.54027,-6.22708, -5.91026,-5.59019,-5.26968,-4.94614, -4.62178,-4.13231,-3.6396,-3.3074, -2.79748,-2.28847,-1.94981,-1.42738, -0.90328,-0.374763,0.160488,0.520183, 0.883565,1.2487,1.80291,2.17498,2.55159 ,2.93043,3.31191,3.69603,4.08496, 4.67265,4.87102,4.87234,4.89499,4.90466 ,4.91551,4.92462,4.93623,4.93669, 4.93618,4.34328,3.95363,3.56664,3.18194 ,2.80097,2.42352,2.04869,1.67601, 1.30686,0.757835,0.396207,0.0346833, -0.319306,-0.848188,-1.19809,-1.54613, -1.89893,-2.23854,-2.74944,-3.0936, -3.42526,-3.75826,-4.08715,-4.57962, -4.90115,-5.2265,-5.70172,-6.0262, -6.33732,-6.65308,-6.96628,-7.27388, -7.58419,-7.89313,-8.34942,-8.65447, -8.9515,-9.25185,-9.5517,-9.84706, -10.2899,-10.7283,-11.596,-11.7379, -11.7428)
FOOTPRINT_POINT_LONGITUDE = (75.673,75.222,74.7677,74.2233,74.2089, 74.2064,74.1959,74.184,74.1704,74.1575, 74.1472,74.14,74.1314,74.1251,74.1171, 74.1089,74.1017,74.0922,74.0834,74.074, 74.0649,74.0556,74.0466,74.036,74.0261, 74.0089,73.9912,73.9793,73.9616,73.9431 ,73.9288,73.9085,73.888,73.8663,73.8441 ,73.8287,73.8128,73.7965,73.7715, 73.7542,73.7364,73.7183,73.6997,73.6804 ,73.6608,73.6304,73.6199,73.6199, 74.2608,74.569,74.9644,75.3152,75.862, 75.8839,75.8917,75.8798,75.8719,75.8644 ,75.8573,75.8501,75.8434,75.8368, 75.8304,75.8242,75.8154,75.8097,75.8043 ,75.7985,75.7905,75.7852,75.7806, 75.7763,75.771,75.7646,75.7605,75.756, 75.7517,75.7478,75.742,75.7378,75.7343, 75.7283,75.7257,75.7219,75.7188,75.7157 ,75.7123,75.7092,75.7068,75.7022, 75.6996,75.6964,75.6938,75.691,75.6887, 75.6849,75.6811,75.6735,75.6724,75.673)
ORBIT_NUMBER = 8380
ORBITAL_ECCENTRICITY = 0.579
ORBITAL_INCLINATION = 86.84
ORBITAL_SEMIMAJOR_AXIS = 8836.57
PERIAPSIS_ALTITUDE = 324.61
PERIAPSIS_ARGUMENT_ANGLE = 330.0
PERIAPSIS_TIME = 2010-07-20T10:23:25.000Z
SPACECRAFT_ORIENTATION = (0.0,1.0,0.0)
^MEX_ORIENTATION_DESC = "MEX_ORIENTATION_DESC.TXT"
SPACECRAFT_POINTING_MODE = ACROSSTRACK
^MEX_POINTING_DESC = "MEX_POINTING_DESC.TXT"
RIGHT_ASCENSION = -1e+32
DECLINATION = -1e+32
OFFSET_ANGLE = 0.337
SPACECRAFT_SOLAR_DISTANCE = 2.40432e+08
TARGET_NAME = MARS
/* CAMERA DATA ELEMENTS */
DETECTOR_TEMPERATURE = 16.9432
FOCAL_PLANE_TEMPERATURE = 7.3599
INST_CMPRS_NAME = "DISCRETE COSINE TRANSFORMATION (DCT)"
INST_CMPRS_RATIO = 8.70677
INST_CMPRS_QUALITY = 0
INST_CMPRS_QUANTZ_TBL_ID = 0
INSTRUMENT_TEMPERATURE = 11.0301
LENS_TEMPERATURE = 7.9716
MACROPIXEL_SIZE = 2
PIXEL_SUBSAMPLING_FLAG = N
SIGNAL_CHAIN_ID = 1
/* RADIOMETRIC DATA ELEMENTS */
BANDWIDTH = 180.0
CENTER_FILTER_WAVELENGTH = 677.0
RADIANCE_OFFSET = 0.730446
RADIANCE_SCALING_FACTOR = 0.0110674
REFLECTANCE_SCALING_FACTOR = 0.000333787
MEX:REFLECTANCE_OFFSET = 0.0220299
/* IMAGE OBJECT DEFINITIONS */
OBJECT = IMAGE
  INTERCHANGE_FORMAT = BINARY
  LINES = 39568
  LINE_SAMPLES = 4810
  SAMPLE_TYPE = UNSIGNED_INTEGER
  SAMPLE_BITS = 8
  BANDS = 1
  BAND_STORAGE_TYPE = BAND_SEQUENTIAL
  MAXIMUM = 255
  MEAN = 107.265
  MINIMUM = 1
  STANDARD_DEVIATION = 27.8433
END_OBJECT = IMAGE
/* MAP OBJECT DEFINITIONS */
OBJECT = IMAGE_MAP_PROJECTION
  ^DATA_SET_MAP_PROJECTION_CATALOG= "DSMAP.CAT"
  A_AXIS_RADIUS = 3396.0
  B_AXIS_RADIUS = 3396.0
  C_AXIS_RADIUS = 3396.0
  CENTER_LATITUDE = 0.0
  CENTER_LONGITUDE = 75.0
  COORDINATE_SYSTEM_NAME = PLANETOGRAPHIC
  COORDINATE_SYSTEM_TYPE = "BODY-FIXED ROTATING"
  EASTERNMOST_LONGITUDE = 75.8917
  FIRST_STANDARD_PARALLEL = "N/A"
  LINE_FIRST_PIXEL = 1
  LINE_LAST_PIXEL = 39568
  LINE_PROJECTION_OFFSET = 11660.75
  MAP_PROJECTION_ROTATION = 0.0
  MAP_PROJECTION_TYPE = SINUSOIDAL
  MAP_RESOLUTION = 2370.85521546667
  MAP_SCALE = 0.025
  MAXIMUM_LATITUDE = 4.93669
  MINIMUM_LATITUDE = -11.7793
  POSITIVE_LONGITUDE_DIRECTION = EAST
  REFERENCE_LATITUDE = "N/A"
  REFERENCE_LONGITUDE = "N/A"
  SAMPLE_FIRST_PIXEL = 1
  SAMPLE_LAST_PIXEL = 4810
  SAMPLE_PROJECTION_OFFSET = 2979.25
  SECOND_STANDARD_PARALLEL = "N/A"
  WESTERNMOST_LONGITUDE = 73.6199
END_OBJECT = IMAGE_MAP_PROJECTION
END
