PDS_VERSION_ID = PDS3
/* FILE DATA ELEMENTS */
RECORD_TYPE = UNDEFINED
/* POINTERS TO DATA OBJECTS */
^IMAGE = ("H8380_0000_ND4.TIF")
/* IDENTIFICATION DATA ELEMENTS */
DATA_SET_ID = "MEX-M-HRSC-4-REFDR-MAPPROJECT-EXT3-V4.0"
DATA_SET_NAME = "MARS EXPRESS HRSC MAP PROJECTED REFDR EXTENSION3 V4.0"
DETECTOR_ID = MEX_HRSC_NADIR
EVENT_TYPE = "MARS-REGIONAL-MAPPING-Vo-Im-Fl"
INSTRUMENT_HOST_ID = MEX
INSTRUMENT_HOST_NAME = "MARS EXPRESS"
INSTRUMENT_ID = HRSC
INSTRUMENT_NAME = "HIGH RESOLUTION STEREO CAMERA"
MISSION_NAME = "MARS EXPRESS"
MISSION_PHASE_NAME = ME_Phase_21
PROCESSING_LEVEL_ID = 4
PRODUCT_CREATION_TIME = 2023-02-03T04:36:48.000Z
PRODUCT_ID = "H8380_0000_ND4.TIF"
RELEASE_ID = 0004
REVISION_ID = 0000
/* QUALITY DATA ELEMENTS */
DATA_QUALITY_ID = 1
DATA_QUALITY_DESC = "Data calculated based on original SPICE kernels"
/* TIME DATA ELEMENTS */
SPACECRAFT_CLOCK_START_COUNT = "1/0227701648.08248"
SPACECRAFT_CLOCK_STOP_COUNT = "1/0227702025.55958"
START_TIME = 2010-07-20T10:28:05.060Z
STOP_TIME = 2010-07-20T10:32:40.052Z
/* ORBITAL DATA ELEMENTS */
ASCENDING_NODE_LONGITUDE = 57.25
MAXIMUM_RESOLUTION = 0.0155
FOOTPRINT_POINT_LATITUDE = (-11.7637,-11.7665,-11.7687,-11.7704, -11.7704,-11.7703,-11.3276,-11.0329, -10.7386,-10.4446,-9.85777,-9.27251, -8.82371,-8.52441,-8.22546,-7.76946, -7.46383,-7.15873,-6.69265,-6.3809, -6.06966,-5.75173,-5.43382,-5.11643, -4.79225,-4.3065,-3.97853,-3.64837, -3.31887,-2.98251,-2.64671,-2.13635, -1.79459,-1.27473,-0.927384,-0.573726, -0.220455,0.138206,0.497267,0.861626, 1.22635,1.59667,2.15564,2.53177,2.91238 ,3.48824,4.07163,4.66319,4.86235, 4.88727,4.89952,4.90577,4.91384,4.91844 ,4.91871,4.91851,4.51929,4.12607, 3.54129,2.96408,2.5824,2.20569,1.83093, 1.45964,0.908816,0.543437,0.183864, -0.175814,-0.529674,-0.884181,-1.23211, -1.75306,-2.09533,-2.60689,-2.94315, -3.44537,-3.77567,-4.26986,-4.59397, -4.9187,-5.39919,-5.71753,-6.03626, -6.348,-6.66015,-7.12724,-7.43275, -7.73875,-8.19586,-8.49511,-8.94479, -9.24462,-9.83058,-10.418,-10.7123, -11.007,-11.3021,-11.5975,-11.7453, -11.7637)
FOOTPRINT_POINT_LONGITUDE = (75.6348,75.213,74.7744,74.2625,74.2486 ,74.2442,74.2373,74.2326,74.2273, 74.2209,74.2102,74.1991,74.1898,74.1838 ,74.1754,74.1672,74.1598,74.1545,74.142 ,74.134,74.1262,74.1181,74.1105,74.1021 ,74.0931,74.0787,74.0688,74.0583, 74.0481,74.0379,74.0277,74.0122,73.9976 ,73.9817,73.9696,73.9572,73.9445, 73.9316,73.9185,73.9047,73.8908,73.8764 ,73.8543,73.8392,73.8236,73.7994, 73.7745,73.7486,73.7397,73.7385,74.4848 ,74.8859,75.4257,75.7446,75.7646, 75.7743,75.7693,75.7643,75.7571,75.7503 ,75.7459,75.7417,75.7376,75.7336,75.728 ,75.7242,75.7208,75.7171,75.7131, 75.7106,75.7069,75.7038,75.6997,75.6954 ,75.6928,75.6884,75.6855,75.6821, 75.6796,75.6769,75.6733,75.6711,75.6697 ,75.6667,75.6645,75.6615,75.6598, 75.6579,75.655,75.6532,75.6503,75.6486, 75.6452,75.642,75.6403,75.6384,75.6366, 75.635,75.6342,75.6348)
ORBIT_NUMBER = 8380
ORBITAL_ECCENTRICITY = 0.579
ORBITAL_INCLINATION = 86.84
ORBITAL_SEMIMAJOR_AXIS = 8836.57
PERIAPSIS_ALTITUDE = 324.61
PERIAPSIS_ARGUMENT_ANGLE = 330.0
PERIAPSIS_TIME = 2010-07-20T10:23:25.000Z
SPACECRAFT_ORIENTATION = (0.0,1.0,0.0)
^MEX_ORIENTATION_DESC = "MEX_ORIENTATION_DESC.TXT"
SPACECRAFT_POINTING_MODE = ACROSSTRACK
^MEX_POINTING_DESC = "MEX_POINTING_DESC.TXT"
RIGHT_ASCENSION = -1e+32
DECLINATION = -1e+32
OFFSET_ANGLE = 0.337
SPACECRAFT_SOLAR_DISTANCE = 2.40432e+08
TARGET_NAME = MARS
/* CAMERA DATA ELEMENTS */
DETECTOR_TEMPERATURE = 17.7588
FOCAL_PLANE_TEMPERATURE = 7.3599
INST_CMPRS_NAME = "DISCRETE COSINE TRANSFORMATION (DCT)"
INST_CMPRS_RATIO = 7.81149
INST_CMPRS_QUALITY = 0
INST_CMPRS_QUANTZ_TBL_ID = 0
INSTRUMENT_TEMPERATURE = 11.0301
LENS_TEMPERATURE = 7.9716
MACROPIXEL_SIZE = 1
MISSING_FRAMES = 0
PIXEL_SUBSAMPLING_FLAG = N
SIGNAL_CHAIN_ID = 0
/* RADIOMETRIC DATA ELEMENTS */
BANDWIDTH = 177.0
CENTER_FILTER_WAVELENGTH = 677.5
RADIANCE_OFFSET = 0.476937
RADIANCE_SCALING_FACTOR = 0.0094853
REFLECTANCE_SCALING_FACTOR = 0.000291284
MEX:REFLECTANCE_OFFSET = 0.0146462
/* IMAGE OBJECT DEFINITIONS */
OBJECT = IMAGE
  INTERCHANGE_FORMAT = BINARY
  LINES = 79136
  LINE_SAMPLES = 9619
  SAMPLE_TYPE = UNSIGNED_INTEGER
  SAMPLE_BITS = 8
  BANDS = 1
  BAND_STORAGE_TYPE = BAND_SEQUENTIAL
  MAXIMUM = 255
  MEAN = 108.425
  MINIMUM = 1
  STANDARD_DEVIATION = 27.4986
END_OBJECT = IMAGE
/* MAP OBJECT DEFINITIONS */
OBJECT = IMAGE_MAP_PROJECTION
  ^DATA_SET_MAP_PROJECTION_CATALOG= "DSMAP.CAT"
  A_AXIS_RADIUS = 3396.0
  B_AXIS_RADIUS = 3396.0
  C_AXIS_RADIUS = 3396.0
  CENTER_LATITUDE = 0.0
  CENTER_LONGITUDE = 75.0
  COORDINATE_SYSTEM_NAME = PLANETOGRAPHIC
  COORDINATE_SYSTEM_TYPE = "BODY-FIXED ROTATING"
  EASTERNMOST_LONGITUDE = 75.7743
  FIRST_STANDARD_PARALLEL = "N/A"
  LINE_FIRST_PIXEL = 1
  LINE_LAST_PIXEL = 79136
  LINE_PROJECTION_OFFSET = 23322.0
  MAP_PROJECTION_ROTATION = 0.0
  MAP_PROJECTION_TYPE = SINUSOIDAL
  MAP_RESOLUTION = 4741.71043093333
  MAP_SCALE = 0.0125
  MAXIMUM_LATITUDE = 4.91871
  MINIMUM_LATITUDE = -11.7704
  POSITIVE_LONGITUDE_DIRECTION = EAST
  REFERENCE_LATITUDE = "N/A"
  REFERENCE_LONGITUDE = "N/A"
  SAMPLE_FIRST_PIXEL = 1
  SAMPLE_LAST_PIXEL = 9619
  SAMPLE_PROJECTION_OFFSET = 5959.0
  SECOND_STANDARD_PARALLEL = "N/A"
  WESTERNMOST_LONGITUDE = 73.7385
END_OBJECT = IMAGE_MAP_PROJECTION
END
