PDS_VERSION_ID = PDS3
/* FILE DATA ELEMENTS */
RECORD_TYPE = UNDEFINED
/* POINTERS TO DATA OBJECTS */
^IMAGE = ("H8371_0000_IR4.TIF")
/* IDENTIFICATION DATA ELEMENTS */
DATA_SET_ID = "MEX-M-HRSC-4-REFDR-MAPPROJECT-EXT3-V4.0"
DATA_SET_NAME = "MARS EXPRESS HRSC MAP PROJECTED REFDR EXTENSION3 V4.0"
DETECTOR_ID = MEX_HRSC_IR
EVENT_TYPE = "MARS-REGIONAL-MAPPING-Vo"
INSTRUMENT_HOST_ID = MEX
INSTRUMENT_HOST_NAME = "MARS EXPRESS"
INSTRUMENT_ID = HRSC
INSTRUMENT_NAME = "HIGH RESOLUTION STEREO CAMERA"
MISSION_NAME = "MARS EXPRESS"
MISSION_PHASE_NAME = ME_Phase_21
PROCESSING_LEVEL_ID = 4
PRODUCT_CREATION_TIME = 2023-02-03T04:36:48.000Z
PRODUCT_ID = "H8371_0000_IR4.TIF"
RELEASE_ID = 0004
REVISION_ID = 0000
/* QUALITY DATA ELEMENTS */
DATA_QUALITY_ID = 1
DATA_QUALITY_DESC = "Data calculated based on original SPICE kernels"
/* TIME DATA ELEMENTS */
SPACECRAFT_CLOCK_START_COUNT = "1/0227475170.09048"
SPACECRAFT_CLOCK_STOP_COUNT = "1/0227475650.45858"
START_TIME = 2010-07-17T19:34:13.163Z
STOP_TIME = 2010-07-17T19:40:30.979Z
/* ORBITAL DATA ELEMENTS */
ASCENDING_NODE_LONGITUDE = 57.42
MAXIMUM_RESOLUTION = 0.0807
FOOTPRINT_POINT_LATITUDE = (-2.86345,-2.88058,-2.89894,-2.92526, -2.92592,-2.90245,-2.26984,-1.79024, -1.14388,-0.489453,0.175048,0.84847, 1.35961,2.05056,2.57502,3.10542,3.64184 ,4.18438,4.73369,5.1026,5.47639,5.8526, 6.23176,6.6138,6.99914,7.38838,7.78058, 8.17592,8.57492,8.97677,9.38247,9.79135 ,10.2043,10.6208,11.041,11.4651,11.8931 ,12.3246,12.7604,13.2005,13.6445, 14.0928,14.545,15.002,15.4624,15.9283, 16.1628,16.2056,16.2294,16.2492,16.2668 ,16.2801,16.2939,16.3098,16.3103, 16.3089,15.839,15.3742,14.9132,14.4573, 14.0055,13.5577,13.1144,12.6747,12.2392 ,11.8077,11.3804,10.9565,10.5367, 10.1208,9.7087,9.29997,8.8946,8.49303, 8.09485,7.70026,7.30847,6.92012,6.53479 ,6.15221,5.77375,5.39836,5.02584,4.6558 ,4.29031,3.74611,3.20821,2.6766,2.15066 ,1.80197,1.45688,0.774604,0.26903, -0.397131,-1.05228,-1.69815,-2.17919, -2.6538,-2.81249,-2.86345)
FOOTPRINT_POINT_LONGITUDE = (275.928,275.424,274.913,274.233, 274.217,274.227,274.205,274.188,274.164 ,274.14,274.114,274.087,274.066,274.037 ,274.014,273.99,273.965,273.939,273.913 ,273.895,273.876,273.857,273.838, 273.818,273.798,273.776,273.755,273.733 ,273.71,273.687,273.663,273.638,273.613 ,273.587,273.561,273.533,273.505, 273.476,273.447,273.416,273.385,273.353 ,273.32,273.286,273.251,273.214,273.196 ,273.193,273.693,274.163,274.631,275.04 ,275.534,276.288,276.317,276.327,276.31 ,276.294,276.279,276.264,276.25,276.236 ,276.223,276.21,276.198,276.186,276.175 ,276.164,276.154,276.143,276.134, 276.124,276.115,276.106,276.098,276.089 ,276.081,276.073,276.066,276.059, 276.052,276.045,276.038,276.032,276.025 ,276.016,276.008,275.999,275.991, 275.986,275.981,275.972,275.965,275.956 ,275.948,275.939,275.934,275.928, 275.926,275.928)
ORBIT_NUMBER = 8371
ORBITAL_ECCENTRICITY = 0.58
ORBITAL_INCLINATION = 86.82
ORBITAL_SEMIMAJOR_AXIS = 8841.55
PERIAPSIS_ALTITUDE = 325.57
PERIAPSIS_ARGUMENT_ANGLE = 331.57
PERIAPSIS_TIME = 2010-07-17T19:26:57.000Z
SPACECRAFT_ORIENTATION = (0.0,1.0,0.0)
^MEX_ORIENTATION_DESC = "MEX_ORIENTATION_DESC.TXT"
SPACECRAFT_POINTING_MODE = ACROSSTRACK
^MEX_POINTING_DESC = "MEX_POINTING_DESC.TXT"
RIGHT_ASCENSION = -1e+32
DECLINATION = -1e+32
OFFSET_ANGLE = 0.63
SPACECRAFT_SOLAR_DISTANCE = 2.4082e+08
TARGET_NAME = MARS
/* CAMERA DATA ELEMENTS */
DETECTOR_TEMPERATURE = 17.5549
FOCAL_PLANE_TEMPERATURE = 8.5833
INST_CMPRS_NAME = "DISCRETE COSINE TRANSFORMATION (DCT)"
INST_CMPRS_RATIO = 18.1667
INST_CMPRS_QUALITY = 0
INST_CMPRS_QUANTZ_TBL_ID = 0
INSTRUMENT_TEMPERATURE = 11.234
LENS_TEMPERATURE = 8.7872
MACROPIXEL_SIZE = 4
MISSING_FRAMES = 0
PIXEL_SUBSAMPLING_FLAG = N
SIGNAL_CHAIN_ID = 2
/* RADIOMETRIC DATA ELEMENTS */
BANDWIDTH = 81.0
CENTER_FILTER_WAVELENGTH = 955.5
RADIANCE_OFFSET = 0.66439
RADIANCE_SCALING_FACTOR = 0.00386326
REFLECTANCE_SCALING_FACTOR = 0.00048335
MEX:REFLECTANCE_OFFSET = 0.083125
/* IMAGE OBJECT DEFINITIONS */
OBJECT = IMAGE
  INTERCHANGE_FORMAT = BINARY
  LINES = 22750
  LINE_SAMPLES = 3166
  SAMPLE_TYPE = UNSIGNED_INTEGER
  SAMPLE_BITS = 8
  BANDS = 1
  BAND_STORAGE_TYPE = BAND_SEQUENTIAL
  MAXIMUM = 255
  MEAN = 117.927
  MINIMUM = 1
  STANDARD_DEVIATION = 39.0053
END_OBJECT = IMAGE
/* MAP OBJECT DEFINITIONS */
OBJECT = IMAGE_MAP_PROJECTION
  ^DATA_SET_MAP_PROJECTION_CATALOG= "DSMAP.CAT"
  A_AXIS_RADIUS = 3396.0
  B_AXIS_RADIUS = 3396.0
  C_AXIS_RADIUS = 3396.0
  CENTER_LATITUDE = 0.0
  CENTER_LONGITUDE = 275.0
  COORDINATE_SYSTEM_NAME = PLANETOGRAPHIC
  COORDINATE_SYSTEM_TYPE = "BODY-FIXED ROTATING"
  EASTERNMOST_LONGITUDE = 276.327
  FIRST_STANDARD_PARALLEL = "N/A"
  LINE_FIRST_PIXEL = 1
  LINE_LAST_PIXEL = 22750
  LINE_PROJECTION_OFFSET = 19293.625
  MAP_PROJECTION_ROTATION = 0.0
  MAP_PROJECTION_TYPE = SINUSOIDAL
  MAP_RESOLUTION = 1185.42760773333
  MAP_SCALE = 0.05
  MAXIMUM_LATITUDE = 16.3103
  MINIMUM_LATITUDE = -2.92592
  POSITIVE_LONGITUDE_DIRECTION = EAST
  REFERENCE_LATITUDE = "N/A"
  REFERENCE_LONGITUDE = "N/A"
  SAMPLE_FIRST_PIXEL = 1
  SAMPLE_LAST_PIXEL = 3166
  SAMPLE_PROJECTION_OFFSET = 1853.125
  SECOND_STANDARD_PARALLEL = "N/A"
  WESTERNMOST_LONGITUDE = 273.193
END_OBJECT = IMAGE_MAP_PROJECTION
END
