PDS_VERSION_ID = PDS3
/* FILE DATA ELEMENTS */
RECORD_TYPE = UNDEFINED
/* POINTERS TO DATA OBJECTS */
^IMAGE = ("H8364_0000_RE4.TIF")
/* IDENTIFICATION DATA ELEMENTS */
DATA_SET_ID = "MEX-M-HRSC-4-REFDR-MAPPROJECT-EXT3-V4.0"
DATA_SET_NAME = "MARS EXPRESS HRSC MAP PROJECTED REFDR EXTENSION3 V4.0"
DETECTOR_ID = MEX_HRSC_RED
EVENT_TYPE = "MARS-REGIONAL-MAPPING-Vo"
INSTRUMENT_HOST_ID = MEX
INSTRUMENT_HOST_NAME = "MARS EXPRESS"
INSTRUMENT_ID = HRSC
INSTRUMENT_NAME = "HIGH RESOLUTION STEREO CAMERA"
MISSION_NAME = "MARS EXPRESS"
MISSION_PHASE_NAME = ME_Phase_21
PROCESSING_LEVEL_ID = 4
PRODUCT_CREATION_TIME = 2023-02-03T04:36:48.000Z
PRODUCT_ID = "H8364_0000_RE4.TIF"
RELEASE_ID = 0004
REVISION_ID = 0000
/* QUALITY DATA ELEMENTS */
DATA_QUALITY_ID = 1
DATA_QUALITY_DESC = "Data calculated based on original SPICE kernels"
/* TIME DATA ELEMENTS */
SPACECRAFT_CLOCK_START_COUNT = "1/0227298918.09130"
SPACECRAFT_CLOCK_STOP_COUNT = "1/0227299186.40018"
START_TIME = 2010-07-15T18:35:27.623Z
STOP_TIME = 2010-07-15T18:37:57.636Z
/* ORBITAL DATA ELEMENTS */
ASCENDING_NODE_LONGITUDE = 57.56
MAXIMUM_RESOLUTION = 0.1416
FOOTPRINT_POINT_LATITUDE = (-2.72256,-2.73108,-2.73926,-2.74709, -2.75448,-2.76149,-2.77181,-2.7722, -2.79602,-2.45101,-2.01646,-1.66978, -1.31771,-1.05273,-0.699931,-0.250376, -0.0696237,0.110705,0.290775,0.566167, 0.750447,0.934304,1.11831,1.39718, 1.58517,1.77296,2.05442,2.24394,2.43596 ,2.72328,3.01037,3.20541,3.40092,3.5961 ,3.79132,3.98925,4.18797,4.38695, 4.58582,4.78704,4.98981,5.19229,5.39444 ,5.70302,5.90897,6.11466,6.42708, 6.63594,6.74052,6.81315,6.81979,6.82887 ,6.83826,6.84982,6.85946,6.87364, 6.87426,6.87192,6.45308,6.24337,6.03752 ,5.83153,5.62543,5.31927,5.11709, 4.91456,4.61232,4.41347,4.2141,4.01496, 3.81725,3.62199,3.42673,3.23102,3.03637 ,2.84494,2.55694,2.36495,2.07934, 1.89138,1.70317,1.51501,1.32697,1.14302 ,0.958602,0.682002,0.497602,0.224828, 0.0441872,-0.136456,-0.317184,-0.587625 ,-0.941095,-1.29489,-1.64738,-1.9936, -2.3407,-2.60075,-2.68642,-2.72256)
FOOTPRINT_POINT_LONGITUDE = (272.925,272.696,272.47,272.244,272.02, 271.797,271.449,271.436,271.432,271.422 ,271.411,271.401,271.391,271.384, 271.374,271.361,271.355,271.35,271.345, 271.336,271.331,271.325,271.319,271.311 ,271.305,271.299,271.29,271.284,271.278 ,271.268,271.259,271.252,271.246, 271.239,271.232,271.225,271.219,271.212 ,271.205,271.198,271.19,271.183,271.176 ,271.164,271.157,271.149,271.138,271.13 ,271.126,271.123,271.346,271.642, 271.939,272.29,272.573,272.964,272.982, 272.994,272.989,272.986,272.984,272.982 ,272.979,272.976,272.974,272.972, 272.969,272.967,272.964,272.962,272.96, 272.958,272.957,272.955,272.953,272.951 ,272.948,272.947,272.944,272.942, 272.941,272.939,272.938,272.937,272.935 ,272.933,272.932,272.93,272.929,272.928 ,272.926,272.925,272.922,272.92,272.918 ,272.916,272.914,272.912,272.912, 272.925)
ORBIT_NUMBER = 8364
ORBITAL_ECCENTRICITY = 0.58
ORBITAL_INCLINATION = 86.82
ORBITAL_SEMIMAJOR_AXIS = 8844.24
PERIAPSIS_ALTITUDE = 325.89
PERIAPSIS_ARGUMENT_ANGLE = 332.78
PERIAPSIS_TIME = 2010-07-15T18:29:41.000Z
SPACECRAFT_ORIENTATION = (0.0,1.0,0.0)
^MEX_ORIENTATION_DESC = "MEX_ORIENTATION_DESC.TXT"
SPACECRAFT_POINTING_MODE = ACROSSTRACK
^MEX_POINTING_DESC = "MEX_POINTING_DESC.TXT"
RIGHT_ASCENSION = -1e+32
DECLINATION = -1e+32
OFFSET_ANGLE = -0.5
SPACECRAFT_SOLAR_DISTANCE = 2.41116e+08
TARGET_NAME = MARS
/* CAMERA DATA ELEMENTS */
DETECTOR_TEMPERATURE = 18.3705
FOCAL_PLANE_TEMPERATURE = 7.5638
INST_CMPRS_NAME = "DISCRETE COSINE TRANSFORMATION (DCT)"
INST_CMPRS_RATIO = 23.1432
INST_CMPRS_QUALITY = 0
INST_CMPRS_QUANTZ_TBL_ID = 0
INSTRUMENT_TEMPERATURE = 10.8262
LENS_TEMPERATURE = 7.9716
MACROPIXEL_SIZE = 8
MISSING_FRAMES = 0
PIXEL_SUBSAMPLING_FLAG = N
SIGNAL_CHAIN_ID = 2
/* RADIOMETRIC DATA ELEMENTS */
BANDWIDTH = 48.0
CENTER_FILTER_WAVELENGTH = 748.0
RADIANCE_OFFSET = 0.626116
RADIANCE_SCALING_FACTOR = 0.00274003
REFLECTANCE_SCALING_FACTOR = 0.000363525
MEX:REFLECTANCE_OFFSET = 0.0830677
/* IMAGE OBJECT DEFINITIONS */
OBJECT = IMAGE
  INTERCHANGE_FORMAT = BINARY
  LINES = 5709
  LINE_SAMPLES = 1182
  SAMPLE_TYPE = UNSIGNED_INTEGER
  SAMPLE_BITS = 8
  BANDS = 1
  BAND_STORAGE_TYPE = BAND_SEQUENTIAL
  MAXIMUM = 255
  MEAN = 113.086
  MINIMUM = 1
  STANDARD_DEVIATION = 35.5285
END_OBJECT = IMAGE
/* MAP OBJECT DEFINITIONS */
OBJECT = IMAGE_MAP_PROJECTION
  ^DATA_SET_MAP_PROJECTION_CATALOG= "DSMAP.CAT"
  A_AXIS_RADIUS = 3396.0
  B_AXIS_RADIUS = 3396.0
  C_AXIS_RADIUS = 3396.0
  CENTER_LATITUDE = 0.0
  CENTER_LONGITUDE = 272.0
  COORDINATE_SYSTEM_NAME = PLANETOGRAPHIC
  COORDINATE_SYSTEM_TYPE = "BODY-FIXED ROTATING"
  EASTERNMOST_LONGITUDE = 272.994
  FIRST_STANDARD_PARALLEL = "N/A"
  LINE_FIRST_PIXEL = 1
  LINE_LAST_PIXEL = 5709
  LINE_PROJECTION_OFFSET = 4070.8125
  MAP_PROJECTION_ROTATION = 0.0
  MAP_PROJECTION_TYPE = SINUSOIDAL
  MAP_RESOLUTION = 592.713803866667
  MAP_SCALE = 0.1
  MAXIMUM_LATITUDE = 6.87426
  MINIMUM_LATITUDE = -2.79602
  POSITIVE_LONGITUDE_DIRECTION = EAST
  REFERENCE_LATITUDE = "N/A"
  REFERENCE_LONGITUDE = "N/A"
  SAMPLE_FIRST_PIXEL = 1
  SAMPLE_LAST_PIXEL = 1182
  SAMPLE_PROJECTION_OFFSET = 562.0625
  SECOND_STANDARD_PARALLEL = "N/A"
  WESTERNMOST_LONGITUDE = 271.123
END_OBJECT = IMAGE_MAP_PROJECTION
END
