PDS_VERSION_ID = PDS3
/* FILE DATA ELEMENTS */
RECORD_TYPE = UNDEFINED
/* POINTERS TO DATA OBJECTS */
^IMAGE = ("H8363_0000_S24.TIF")
/* IDENTIFICATION DATA ELEMENTS */
DATA_SET_ID = "MEX-M-HRSC-4-REFDR-MAPPROJECT-EXT3-V4.0"
DATA_SET_NAME = "MARS EXPRESS HRSC MAP PROJECTED REFDR EXTENSION3 V4.0"
DETECTOR_ID = MEX_HRSC_S2
EVENT_TYPE = "MARS-REGIONAL-MAPPING-Im-Fl"
INSTRUMENT_HOST_ID = MEX
INSTRUMENT_HOST_NAME = "MARS EXPRESS"
INSTRUMENT_ID = HRSC
INSTRUMENT_NAME = "HIGH RESOLUTION STEREO CAMERA"
MISSION_NAME = "MARS EXPRESS"
MISSION_PHASE_NAME = ME_Phase_21
PROCESSING_LEVEL_ID = 4
PRODUCT_CREATION_TIME = 2023-02-03T04:36:48.000Z
PRODUCT_ID = "H8363_0000_S24.TIF"
RELEASE_ID = 0004
REVISION_ID = 0000
/* QUALITY DATA ELEMENTS */
DATA_QUALITY_ID = 1
DATA_QUALITY_DESC = "Data calculated based on original SPICE kernels"
/* TIME DATA ELEMENTS */
SPACECRAFT_CLOCK_START_COUNT = "1/0227273682.09066"
SPACECRAFT_CLOCK_STOP_COUNT = "1/0227273957.13693"
START_TIME = 2010-07-15T11:34:44.672Z
STOP_TIME = 2010-07-15T11:37:29.167Z
/* ORBITAL DATA ELEMENTS */
ASCENDING_NODE_LONGITUDE = 57.58
MAXIMUM_RESOLUTION = 0.0337
FOOTPRINT_POINT_LATITUDE = (-6.18964,-6.19452,-6.19686,-6.1982, -6.19914,-6.19976,-6.19978,-6.19325, -5.60183,-5.20822,-4.81611,-4.42535, -4.12516,-3.92262,-3.72061,-3.41916, -3.01316,-2.80614,-2.59952,-2.39272, -2.08305,-1.87308,-1.66111,-1.4497, -1.24196,-1.03521,-0.819848,-0.600434, -0.384423,-0.166508,0.161198,0.492519, 0.713793,0.934434,1.15734,1.38283, 1.60778,1.94558,2.17666,2.5215,2.75146, 2.9839,3.21864,3.45434,3.68813,3.92597, 4.16474,4.40389,4.52343,4.55015,4.55276 ,4.55556,4.55781,4.56175,4.56835, 4.57151,4.5718,4.57112,4.33155,3.97221, 3.73375,3.49851,3.26281,3.0287,2.79224, 2.56127,2.33131,2.10062,1.87276,1.64795 ,1.42293,1.19608,0.859776,0.639467, 0.421753,0.202539,-0.125977,-0.342546, -0.556744,-0.772639,-0.987668,-1.19935, -1.41046,-1.62138,-1.83331,-2.0438, -2.2504,-2.56032,-2.76701,-2.97387, -3.38134,-3.684,-3.88648,-4.38976, -4.78295,-5.1768,-5.67605,-6.06919, -6.16752,-6.18964)
FOOTPRINT_POINT_LONGITUDE = (14.6992,14.2803,14.01,13.794,13.5778, 13.3207,13.3071,13.3009,13.2883,13.2797 ,13.2713,13.263,13.256,13.2509,13.246, 13.2388,13.2288,13.2234,13.2181,13.2126 ,13.2044,13.1988,13.1929,13.1871, 13.1823,13.1778,13.1715,13.1643,13.1581 ,13.1512,13.1412,13.1313,13.1244, 13.1176,13.1109,13.1039,13.0969,13.0862 ,13.0784,13.0672,13.0595,13.0518, 13.0439,13.0356,13.0277,13.0196,13.0114 ,13.0029,12.9986,12.9976,13.219,13.5776 ,13.8332,14.1573,14.5328,14.7376, 14.7546,14.7607,14.7586,14.7554,14.7537 ,14.7516,14.7495,14.7479,14.7453, 14.7433,14.7417,14.7399,14.7384,14.737, 14.7356,14.7338,14.7312,14.73,14.7295, 14.7287,14.7264,14.725,14.7243,14.7233, 14.7222,14.7209,14.7199,14.719,14.7178, 14.7169,14.7159,14.7145,14.7135,14.7126 ,14.7108,14.7095,14.7085,14.7066, 14.7053,14.7039,14.7004,14.6995,14.6993 ,14.6992)
ORBIT_NUMBER = 8363
ORBITAL_ECCENTRICITY = 0.579
ORBITAL_INCLINATION = 86.83
ORBITAL_SEMIMAJOR_AXIS = 8839.19
PERIAPSIS_ALTITUDE = 326.41
PERIAPSIS_ARGUMENT_ANGLE = 332.95
PERIAPSIS_TIME = 2010-07-15T11:29:59.000Z
SPACECRAFT_ORIENTATION = (0.0,1.0,0.0)
^MEX_ORIENTATION_DESC = "MEX_ORIENTATION_DESC.TXT"
SPACECRAFT_POINTING_MODE = NADIR
^MEX_POINTING_DESC = "MEX_POINTING_DESC.TXT"
RIGHT_ASCENSION = -1e+32
DECLINATION = -1e+32
OFFSET_ANGLE = -1e+32
SPACECRAFT_SOLAR_DISTANCE = 2.41158e+08
TARGET_NAME = MARS
/* CAMERA DATA ELEMENTS */
DETECTOR_TEMPERATURE = 18.3705
FOCAL_PLANE_TEMPERATURE = 7.7677
INST_CMPRS_NAME = "DISCRETE COSINE TRANSFORMATION (DCT)"
INST_CMPRS_RATIO = 7.52344
INST_CMPRS_QUALITY = 0
INST_CMPRS_QUANTZ_TBL_ID = 0
INSTRUMENT_TEMPERATURE = 11.0301
LENS_TEMPERATURE = 8.1755
MACROPIXEL_SIZE = 2
MISSING_FRAMES = 0
PIXEL_SUBSAMPLING_FLAG = N
SIGNAL_CHAIN_ID = 1
/* RADIOMETRIC DATA ELEMENTS */
BANDWIDTH = 178.0
CENTER_FILTER_WAVELENGTH = 679.0
RADIANCE_OFFSET = 1.23156
RADIANCE_SCALING_FACTOR = 0.017977
REFLECTANCE_SCALING_FACTOR = 0.000553672
MEX:REFLECTANCE_OFFSET = 0.0379307
/* IMAGE OBJECT DEFINITIONS */
OBJECT = IMAGE
  INTERCHANGE_FORMAT = BINARY
  LINES = 25543
  LINE_SAMPLES = 4450
  SAMPLE_TYPE = UNSIGNED_INTEGER
  SAMPLE_BITS = 8
  BANDS = 1
  BAND_STORAGE_TYPE = BAND_SEQUENTIAL
  MAXIMUM = 255
  MEAN = 102.098
  MINIMUM = 1
  STANDARD_DEVIATION = 27.3097
END_OBJECT = IMAGE
/* MAP OBJECT DEFINITIONS */
OBJECT = IMAGE_MAP_PROJECTION
  ^DATA_SET_MAP_PROJECTION_CATALOG= "DSMAP.CAT"
  A_AXIS_RADIUS = 3396.0
  B_AXIS_RADIUS = 3396.0
  C_AXIS_RADIUS = 3396.0
  CENTER_LATITUDE = 0.0
  CENTER_LONGITUDE = 14.0
  COORDINATE_SYSTEM_NAME = PLANETOGRAPHIC
  COORDINATE_SYSTEM_TYPE = "BODY-FIXED ROTATING"
  EASTERNMOST_LONGITUDE = 14.7607
  FIRST_STANDARD_PARALLEL = "N/A"
  LINE_FIRST_PIXEL = 1
  LINE_LAST_PIXEL = 25543
  LINE_PROJECTION_OFFSET = 10878.25
  MAP_PROJECTION_ROTATION = 0.0
  MAP_PROJECTION_TYPE = SINUSOIDAL
  MAP_RESOLUTION = 2370.85521546667
  MAP_SCALE = 0.025
  MAXIMUM_LATITUDE = 4.5718
  MINIMUM_LATITUDE = -6.19978
  POSITIVE_LONGITUDE_DIRECTION = EAST
  REFERENCE_LATITUDE = "N/A"
  REFERENCE_LONGITUDE = "N/A"
  SAMPLE_FIRST_PIXEL = 1
  SAMPLE_LAST_PIXEL = 4450
  SAMPLE_PROJECTION_OFFSET = 2510.25
  SECOND_STANDARD_PARALLEL = "N/A"
  WESTERNMOST_LONGITUDE = 12.9976
END_OBJECT = IMAGE_MAP_PROJECTION
END
