PDS_VERSION_ID = PDS3
/* FILE DATA ELEMENTS */
RECORD_TYPE = UNDEFINED
/* POINTERS TO DATA OBJECTS */
^IMAGE = ("H8363_0000_ND4.TIF")
/* IDENTIFICATION DATA ELEMENTS */
DATA_SET_ID = "MEX-M-HRSC-4-REFDR-MAPPROJECT-EXT3-V4.0"
DATA_SET_NAME = "MARS EXPRESS HRSC MAP PROJECTED REFDR EXTENSION3 V4.0"
DETECTOR_ID = MEX_HRSC_NADIR
EVENT_TYPE = "MARS-REGIONAL-MAPPING-Im-Fl"
INSTRUMENT_HOST_ID = MEX
INSTRUMENT_HOST_NAME = "MARS EXPRESS"
INSTRUMENT_ID = HRSC
INSTRUMENT_NAME = "HIGH RESOLUTION STEREO CAMERA"
MISSION_NAME = "MARS EXPRESS"
MISSION_PHASE_NAME = ME_Phase_21
PROCESSING_LEVEL_ID = 4
PRODUCT_CREATION_TIME = 2023-02-03T04:36:48.000Z
PRODUCT_ID = "H8363_0000_ND4.TIF"
RELEASE_ID = 0004
REVISION_ID = 0000
/* QUALITY DATA ELEMENTS */
DATA_QUALITY_ID = 1
DATA_QUALITY_DESC = "Data calculated based on original SPICE kernels"
/* TIME DATA ELEMENTS */
SPACECRAFT_CLOCK_START_COUNT = "1/0227273682.09066"
SPACECRAFT_CLOCK_STOP_COUNT = "1/0227273957.13693"
START_TIME = 2010-07-15T11:35:21.563Z
STOP_TIME = 2010-07-15T11:38:18.576Z
/* ORBITAL DATA ELEMENTS */
ASCENDING_NODE_LONGITUDE = 57.58
MAXIMUM_RESOLUTION = 0.0166
FOOTPRINT_POINT_LATITUDE = (-6.172,-6.17662,-6.17858,-6.18094, -6.1847,-6.18481,-6.18455,-5.60588, -5.0138,-4.61994,-4.01754,-3.6156, -3.41217,-3.20673,-3.0015,-2.79649, -2.59172,-2.38251,-2.17322,-1.96417, -1.75536,-1.43735,-1.22423,-1.01138, -0.79875,-0.581688,-0.256268,-0.0396772 ,0.179513,0.40043,0.621061,0.841386, 1.17809,1.40252,1.62663,1.85503,2.08334 ,2.31132,2.65831,2.89025,3.2398,3.47565 ,3.7111,3.94878,4.18826,4.42734,4.54762 ,4.5636,4.56709,4.57153,4.57434,4.58001 ,4.5838,4.58843,4.58865,4.58844,4.22837 ,3.98862,3.75035,3.51463,3.27851, 3.04423,2.81217,2.57978,2.34833,2.12009 ,1.89153,1.66264,1.43823,1.10108, 0.876134,0.655562,0.434766,0.213635, -0.00610845,-0.222938,-0.440024, -0.65739,-0.979093,-1.1922,-1.40556, -1.72424,-1.93326,-2.14253,-2.35204, -2.56178,-2.76676,-2.97198,-3.17742, -3.38308,-3.58705,-3.9894,-4.1909, -4.59273,-4.98701,-5.38204,-5.67654, -6.06269,-6.15933,-6.172)
FOOTPRINT_POINT_LONGITUDE = (14.7275,14.2546,14.0397,13.7677, 13.2946,13.2802,13.2717,13.258,13.2437, 13.2345,13.2195,13.2088,13.2033,13.1979 ,13.1923,13.1861,13.1804,13.1743, 13.1682,13.1623,13.1559,13.1474,13.1415 ,13.1357,13.1286,13.121,13.1101,13.1029 ,13.0957,13.0886,13.0809,13.0734, 13.0622,13.0545,13.0468,13.0388,13.0306 ,13.0223,13.01,13.0015,12.9885,12.9794, 12.9708,12.9619,12.9525,12.9432,12.9382 ,12.9376,13.1788,13.4943,13.6982, 14.1245,14.4213,14.7924,14.8109,14.82, 14.8156,14.8127,14.8097,14.807,14.8041, 14.8016,14.7983,14.7954,14.793,14.7905, 14.7882,14.786,14.7839,14.7803,14.778, 14.7757,14.7749,14.7734,14.7714,14.7693 ,14.7676,14.7659,14.7633,14.7615, 14.7598,14.7574,14.7559,14.7544,14.7528 ,14.7513,14.7499,14.7484,14.747,14.7455 ,14.744,14.7413,14.74,14.7378,14.7355, 14.7332,14.7295,14.7277,14.7274, 14.7275)
ORBIT_NUMBER = 8363
ORBITAL_ECCENTRICITY = 0.579
ORBITAL_INCLINATION = 86.83
ORBITAL_SEMIMAJOR_AXIS = 8839.19
PERIAPSIS_ALTITUDE = 326.41
PERIAPSIS_ARGUMENT_ANGLE = 332.95
PERIAPSIS_TIME = 2010-07-15T11:29:59.000Z
SPACECRAFT_ORIENTATION = (0.0,1.0,0.0)
^MEX_ORIENTATION_DESC = "MEX_ORIENTATION_DESC.TXT"
SPACECRAFT_POINTING_MODE = NADIR
^MEX_POINTING_DESC = "MEX_POINTING_DESC.TXT"
RIGHT_ASCENSION = -1e+32
DECLINATION = -1e+32
OFFSET_ANGLE = -1e+32
SPACECRAFT_SOLAR_DISTANCE = 2.41158e+08
TARGET_NAME = MARS
/* CAMERA DATA ELEMENTS */
DETECTOR_TEMPERATURE = 18.1666
FOCAL_PLANE_TEMPERATURE = 7.7677
INST_CMPRS_NAME = "DISCRETE COSINE TRANSFORMATION (DCT)"
INST_CMPRS_RATIO = 5.80221
INST_CMPRS_QUALITY = 0
INST_CMPRS_QUANTZ_TBL_ID = 0
INSTRUMENT_TEMPERATURE = 11.0301
LENS_TEMPERATURE = 8.1755
MACROPIXEL_SIZE = 1
MISSING_FRAMES = 0
PIXEL_SUBSAMPLING_FLAG = N
SIGNAL_CHAIN_ID = 0
/* RADIOMETRIC DATA ELEMENTS */
BANDWIDTH = 177.0
CENTER_FILTER_WAVELENGTH = 677.5
RADIANCE_OFFSET = 0.953873
RADIANCE_SCALING_FACTOR = 0.0169667
REFLECTANCE_SCALING_FACTOR = 0.000524186
MEX:REFLECTANCE_OFFSET = 0.02947
/* IMAGE OBJECT DEFINITIONS */
OBJECT = IMAGE
  INTERCHANGE_FORMAT = BINARY
  LINES = 51085
  LINE_SAMPLES = 8899
  SAMPLE_TYPE = UNSIGNED_INTEGER
  SAMPLE_BITS = 8
  BANDS = 1
  BAND_STORAGE_TYPE = BAND_SEQUENTIAL
  MAXIMUM = 255
  MEAN = 98.237
  MINIMUM = 1
  STANDARD_DEVIATION = 26.2427
END_OBJECT = IMAGE
/* MAP OBJECT DEFINITIONS */
OBJECT = IMAGE_MAP_PROJECTION
  ^DATA_SET_MAP_PROJECTION_CATALOG= "DSMAP.CAT"
  A_AXIS_RADIUS = 3396.0
  B_AXIS_RADIUS = 3396.0
  C_AXIS_RADIUS = 3396.0
  CENTER_LATITUDE = 0.0
  CENTER_LONGITUDE = 14.0
  COORDINATE_SYSTEM_NAME = PLANETOGRAPHIC
  COORDINATE_SYSTEM_TYPE = "BODY-FIXED ROTATING"
  EASTERNMOST_LONGITUDE = 14.82
  FIRST_STANDARD_PARALLEL = "N/A"
  LINE_FIRST_PIXEL = 1
  LINE_LAST_PIXEL = 51085
  LINE_PROJECTION_OFFSET = 21757.0
  MAP_PROJECTION_ROTATION = 0.0
  MAP_PROJECTION_TYPE = SINUSOIDAL
  MAP_RESOLUTION = 4741.71043093333
  MAP_SCALE = 0.0125
  MAXIMUM_LATITUDE = 4.58865
  MINIMUM_LATITUDE = -6.18481
  POSITIVE_LONGITUDE_DIRECTION = EAST
  REFERENCE_LATITUDE = "N/A"
  REFERENCE_LONGITUDE = "N/A"
  SAMPLE_FIRST_PIXEL = 1
  SAMPLE_LAST_PIXEL = 8899
  SAMPLE_PROJECTION_OFFSET = 5021.0
  SECOND_STANDARD_PARALLEL = "N/A"
  WESTERNMOST_LONGITUDE = 12.9376
END_OBJECT = IMAGE_MAP_PROJECTION
END
