PDS_VERSION_ID = PDS3
/* FILE DATA ELEMENTS */
RECORD_TYPE = UNDEFINED
/* POINTERS TO DATA OBJECTS */
^IMAGE = ("H8355_0000_S24.TIF")
/* IDENTIFICATION DATA ELEMENTS */
DATA_SET_ID = "MEX-M-HRSC-4-REFDR-MAPPROJECT-EXT3-V4.0"
DATA_SET_NAME = "MARS EXPRESS HRSC MAP PROJECTED REFDR EXTENSION3 V4.0"
DETECTOR_ID = MEX_HRSC_S2
EVENT_TYPE = "MARS-REGIONAL-MAPPING-Vo-Te-Fl"
INSTRUMENT_HOST_ID = MEX
INSTRUMENT_HOST_NAME = "MARS EXPRESS"
INSTRUMENT_ID = HRSC
INSTRUMENT_NAME = "HIGH RESOLUTION STEREO CAMERA"
MISSION_NAME = "MARS EXPRESS"
MISSION_PHASE_NAME = ME_Phase_21
PROCESSING_LEVEL_ID = 4
PRODUCT_CREATION_TIME = 2023-02-03T04:36:48.000Z
PRODUCT_ID = "H8355_0000_S24.TIF"
RELEASE_ID = 0004
REVISION_ID = 0000
/* QUALITY DATA ELEMENTS */
DATA_QUALITY_ID = 1
DATA_QUALITY_DESC = "Data calculated based on original SPICE kernels"
/* TIME DATA ELEMENTS */
SPACECRAFT_CLOCK_START_COUNT = "1/0227072201.07287"
SPACECRAFT_CLOCK_STOP_COUNT = "1/0227072507.22719"
START_TIME = 2010-07-13T03:36:43.647Z
STOP_TIME = 2010-07-13T03:40:06.632Z
/* ORBITAL DATA ELEMENTS */
ASCENDING_NODE_LONGITUDE = 57.73
MAXIMUM_RESOLUTION = 0.031
FOOTPRINT_POINT_LATITUDE = (-9.42778,-9.44451,-9.45759,-9.4578, -9.4607,-9.13434,-8.80897,-8.31673, -8.0534,-7.79298,-7.53259,-7.14294, -6.88286,-6.62369,-6.36426,-5.97538, -5.71564,-5.45727,-5.19766,-4.93842, -4.5501,-4.29134,-3.90322,-3.64422, -3.38635,-3.12651,-2.86662,-2.59957, -2.33705,-1.93852,-1.53557,-1.26371, -0.992939,-0.727796,-0.449341,-0.177605 ,0.238313,0.516955,0.800079,1.22606, 1.51285,1.80296,2.09345,2.38186,2.67342 ,2.97017,3.41546,3.71803,3.86761, 3.89558,3.90668,3.91423,3.92424,3.9322, 3.93269,3.93226,3.63171,3.3322,3.03623, 2.73952,2.44532,2.15713,1.72449,1.43556 ,1.14901,0.864919,0.440148,0.162334, -0.112079,-0.53037,-0.933673,-1.2023, -1.47465,-1.87759,-2.14173,-2.40706, -2.804,-3.06606,-3.3245,-3.58192, -3.84273,-4.23269,-4.49269,-4.87501, -5.13461,-5.39446,-5.6587,-6.0509, -6.30405,-6.56251,-6.95501,-7.22044, -7.48033,-7.86893,-8.25875,-8.51865, -8.86894,-9.30694,-9.41621,-9.42778)
FOOTPRINT_POINT_LONGITUDE = (113.174,112.541,111.889,111.877, 111.874,111.868,111.863,111.855,111.85, 111.845,111.84,111.833,111.828,111.823, 111.818,111.81,111.805,111.799,111.794, 111.788,111.779,111.774,111.765,111.758 ,111.752,111.746,111.74,111.733,111.727 ,111.716,111.706,111.698,111.691, 111.685,111.677,111.67,111.659,111.651, 111.643,111.63,111.621,111.612,111.603, 111.595,111.586,111.576,111.562,111.552 ,111.547,111.547,112.031,112.469, 112.893,113.203,113.219,113.225,113.224 ,113.221,113.219,113.217,113.215, 113.213,113.211,113.209,113.206,113.204 ,113.202,113.2,113.2,113.197,113.196, 113.196,113.194,113.192,113.192,113.19, 113.189,113.187,113.187,113.186,113.184 ,113.182,113.181,113.183,113.182, 113.181,113.178,113.176,113.178,113.178 ,113.176,113.174,113.173,113.173, 113.173,113.173,113.172,113.17,113.17, 113.174)
ORBIT_NUMBER = 8355
ORBITAL_ECCENTRICITY = 0.58
ORBITAL_INCLINATION = 86.83
ORBITAL_SEMIMAJOR_AXIS = 8843.63
PERIAPSIS_ALTITUDE = 326.18
PERIAPSIS_ARGUMENT_ANGLE = 334.33
PERIAPSIS_TIME = 2010-07-13T03:33:08.000Z
SPACECRAFT_ORIENTATION = (0.0,1.0,0.0)
^MEX_ORIENTATION_DESC = "MEX_ORIENTATION_DESC.TXT"
SPACECRAFT_POINTING_MODE = ACROSSTRACK
^MEX_POINTING_DESC = "MEX_POINTING_DESC.TXT"
RIGHT_ASCENSION = -1e+32
DECLINATION = -1e+32
OFFSET_ANGLE = -0.269
SPACECRAFT_SOLAR_DISTANCE = 2.41491e+08
TARGET_NAME = MARS
/* CAMERA DATA ELEMENTS */
DETECTOR_TEMPERATURE = 18.1666
FOCAL_PLANE_TEMPERATURE = 7.5638
INST_CMPRS_NAME = "DISCRETE COSINE TRANSFORMATION (DCT)"
INST_CMPRS_RATIO = 10.7042
INST_CMPRS_QUALITY = 0
INST_CMPRS_QUANTZ_TBL_ID = 0
INSTRUMENT_TEMPERATURE = 11.0301
LENS_TEMPERATURE = 7.9716
MACROPIXEL_SIZE = 2
MISSING_FRAMES = 0
PIXEL_SUBSAMPLING_FLAG = N
SIGNAL_CHAIN_ID = 1
/* RADIOMETRIC DATA ELEMENTS */
BANDWIDTH = 178.0
CENTER_FILTER_WAVELENGTH = 679.0
RADIANCE_OFFSET = 0.81363
RADIANCE_SCALING_FACTOR = 0.0146772
REFLECTANCE_SCALING_FACTOR = 0.000453289
MEX:REFLECTANCE_OFFSET = 0.025128
/* IMAGE OBJECT DEFINITIONS */
OBJECT = IMAGE
  INTERCHANGE_FORMAT = BINARY
  LINES = 31708
  LINE_SAMPLES = 4220
  SAMPLE_TYPE = UNSIGNED_INTEGER
  SAMPLE_BITS = 8
  BANDS = 1
  BAND_STORAGE_TYPE = BAND_SEQUENTIAL
  MAXIMUM = 255
  MEAN = 90.8023
  MINIMUM = 1
  STANDARD_DEVIATION = 35.8667
END_OBJECT = IMAGE
/* MAP OBJECT DEFINITIONS */
OBJECT = IMAGE_MAP_PROJECTION
  ^DATA_SET_MAP_PROJECTION_CATALOG= "DSMAP.CAT"
  A_AXIS_RADIUS = 3396.0
  B_AXIS_RADIUS = 3396.0
  C_AXIS_RADIUS = 3396.0
  CENTER_LATITUDE = 0.0
  CENTER_LONGITUDE = 112.0
  COORDINATE_SYSTEM_NAME = PLANETOGRAPHIC
  COORDINATE_SYSTEM_TYPE = "BODY-FIXED ROTATING"
  EASTERNMOST_LONGITUDE = 113.225
  FIRST_STANDARD_PARALLEL = "N/A"
  LINE_FIRST_PIXEL = 1
  LINE_LAST_PIXEL = 31708
  LINE_PROJECTION_OFFSET = 9329.25
  MAP_PROJECTION_ROTATION = 0.0
  MAP_PROJECTION_TYPE = SINUSOIDAL
  MAP_RESOLUTION = 2370.85521546667
  MAP_SCALE = 0.025
  MAXIMUM_LATITUDE = 3.93269
  MINIMUM_LATITUDE = -9.460699999999999
  POSITIVE_LONGITUDE_DIRECTION = EAST
  REFERENCE_LATITUDE = "N/A"
  REFERENCE_LONGITUDE = "N/A"
  SAMPLE_FIRST_PIXEL = 1
  SAMPLE_LAST_PIXEL = 4220
  SAMPLE_PROJECTION_OFFSET = 1201.25
  SECOND_STANDARD_PARALLEL = "N/A"
  WESTERNMOST_LONGITUDE = 111.547
END_OBJECT = IMAGE_MAP_PROJECTION
END
