PDS_VERSION_ID = PDS3
/* FILE DATA ELEMENTS */
RECORD_TYPE = UNDEFINED
/* POINTERS TO DATA OBJECTS */
^IMAGE = ("H8329_0000_IR4.TIF")
/* IDENTIFICATION DATA ELEMENTS */
DATA_SET_ID = "MEX-M-HRSC-4-REFDR-MAPPROJECT-EXT3-V4.0"
DATA_SET_NAME = "MARS EXPRESS HRSC MAP PROJECTED REFDR EXTENSION3 V4.0"
DETECTOR_ID = MEX_HRSC_IR
EVENT_TYPE = "MARS-REGIONAL-MAPPING-Vo-Te-Gl"
INSTRUMENT_HOST_ID = MEX
INSTRUMENT_HOST_NAME = "MARS EXPRESS"
INSTRUMENT_ID = HRSC
INSTRUMENT_NAME = "HIGH RESOLUTION STEREO CAMERA"
MISSION_NAME = "MARS EXPRESS"
MISSION_PHASE_NAME = ME_Phase_21
PROCESSING_LEVEL_ID = 4
PRODUCT_CREATION_TIME = 2023-02-03T04:36:48.000Z
PRODUCT_ID = "H8329_0000_IR4.TIF"
RELEASE_ID = 0004
REVISION_ID = 0000
/* QUALITY DATA ELEMENTS */
DATA_QUALITY_ID = 1
DATA_QUALITY_DESC = "Data calculated based on original SPICE kernels"
/* TIME DATA ELEMENTS */
SPACECRAFT_CLOCK_START_COUNT = "1/0226417836.08246"
SPACECRAFT_CLOCK_STOP_COUNT = "1/0226418161.32725"
START_TIME = 2010-07-05T13:52:24.111Z
STOP_TIME = 2010-07-05T13:55:43.133Z
/* ORBITAL DATA ELEMENTS */
ASCENDING_NODE_LONGITUDE = 58.24
MAXIMUM_RESOLUTION = 0.1035
FOOTPRINT_POINT_LATITUDE = (12.7523,12.7514,12.7497,12.7464, 12.7416,12.7365,12.7287,12.7282,12.7413 ,13.0891,13.4391,13.8798,14.3253, 14.6846,15.1382,15.4134,15.7817,15.9666 ,16.2462,16.4328,16.6323,16.9148, 17.1052,17.295,17.487,17.6787,17.8722, 18.0653,18.2602,18.4553,18.6523,18.8493 ,19.0481,19.3464,19.5468,19.7482, 19.9497,20.153,20.4586,20.6633,20.8693, 21.1793,21.4915,21.7005,21.9104,22.2272 ,22.3333,22.3942,22.4033,22.4112, 22.4172,22.4196,22.4211,22.421,22.419, 22.417,22.4149,22.4146,22.4129,22.201, 21.9897,21.7791,21.5701,21.2578,21.0505 ,20.8446,20.537,20.3326,20.1299,19.9275 ,19.7262,19.4258,19.2261,19.0279, 18.8302,18.6337,18.4372,18.2423,17.9513 ,17.6618,17.4701,17.2787,17.0887, 16.8986,16.7104,16.5104,16.3239,16.0437 ,15.7664,15.5813,15.3065,14.9419,14.67, 14.2206,13.9537,13.5999,13.2478,12.899, 12.8119,12.7523)
FOOTPRINT_POINT_LONGITUDE = (252.575,252.222,251.911,251.517, 251.123,250.792,250.376,250.355,250.354 ,250.337,250.319,250.297,250.273, 250.254,250.23,250.215,250.194,250.184, 250.168,250.158,250.146,250.13,250.119, 250.107,250.096,250.085,250.073,250.061 ,250.049,250.037,250.025,250.013,250.0, 249.982,249.969,249.956,249.943,249.93, 249.909,249.896,249.882,249.86,249.839, 249.824,249.809,249.786,249.779,249.774 ,250.153,250.534,250.944,251.207, 251.441,251.91,252.291,252.643,252.879, 252.908,252.918,252.908,252.897,252.888 ,252.878,252.864,252.854,252.845, 252.832,252.823,252.815,252.806,252.798 ,252.786,252.778,252.77,252.762,252.755 ,252.747,252.74,252.729,252.719,252.712 ,252.705,252.699,252.692,252.686, 252.679,252.673,252.664,252.656,252.65, 252.641,252.631,252.623,252.61,252.603, 252.593,252.584,252.575,252.573, 252.575)
ORBIT_NUMBER = 8329
ORBITAL_ECCENTRICITY = 0.58
ORBITAL_INCLINATION = 86.81
ORBITAL_SEMIMAJOR_AXIS = 8856.3
PERIAPSIS_ALTITUDE = 327.52
PERIAPSIS_ARGUMENT_ANGLE = 338.8
PERIAPSIS_TIME = 2010-07-05T13:42:32.000Z
SPACECRAFT_ORIENTATION = (0.0,1.0,0.0)
^MEX_ORIENTATION_DESC = "MEX_ORIENTATION_DESC.TXT"
SPACECRAFT_POINTING_MODE = NADIR
^MEX_POINTING_DESC = "MEX_POINTING_DESC.TXT"
RIGHT_ASCENSION = -1e+32
DECLINATION = -1e+32
OFFSET_ANGLE = -1e+32
SPACECRAFT_SOLAR_DISTANCE = 2.42532e+08
TARGET_NAME = MARS
/* CAMERA DATA ELEMENTS */
DETECTOR_TEMPERATURE = 17.1471
FOCAL_PLANE_TEMPERATURE = 7.7677
INST_CMPRS_NAME = "DISCRETE COSINE TRANSFORMATION (DCT)"
INST_CMPRS_RATIO = 14.7829
INST_CMPRS_QUALITY = 0
INST_CMPRS_QUANTZ_TBL_ID = 0
INSTRUMENT_TEMPERATURE = 10.8262
LENS_TEMPERATURE = 8.1755
MACROPIXEL_SIZE = 4
MISSING_FRAMES = 1
PIXEL_SUBSAMPLING_FLAG = N
SIGNAL_CHAIN_ID = 2
/* RADIOMETRIC DATA ELEMENTS */
BANDWIDTH = 81.0
CENTER_FILTER_WAVELENGTH = 955.5
RADIANCE_OFFSET = 0.46737
RADIANCE_SCALING_FACTOR = 0.00309064
REFLECTANCE_SCALING_FACTOR = 0.000392207
MEX:REFLECTANCE_OFFSET = 0.0593099
/* IMAGE OBJECT DEFINITIONS */
OBJECT = IMAGE
  INTERCHANGE_FORMAT = BINARY
  LINES = 5733
  LINE_SAMPLES = 1535
  SAMPLE_TYPE = UNSIGNED_INTEGER
  SAMPLE_BITS = 8
  BANDS = 1
  BAND_STORAGE_TYPE = BAND_SEQUENTIAL
  MAXIMUM = 255
  MEAN = 136.769
  MINIMUM = 4
  STANDARD_DEVIATION = 26.5107
END_OBJECT = IMAGE
/* MAP OBJECT DEFINITIONS */
OBJECT = IMAGE_MAP_PROJECTION
  ^DATA_SET_MAP_PROJECTION_CATALOG= "DSMAP.CAT"
  A_AXIS_RADIUS = 3396.0
  B_AXIS_RADIUS = 3396.0
  C_AXIS_RADIUS = 3396.0
  CENTER_LATITUDE = 0.0
  CENTER_LONGITUDE = 251.0
  COORDINATE_SYSTEM_NAME = PLANETOGRAPHIC
  COORDINATE_SYSTEM_TYPE = "BODY-FIXED ROTATING"
  EASTERNMOST_LONGITUDE = 252.918
  FIRST_STANDARD_PARALLEL = "N/A"
  LINE_FIRST_PIXEL = 1
  LINE_LAST_PIXEL = 5733
  LINE_PROJECTION_OFFSET = 13280.375
  MAP_PROJECTION_ROTATION = 0.0
  MAP_PROJECTION_TYPE = SINUSOIDAL
  MAP_RESOLUTION = 592.713803866667
  MAP_SCALE = 0.1
  MAXIMUM_LATITUDE = 22.4211
  MINIMUM_LATITUDE = 12.7282
  POSITIVE_LONGITUDE_DIRECTION = EAST
  REFERENCE_LATITUDE = "N/A"
  REFERENCE_LONGITUDE = "N/A"
  SAMPLE_FIRST_PIXEL = 1
  SAMPLE_LAST_PIXEL = 1535
  SAMPLE_PROJECTION_OFFSET = 578.375
  SECOND_STANDARD_PARALLEL = "N/A"
  WESTERNMOST_LONGITUDE = 249.774
END_OBJECT = IMAGE_MAP_PROJECTION
END
