PDS_VERSION_ID = PDS3
/* FILE DATA ELEMENTS */
RECORD_TYPE = UNDEFINED
/* POINTERS TO DATA OBJECTS */
^IMAGE = ("H8329_0000_GR4.TIF")
/* IDENTIFICATION DATA ELEMENTS */
DATA_SET_ID = "MEX-M-HRSC-4-REFDR-MAPPROJECT-EXT3-V4.0"
DATA_SET_NAME = "MARS EXPRESS HRSC MAP PROJECTED REFDR EXTENSION3 V4.0"
DETECTOR_ID = MEX_HRSC_GREEN
EVENT_TYPE = "MARS-REGIONAL-MAPPING-Vo-Te-Gl"
INSTRUMENT_HOST_ID = MEX
INSTRUMENT_HOST_NAME = "MARS EXPRESS"
INSTRUMENT_ID = HRSC
INSTRUMENT_NAME = "HIGH RESOLUTION STEREO CAMERA"
MISSION_NAME = "MARS EXPRESS"
MISSION_PHASE_NAME = ME_Phase_21
PROCESSING_LEVEL_ID = 4
PRODUCT_CREATION_TIME = 2023-02-03T04:36:48.000Z
PRODUCT_ID = "H8329_0000_GR4.TIF"
RELEASE_ID = 0004
REVISION_ID = 0000
/* QUALITY DATA ELEMENTS */
DATA_QUALITY_ID = 1
DATA_QUALITY_DESC = "Data calculated based on original SPICE kernels"
/* TIME DATA ELEMENTS */
SPACECRAFT_CLOCK_START_COUNT = "1/0226417836.08246"
SPACECRAFT_CLOCK_STOP_COUNT = "1/0226418161.32725"
START_TIME = 2010-07-05T13:51:41.728Z
STOP_TIME = 2010-07-05T13:54:39.660Z
/* ORBITAL DATA ELEMENTS */
ASCENDING_NODE_LONGITUDE = 58.24
MAXIMUM_RESOLUTION = 0.0927
FOOTPRINT_POINT_LATITUDE = (12.7661,12.7641,12.7622,12.759,12.756, 12.7515,12.7484,12.7447,12.7444,12.7479 ,13.095,13.4449,13.71,14.2442,14.7848, 15.1481,15.3315,15.5155,15.7924,15.9787 ,16.1646,16.3519,16.5402,16.8236, 17.0141,17.2043,17.3968,17.6855,17.8802 ,18.172,18.4673,18.7634,18.9623,19.161, 19.3621,19.5628,19.7656,19.9684,20.275, 20.4798,20.6869,20.998,21.2069,21.5225, 21.7332,21.9462,22.2664,22.3738,22.3771 ,22.3841,22.3903,22.3931,22.3952, 22.3973,22.3991,22.4003,22.4011,22.4012 ,22.4012,22.3995,22.1846,21.9719, 21.7589,21.5483,21.2326,21.0237,20.7126 ,20.5055,20.3007,19.994,19.7912,19.5885 ,19.3878,19.1867,18.9881,18.7892,18.493 ,18.1976,17.9058,17.7109,17.4222, 17.2296,17.0394,16.8488,16.5653,16.3769 ,16.1895,16.0035,15.8171,15.5401,15.356 ,15.1725,14.809,14.268,13.7335,13.4681, 13.118,12.8569,12.7706,12.7661)
FOOTPRINT_POINT_LONGITUDE = (252.499,252.19,251.939,251.592,251.303 ,250.936,250.705,250.453,250.434, 250.433,250.418,250.402,250.39,250.366, 250.34,250.323,250.314,250.305,250.292, 250.282,250.273,250.264,250.254,250.24, 250.23,250.221,250.211,250.196,250.185, 250.17,250.154,250.138,250.127,250.117, 250.106,250.095,250.084,250.072,250.055 ,250.043,250.031,250.013,250.001, 249.982,249.969,249.956,249.937,249.93, 249.93,250.326,250.75,250.988,251.199, 251.437,251.702,252.02,252.259,252.737, 252.764,252.773,252.764,252.756,252.748 ,252.74,252.729,252.721,252.71,252.703, 252.696,252.686,252.679,252.672,252.666 ,252.66,252.653,252.647,252.638,252.629 ,252.621,252.615,252.607,252.601, 252.596,252.591,252.583,252.578,252.574 ,252.569,252.564,252.557,252.553, 252.548,252.54,252.527,252.515,252.51, 252.502,252.497,252.495,252.499)
ORBIT_NUMBER = 8329
ORBITAL_ECCENTRICITY = 0.58
ORBITAL_INCLINATION = 86.81
ORBITAL_SEMIMAJOR_AXIS = 8856.3
PERIAPSIS_ALTITUDE = 327.52
PERIAPSIS_ARGUMENT_ANGLE = 338.8
PERIAPSIS_TIME = 2010-07-05T13:42:32.000Z
SPACECRAFT_ORIENTATION = (0.0,1.0,0.0)
^MEX_ORIENTATION_DESC = "MEX_ORIENTATION_DESC.TXT"
SPACECRAFT_POINTING_MODE = NADIR
^MEX_POINTING_DESC = "MEX_POINTING_DESC.TXT"
RIGHT_ASCENSION = -1e+32
DECLINATION = -1e+32
OFFSET_ANGLE = -1e+32
SPACECRAFT_SOLAR_DISTANCE = 2.42532e+08
TARGET_NAME = MARS
/* CAMERA DATA ELEMENTS */
DETECTOR_TEMPERATURE = 18.1666
FOCAL_PLANE_TEMPERATURE = 7.7677
INST_CMPRS_NAME = "DISCRETE COSINE TRANSFORMATION (DCT)"
INST_CMPRS_RATIO = 16.5351
INST_CMPRS_QUALITY = 0
INST_CMPRS_QUANTZ_TBL_ID = 0
INSTRUMENT_TEMPERATURE = 10.8262
LENS_TEMPERATURE = 8.1755
MACROPIXEL_SIZE = 4
MISSING_FRAMES = 0
PIXEL_SUBSAMPLING_FLAG = N
SIGNAL_CHAIN_ID = 2
/* RADIOMETRIC DATA ELEMENTS */
BANDWIDTH = 88.0
CENTER_FILTER_WAVELENGTH = 538.0
RADIANCE_OFFSET = 0.763427
RADIANCE_SCALING_FACTOR = 0.00349983
REFLECTANCE_SCALING_FACTOR = 0.000177245
MEX:REFLECTANCE_OFFSET = 0.038663
/* IMAGE OBJECT DEFINITIONS */
OBJECT = IMAGE
  INTERCHANGE_FORMAT = BINARY
  LINES = 5733
  LINE_SAMPLES = 1535
  SAMPLE_TYPE = UNSIGNED_INTEGER
  SAMPLE_BITS = 8
  BANDS = 1
  BAND_STORAGE_TYPE = BAND_SEQUENTIAL
  MAXIMUM = 255
  MEAN = 170.259
  MINIMUM = 1
  STANDARD_DEVIATION = 37.911
END_OBJECT = IMAGE
/* MAP OBJECT DEFINITIONS */
OBJECT = IMAGE_MAP_PROJECTION
  ^DATA_SET_MAP_PROJECTION_CATALOG= "DSMAP.CAT"
  A_AXIS_RADIUS = 3396.0
  B_AXIS_RADIUS = 3396.0
  C_AXIS_RADIUS = 3396.0
  CENTER_LATITUDE = 0.0
  CENTER_LONGITUDE = 251.0
  COORDINATE_SYSTEM_NAME = PLANETOGRAPHIC
  COORDINATE_SYSTEM_TYPE = "BODY-FIXED ROTATING"
  EASTERNMOST_LONGITUDE = 252.773
  FIRST_STANDARD_PARALLEL = "N/A"
  LINE_FIRST_PIXEL = 1
  LINE_LAST_PIXEL = 5733
  LINE_PROJECTION_OFFSET = 13280.375
  MAP_PROJECTION_ROTATION = 0.0
  MAP_PROJECTION_TYPE = SINUSOIDAL
  MAP_RESOLUTION = 592.713803866667
  MAP_SCALE = 0.1
  MAXIMUM_LATITUDE = 22.4012
  MINIMUM_LATITUDE = 12.7444
  POSITIVE_LONGITUDE_DIRECTION = EAST
  REFERENCE_LATITUDE = "N/A"
  REFERENCE_LONGITUDE = "N/A"
  SAMPLE_FIRST_PIXEL = 1
  SAMPLE_LAST_PIXEL = 1535
  SAMPLE_PROJECTION_OFFSET = 578.375
  SECOND_STANDARD_PARALLEL = "N/A"
  WESTERNMOST_LONGITUDE = 249.93
END_OBJECT = IMAGE_MAP_PROJECTION
END
