PDS_VERSION_ID = PDS3
/* FILE DATA ELEMENTS */
RECORD_TYPE = UNDEFINED
/* POINTERS TO DATA OBJECTS */
^IMAGE = ("H8324_0009_P14.TIF")
/* IDENTIFICATION DATA ELEMENTS */
DATA_SET_ID = "MEX-M-HRSC-4-REFDR-MAPPROJECT-EXT3-V4.0"
DATA_SET_NAME = "MARS EXPRESS HRSC MAP PROJECTED REFDR EXTENSION3 V4.0"
DETECTOR_ID = MEX_HRSC_P1
EVENT_TYPE = "MARS-REGIONAL-MAPPING-Im-Fl"
INSTRUMENT_HOST_ID = MEX
INSTRUMENT_HOST_NAME = "MARS EXPRESS"
INSTRUMENT_ID = HRSC
INSTRUMENT_NAME = "HIGH RESOLUTION STEREO CAMERA"
MISSION_NAME = "MARS EXPRESS"
MISSION_PHASE_NAME = ME_Phase_21
PROCESSING_LEVEL_ID = 4
PRODUCT_CREATION_TIME = 2023-02-03T04:36:48.000Z
PRODUCT_ID = "H8324_0009_P14.TIF"
RELEASE_ID = 0004
REVISION_ID = 0000
/* QUALITY DATA ELEMENTS */
DATA_QUALITY_ID = 1
DATA_QUALITY_DESC = "Data calculated based on original SPICE kernels"
/* TIME DATA ELEMENTS */
SPACECRAFT_CLOCK_START_COUNT = "1/0226291710.09084"
SPACECRAFT_CLOCK_STOP_COUNT = "1/0226292102.30489"
START_TIME = 2010-07-04T02:49:34.129Z
STOP_TIME = 2010-07-04T02:54:36.381Z
/* ORBITAL DATA ELEMENTS */
ASCENDING_NODE_LONGITUDE = 58.33
MAXIMUM_RESOLUTION = 0.0683
FOOTPRINT_POINT_LATITUDE = (-1.0708,-1.08457,-1.09913,-1.11969, -1.1202,-1.11464,-0.679817,0.0463648, 0.490284,1.08499,1.39266,1.69593, 1.99697,2.30446,2.61202,2.91825,3.2309, 3.69973,4.17623,4.49389,4.81652,5.13986 ,5.46567,5.79529,6.12412,6.45403, 6.78574,7.12555,7.45807,7.80224,8.31891 ,8.84085,9.19334,9.72414,10.2615, 10.6223,10.9871,11.3537,11.7248,12.0974 ,12.6627,13.0433,13.4281,13.8147, 14.2058,14.5995,14.9977,15.6005,15.8036 ,15.8674,15.891,15.9052,15.9239,15.938, 15.9384,15.9372,15.3308,14.9304,14.5334 ,14.1396,13.7493,13.362,12.9785,12.5968 ,12.2215,11.847,11.476,11.109,10.5614, 10.1988,9.84306,9.48542,9.13374,8.60787 ,8.2598,7.91764,7.57454,7.238,6.90043, 6.40146,6.0683,5.74171,5.25037,4.92685, 4.60323,4.28555,3.9591,3.64237,3.17792, 2.8667,2.55905,2.09783,1.64439,1.34148, 0.890868,0.146206,-0.438519,-0.878107, -1.02124,-1.0708)
FOOTPRINT_POINT_LONGITUDE = (43.1132,42.6823,42.2452,41.6616, 41.6475,41.6482,41.6377,41.6162,41.6033 ,41.5879,41.5833,41.5751,41.5655, 41.5564,41.5468,41.5365,41.5261,41.5109 ,41.4953,41.4845,41.4742,41.4631, 41.4529,41.4419,41.4309,41.4155,41.402, 41.3911,41.3736,41.3621,41.3424,41.3211 ,41.3064,41.2831,41.2596,41.2424, 41.2255,41.2086,41.1908,41.1722,41.1443 ,41.1258,41.1064,41.0855,41.0656,41.045 ,41.024,40.9908,40.9793,40.9756,41.6034 ,42.0267,42.7122,43.3265,43.3484, 43.3556,43.3406,43.3312,43.322,43.3132, 43.3049,43.2968,43.2888,43.2814,43.2738 ,43.2667,43.2597,43.253,43.2435,43.2374 ,43.2313,43.2258,43.2202,43.2125, 43.2075,43.2025,43.1978,43.1931,43.1886 ,43.1822,43.1783,43.1742,43.1686, 43.1651,43.1616,43.1582,43.1556,43.1525 ,43.1474,43.1445,43.1416,43.1374, 43.1335,43.1309,43.1273,43.1216,43.1174 ,43.1144,43.1134,43.1132)
ORBIT_NUMBER = 8324
ORBITAL_ECCENTRICITY = 0.579
ORBITAL_INCLINATION = 86.82
ORBITAL_SEMIMAJOR_AXIS = 8850.89
PERIAPSIS_ALTITUDE = 328.19
PERIAPSIS_ARGUMENT_ANGLE = 339.7
PERIAPSIS_TIME = 2010-07-04T02:44:12.000Z
SPACECRAFT_ORIENTATION = (0.0,1.0,0.0)
^MEX_ORIENTATION_DESC = "MEX_ORIENTATION_DESC.TXT"
SPACECRAFT_POINTING_MODE = ACROSSTRACK
^MEX_POINTING_DESC = "MEX_POINTING_DESC.TXT"
RIGHT_ASCENSION = -1e+32
DECLINATION = -1e+32
OFFSET_ANGLE = 0.686
SPACECRAFT_SOLAR_DISTANCE = 2.42725e+08
TARGET_NAME = MARS
/* CAMERA DATA ELEMENTS */
DETECTOR_TEMPERATURE = 17.5549
FOCAL_PLANE_TEMPERATURE = 7.9716
INST_CMPRS_NAME = "DISCRETE COSINE TRANSFORMATION (DCT)"
INST_CMPRS_RATIO = 13.0219
INST_CMPRS_QUALITY = 0
INST_CMPRS_QUANTZ_TBL_ID = 0
INSTRUMENT_TEMPERATURE = 11.0301
LENS_TEMPERATURE = 8.3794
MACROPIXEL_SIZE = 4
MISSING_FRAMES = 0
PIXEL_SUBSAMPLING_FLAG = N
SIGNAL_CHAIN_ID = 3
/* RADIOMETRIC DATA ELEMENTS */
BANDWIDTH = 174.0
CENTER_FILTER_WAVELENGTH = 675.0
RADIANCE_OFFSET = 1.00505
RADIANCE_SCALING_FACTOR = 0.0136259
REFLECTANCE_SCALING_FACTOR = 0.000431794
MEX:REFLECTANCE_OFFSET = 0.0318493
/* IMAGE OBJECT DEFINITIONS */
OBJECT = IMAGE
  INTERCHANGE_FORMAT = BINARY
  LINES = 20168
  LINE_SAMPLES = 2540
  SAMPLE_TYPE = UNSIGNED_INTEGER
  SAMPLE_BITS = 8
  BANDS = 1
  BAND_STORAGE_TYPE = BAND_SEQUENTIAL
  MAXIMUM = 255
  MEAN = 116.163
  MINIMUM = 1
  STANDARD_DEVIATION = 32.6777
END_OBJECT = IMAGE
/* MAP OBJECT DEFINITIONS */
OBJECT = IMAGE_MAP_PROJECTION
  ^DATA_SET_MAP_PROJECTION_CATALOG= "DSMAP.CAT"
  A_AXIS_RADIUS = 3396.0
  B_AXIS_RADIUS = 3396.0
  C_AXIS_RADIUS = 3396.0
  CENTER_LATITUDE = 0.0
  CENTER_LONGITUDE = 42.0
  COORDINATE_SYSTEM_NAME = PLANETOGRAPHIC
  COORDINATE_SYSTEM_TYPE = "BODY-FIXED ROTATING"
  EASTERNMOST_LONGITUDE = 43.3556
  FIRST_STANDARD_PARALLEL = "N/A"
  LINE_FIRST_PIXEL = 1
  LINE_LAST_PIXEL = 20168
  LINE_PROJECTION_OFFSET = 18858.375
  MAP_PROJECTION_ROTATION = 0.0
  MAP_PROJECTION_TYPE = SINUSOIDAL
  MAP_RESOLUTION = 1185.42760773333
  MAP_SCALE = 0.05
  MAXIMUM_LATITUDE = 15.9384
  MINIMUM_LATITUDE = -1.1202
  POSITIVE_LONGITUDE_DIRECTION = EAST
  REFERENCE_LATITUDE = "N/A"
  REFERENCE_LONGITUDE = "N/A"
  SAMPLE_FIRST_PIXEL = 1
  SAMPLE_LAST_PIXEL = 2540
  SAMPLE_PROJECTION_OFFSET = 1082.625
  SECOND_STANDARD_PARALLEL = "N/A"
  WESTERNMOST_LONGITUDE = 40.9756
END_OBJECT = IMAGE_MAP_PROJECTION
END
