PDS_VERSION_ID = PDS3
/* FILE DATA ELEMENTS */
RECORD_TYPE = UNDEFINED
/* POINTERS TO DATA OBJECTS */
^IMAGE = ("H8321_0000_GR4.TIF")
/* IDENTIFICATION DATA ELEMENTS */
DATA_SET_ID = "MEX-M-HRSC-4-REFDR-MAPPROJECT-EXT3-V4.0"
DATA_SET_NAME = "MARS EXPRESS HRSC MAP PROJECTED REFDR EXTENSION3 V4.0"
DETECTOR_ID = MEX_HRSC_GREEN
EVENT_TYPE = "MARS-REGIONAL-MAPPING-Im"
INSTRUMENT_HOST_ID = MEX
INSTRUMENT_HOST_NAME = "MARS EXPRESS"
INSTRUMENT_ID = HRSC
INSTRUMENT_NAME = "HIGH RESOLUTION STEREO CAMERA"
MISSION_NAME = "MARS EXPRESS"
MISSION_PHASE_NAME = ME_Phase_21
PROCESSING_LEVEL_ID = 4
PRODUCT_CREATION_TIME = 2023-02-03T04:36:48.000Z
PRODUCT_ID = "H8321_0000_GR4.TIF"
RELEASE_ID = 0004
REVISION_ID = 0000
/* QUALITY DATA ELEMENTS */
DATA_QUALITY_ID = 1
DATA_QUALITY_DESC = "Data calculated based on original SPICE kernels"
/* TIME DATA ELEMENTS */
SPACECRAFT_CLOCK_START_COUNT = "1/0226216267.08400"
SPACECRAFT_CLOCK_STOP_COUNT = "1/0226216504.12256"
START_TIME = 2010-07-03T05:51:59.520Z
STOP_TIME = 2010-07-03T05:54:10.511Z
/* ORBITAL DATA ELEMENTS */
ASCENDING_NODE_LONGITUDE = 58.4
MAXIMUM_RESOLUTION = 0.0762
FOOTPRINT_POINT_LATITUDE = (6.10778,6.10365,6.10042,6.09816,6.095, 6.09166,6.08741,6.08718,6.08553,6.36458 ,6.64303,6.92699,7.35233,7.63905, 7.92782,8.21601,8.43583,8.58256,8.80155 ,8.94823,9.09654,9.31998,9.54418, 9.69325,9.92014,10.0714,10.2226,10.3736 ,10.6035,10.7572,10.9107,11.0641, 11.2197,11.3757,11.5317,11.6874,11.9235 ,12.0817,12.2397,12.3975,12.558,12.7984 ,12.9584,13.12,13.2828,13.4453,13.6075, 13.6896,13.7322,13.737,13.7429,13.7477, 13.7498,13.7513,13.7526,13.7547,13.7573 ,13.7574,13.7562,13.5922,13.3483, 13.1857,13.0245,12.8653,12.7047,12.5439 ,12.3841,12.2259,11.9886,11.7514,11.596 ,11.361,11.2045,11.0497,10.8971,10.6663 ,10.5114,10.359,10.209,9.98158,9.83016, 9.60469,9.45502,9.30609,9.1578,9.00898, 8.86221,8.64216,8.49542,8.3486,8.13064, 7.84211,7.40986,7.12636,6.84235,6.63, 6.42066,6.21129,6.14148,6.10778)
FOOTPRINT_POINT_LONGITUDE = (350.431,350.048,349.77,349.585,349.338 ,349.089,348.793,348.777,348.766, 348.757,348.748,348.738,348.723,348.713 ,348.703,348.692,348.685,348.679, 348.669,348.664,348.658,348.649,348.643 ,348.638,348.629,348.623,348.617, 348.611,348.602,348.596,348.59,348.584, 348.577,348.571,348.565,348.558,348.548 ,348.541,348.535,348.528,348.521, 348.511,348.503,348.496,348.489,348.482 ,348.474,348.471,348.469,348.741, 349.112,349.422,349.674,349.829,350.003 ,350.236,350.526,350.545,350.552, 350.548,350.544,350.541,350.536,350.531 ,350.529,350.526,350.523,350.52,350.516 ,350.512,350.509,350.507,350.505, 350.502,350.498,350.495,350.494,350.491 ,350.487,350.484,350.482,350.479, 350.478,350.476,350.473,350.47,350.468, 350.465,350.463,350.461,350.459,350.455 ,350.45,350.446,350.442,350.44,350.438, 350.436,350.435,350.431)
ORBIT_NUMBER = 8321
ORBITAL_ECCENTRICITY = 0.579
ORBITAL_INCLINATION = 86.82
ORBITAL_SEMIMAJOR_AXIS = 8845.6
PERIAPSIS_ALTITUDE = 328.59
PERIAPSIS_ARGUMENT_ANGLE = 340.18
PERIAPSIS_TIME = 2010-07-03T05:45:07.000Z
SPACECRAFT_ORIENTATION = (0.0,1.0,0.0)
^MEX_ORIENTATION_DESC = "MEX_ORIENTATION_DESC.TXT"
SPACECRAFT_POINTING_MODE = ACROSSTRACK
^MEX_POINTING_DESC = "MEX_POINTING_DESC.TXT"
RIGHT_ASCENSION = -1e+32
DECLINATION = -1e+32
OFFSET_ANGLE = 0.3
SPACECRAFT_SOLAR_DISTANCE = 2.42839e+08
TARGET_NAME = MARS
/* CAMERA DATA ELEMENTS */
DETECTOR_TEMPERATURE = 18.1666
FOCAL_PLANE_TEMPERATURE = 8.1755
INST_CMPRS_NAME = "DISCRETE COSINE TRANSFORMATION (DCT)"
INST_CMPRS_RATIO = 8.73237
INST_CMPRS_QUALITY = 0
INST_CMPRS_QUANTZ_TBL_ID = 0
INSTRUMENT_TEMPERATURE = 11.0301
LENS_TEMPERATURE = 8.3794
MACROPIXEL_SIZE = 4
MISSING_FRAMES = 0
PIXEL_SUBSAMPLING_FLAG = N
SIGNAL_CHAIN_ID = 2
/* RADIOMETRIC DATA ELEMENTS */
BANDWIDTH = 88.0
CENTER_FILTER_WAVELENGTH = 538.0
RADIANCE_OFFSET = 0.48082
RADIANCE_SCALING_FACTOR = 0.00269895
REFLECTANCE_SCALING_FACTOR = 0.000137032
MEX:REFLECTANCE_OFFSET = 0.0244123
/* IMAGE OBJECT DEFINITIONS */
OBJECT = IMAGE
  INTERCHANGE_FORMAT = BINARY
  LINES = 4551
  LINE_SAMPLES = 1189
  SAMPLE_TYPE = UNSIGNED_INTEGER
  SAMPLE_BITS = 8
  BANDS = 1
  BAND_STORAGE_TYPE = BAND_SEQUENTIAL
  MAXIMUM = 255
  MEAN = 95.8347
  MINIMUM = 1
  STANDARD_DEVIATION = 24.0586
END_OBJECT = IMAGE
/* MAP OBJECT DEFINITIONS */
OBJECT = IMAGE_MAP_PROJECTION
  ^DATA_SET_MAP_PROJECTION_CATALOG= "DSMAP.CAT"
  A_AXIS_RADIUS = 3396.0
  B_AXIS_RADIUS = 3396.0
  C_AXIS_RADIUS = 3396.0
  CENTER_LATITUDE = 0.0
  CENTER_LONGITUDE = 350.0
  COORDINATE_SYSTEM_NAME = PLANETOGRAPHIC
  COORDINATE_SYSTEM_TYPE = "BODY-FIXED ROTATING"
  EASTERNMOST_LONGITUDE = 350.552
  FIRST_STANDARD_PARALLEL = "N/A"
  LINE_FIRST_PIXEL = 1
  LINE_LAST_PIXEL = 4551
  LINE_PROJECTION_OFFSET = 8157.375
  MAP_PROJECTION_ROTATION = 0.0
  MAP_PROJECTION_TYPE = SINUSOIDAL
  MAP_RESOLUTION = 592.713803866667
  MAP_SCALE = 0.1
  MAXIMUM_LATITUDE = 13.7574
  MINIMUM_LATITUDE = 6.08553
  POSITIVE_LONGITUDE_DIRECTION = EAST
  REFERENCE_LATITUDE = "N/A"
  REFERENCE_LONGITUDE = "N/A"
  SAMPLE_FIRST_PIXEL = 1
  SAMPLE_LAST_PIXEL = 1189
  SAMPLE_PROJECTION_OFFSET = 878.625
  SECOND_STANDARD_PARALLEL = "N/A"
  WESTERNMOST_LONGITUDE = 348.469
END_OBJECT = IMAGE_MAP_PROJECTION
END
