PDS_VERSION_ID = PDS3
/* FILE DATA ELEMENTS */
RECORD_TYPE = UNDEFINED
/* POINTERS TO DATA OBJECTS */
^IMAGE = ("H8319_0000_GR4.TIF")
/* IDENTIFICATION DATA ELEMENTS */
DATA_SET_ID = "MEX-M-HRSC-4-REFDR-MAPPROJECT-EXT3-V4.0"
DATA_SET_NAME = "MARS EXPRESS HRSC MAP PROJECTED REFDR EXTENSION3 V4.0"
DETECTOR_ID = MEX_HRSC_GREEN
EVENT_TYPE = "MARS-REGIONAL-MAPPING-Vo-Im"
INSTRUMENT_HOST_ID = MEX
INSTRUMENT_HOST_NAME = "MARS EXPRESS"
INSTRUMENT_ID = HRSC
INSTRUMENT_NAME = "HIGH RESOLUTION STEREO CAMERA"
MISSION_NAME = "MARS EXPRESS"
MISSION_PHASE_NAME = ME_Phase_21
PROCESSING_LEVEL_ID = 4
PRODUCT_CREATION_TIME = 2023-02-03T04:36:48.000Z
PRODUCT_ID = "H8319_0000_GR4.TIF"
RELEASE_ID = 0004
REVISION_ID = 0000
/* QUALITY DATA ELEMENTS */
DATA_QUALITY_ID = 1
DATA_QUALITY_DESC = "Data calculated based on original SPICE kernels"
/* TIME DATA ELEMENTS */
SPACECRAFT_CLOCK_START_COUNT = "1/0226166118.09120"
SPACECRAFT_CLOCK_STOP_COUNT = "1/0226166679.52739"
START_TIME = 2010-07-02T15:56:36.086Z
STOP_TIME = 2010-07-02T16:02:12.224Z
/* ORBITAL DATA ELEMENTS */
ASCENDING_NODE_LONGITUDE = 58.43
MAXIMUM_RESOLUTION = 0.109
FOOTPRINT_POINT_LATITUDE = (19.8994,19.8975,19.8948,19.8882, 19.8782,19.8778,19.8725,20.2855,20.7029 ,21.2653,21.8354,22.4123,22.9966, 23.5893,24.189,24.7978,25.4141,25.7254, 26.0395,26.3555,26.6734,26.9938,27.3164 ,27.641,27.968,28.2974,28.6292,28.9635, 29.3004,29.6398,29.9817,30.3259,30.6726 ,31.0219,31.3738,31.7283,32.0856, 32.4458,32.8087,33.1742,33.5422,33.9135 ,34.2876,34.6644,35.0448,35.4279,36.008 ,36.203,36.3622,36.3755,36.3833,36.3867 ,36.3855,36.3815,36.3757,36.3635, 36.3626,36.3602,35.7778,35.3934,35.0117 ,34.6329,34.2574,33.8844,33.5147, 33.1477,32.7833,32.4214,32.0625,31.7062 ,31.3526,31.0015,30.653,30.3072,29.9636 ,29.6225,29.2838,28.9477,28.6142, 28.2829,27.954,27.6276,27.3035,26.9815, 26.6616,26.3443,26.0287,25.7151,25.0954 ,24.4837,23.88,23.2843,22.6967,22.2607, 21.8289,21.4014,20.6974,20.1427,20.0049 ,19.8994)
FOOTPRINT_POINT_LONGITUDE = (195.581,194.906,194.487,193.814, 193.115,193.092,193.073,193.05,193.027, 192.995,192.963,192.929,192.895,192.859 ,192.822,192.783,192.743,192.723, 192.702,192.681,192.659,192.638,192.615 ,192.592,192.569,192.546,192.522, 192.497,192.472,192.447,192.421,192.394 ,192.367,192.339,192.311,192.283, 192.253,192.223,192.193,192.161,192.13, 192.097,192.064,192.03,191.995,191.959, 191.904,191.886,191.87,192.609,193.306, 193.959,194.786,195.309,195.788,196.486 ,196.53,196.544,196.491,196.457,196.424 ,196.392,196.361,196.331,196.302, 196.274,196.246,196.22,196.194,196.169, 196.145,196.121,196.099,196.076,196.055 ,196.034,196.014,195.994,195.975, 195.956,195.938,195.92,195.903,195.887, 195.87,195.855,195.839,195.824,195.796, 195.768,195.743,195.718,195.695,195.678 ,195.662,195.647,195.622,195.603, 195.599,195.581)
ORBIT_NUMBER = 8319
ORBITAL_ECCENTRICITY = 0.579
ORBITAL_INCLINATION = 86.83
ORBITAL_SEMIMAJOR_AXIS = 8844.3
PERIAPSIS_ALTITUDE = 328.61
PERIAPSIS_ARGUMENT_ANGLE = 340.54
PERIAPSIS_TIME = 2010-07-02T15:45:48.000Z
SPACECRAFT_ORIENTATION = (0.0,1.0,0.0)
^MEX_ORIENTATION_DESC = "MEX_ORIENTATION_DESC.TXT"
SPACECRAFT_POINTING_MODE = NADIR
^MEX_POINTING_DESC = "MEX_POINTING_DESC.TXT"
RIGHT_ASCENSION = -1e+32
DECLINATION = -1e+32
OFFSET_ANGLE = -1e+32
SPACECRAFT_SOLAR_DISTANCE = 2.42915e+08
TARGET_NAME = MARS
/* CAMERA DATA ELEMENTS */
DETECTOR_TEMPERATURE = 17.9627
FOCAL_PLANE_TEMPERATURE = 7.5638
INST_CMPRS_NAME = "DISCRETE COSINE TRANSFORMATION (DCT)"
INST_CMPRS_RATIO = 18.3704
INST_CMPRS_QUALITY = 0
INST_CMPRS_QUANTZ_TBL_ID = 0
INSTRUMENT_TEMPERATURE = 10.8262
LENS_TEMPERATURE = 7.9716
MACROPIXEL_SIZE = 4
MISSING_FRAMES = 0
PIXEL_SUBSAMPLING_FLAG = N
SIGNAL_CHAIN_ID = 2
/* RADIOMETRIC DATA ELEMENTS */
BANDWIDTH = 88.0
CENTER_FILTER_WAVELENGTH = 538.0
RADIANCE_OFFSET = 0.783407
RADIANCE_SCALING_FACTOR = 0.00245775
REFLECTANCE_SCALING_FACTOR = 0.000124863
MEX:REFLECTANCE_OFFSET = 0.0398
/* IMAGE OBJECT DEFINITIONS */
OBJECT = IMAGE
  INTERCHANGE_FORMAT = BINARY
  LINES = 9785
  LINE_SAMPLES = 2180
  SAMPLE_TYPE = UNSIGNED_INTEGER
  SAMPLE_BITS = 8
  BANDS = 1
  BAND_STORAGE_TYPE = BAND_SEQUENTIAL
  MAXIMUM = 255
  MEAN = 115.899
  MINIMUM = 1
  STANDARD_DEVIATION = 22.4022
END_OBJECT = IMAGE
/* MAP OBJECT DEFINITIONS */
OBJECT = IMAGE_MAP_PROJECTION
  ^DATA_SET_MAP_PROJECTION_CATALOG= "DSMAP.CAT"
  A_AXIS_RADIUS = 3396.0
  B_AXIS_RADIUS = 3396.0
  C_AXIS_RADIUS = 3396.0
  CENTER_LATITUDE = 0.0
  CENTER_LONGITUDE = 194.0
  COORDINATE_SYSTEM_NAME = PLANETOGRAPHIC
  COORDINATE_SYSTEM_TYPE = "BODY-FIXED ROTATING"
  EASTERNMOST_LONGITUDE = 196.544
  FIRST_STANDARD_PARALLEL = "N/A"
  LINE_FIRST_PIXEL = 1
  LINE_LAST_PIXEL = 9785
  LINE_PROJECTION_OFFSET = 21562.625
  MAP_PROJECTION_ROTATION = 0.0
  MAP_PROJECTION_TYPE = SINUSOIDAL
  MAP_RESOLUTION = 592.713803866667
  MAP_SCALE = 0.1
  MAXIMUM_LATITUDE = 36.3867
  MINIMUM_LATITUDE = 19.8725
  POSITIVE_LONGITUDE_DIRECTION = EAST
  REFERENCE_LATITUDE = "N/A"
  REFERENCE_LONGITUDE = "N/A"
  SAMPLE_FIRST_PIXEL = 1
  SAMPLE_LAST_PIXEL = 2180
  SAMPLE_PROJECTION_OFFSET = 995.875
  SECOND_STANDARD_PARALLEL = "N/A"
  WESTERNMOST_LONGITUDE = 191.87
END_OBJECT = IMAGE_MAP_PROJECTION
END
