PDS_VERSION_ID = PDS3
/* FILE DATA ELEMENTS */
RECORD_TYPE = UNDEFINED
/* POINTERS TO DATA OBJECTS */
^IMAGE = ("H8319_0000_BL4.TIF")
/* IDENTIFICATION DATA ELEMENTS */
DATA_SET_ID = "MEX-M-HRSC-4-REFDR-MAPPROJECT-EXT3-V4.0"
DATA_SET_NAME = "MARS EXPRESS HRSC MAP PROJECTED REFDR EXTENSION3 V4.0"
DETECTOR_ID = MEX_HRSC_BLUE
EVENT_TYPE = "MARS-REGIONAL-MAPPING-Vo-Im"
INSTRUMENT_HOST_ID = MEX
INSTRUMENT_HOST_NAME = "MARS EXPRESS"
INSTRUMENT_ID = HRSC
INSTRUMENT_NAME = "HIGH RESOLUTION STEREO CAMERA"
MISSION_NAME = "MARS EXPRESS"
MISSION_PHASE_NAME = ME_Phase_21
PROCESSING_LEVEL_ID = 4
PRODUCT_CREATION_TIME = 2023-02-03T04:36:48.000Z
PRODUCT_ID = "H8319_0000_BL4.TIF"
RELEASE_ID = 0004
REVISION_ID = 0000
/* QUALITY DATA ELEMENTS */
DATA_QUALITY_ID = 1
DATA_QUALITY_DESC = "Data calculated based on original SPICE kernels"
/* TIME DATA ELEMENTS */
SPACECRAFT_CLOCK_START_COUNT = "1/0226166118.09120"
SPACECRAFT_CLOCK_STOP_COUNT = "1/0226166679.52739"
START_TIME = 2010-07-02T15:56:12.186Z
STOP_TIME = 2010-07-02T16:01:27.529Z
/* ORBITAL DATA ELEMENTS */
ASCENDING_NODE_LONGITUDE = 58.43
MAXIMUM_RESOLUTION = 0.1053
FOOTPRINT_POINT_LATITUDE = (19.8893,19.8856,19.8813,19.8776, 19.8718,19.8663,19.866,19.8754,20.2866, 20.8415,21.4035,21.8294,22.4038,22.9855 ,23.5753,24.1736,24.7792,25.3939, 26.0167,26.3316,26.6486,26.9674,27.289, 27.6133,27.9397,28.2682,28.5993,28.9327 ,29.2684,29.6067,29.9478,30.2914, 30.6375,30.9864,31.338,31.6923,32.0493, 32.4089,32.7715,33.1369,33.5052,33.8766 ,34.2507,34.6277,35.0081,35.3914, 35.7775,36.167,36.3631,36.3718,36.3862, 36.3924,36.3949,36.3949,36.3919,36.3871 ,36.3819,36.3813,36.3789,35.7948, 35.4096,35.0271,34.6476,34.2713,33.8979 ,33.5272,33.1596,32.7947,32.4326, 32.0735,31.717,31.3631,31.0118,30.6633, 30.3176,29.9743,29.6335,29.2955,28.96, 28.6268,28.2959,27.9676,27.6414,27.3172 ,26.9958,26.6771,26.3602,26.0453, 25.4227,24.6561,24.0519,23.4561,22.8685 ,22.2881,21.858,21.1495,20.5912,20.0403 ,19.9038,19.8893)
FOOTPRINT_POINT_LONGITUDE = (195.538,194.887,194.371,194.013, 193.542,193.16,193.138,193.118,193.097, 193.068,193.038,193.015,192.983,192.951 ,192.917,192.882,192.846,192.809, 192.771,192.751,192.731,192.71,192.69, 192.668,192.647,192.625,192.602,192.58, 192.556,192.533,192.509,192.484,192.459 ,192.434,192.408,192.381,192.354, 192.326,192.298,192.269,192.24,192.21, 192.179,192.148,192.116,192.083,192.05, 192.016,191.999,191.998,192.945,193.645 ,194.303,194.716,195.416,195.952, 196.366,196.407,196.42,196.372,196.34, 196.31,196.281,196.253,196.225,196.199, 196.173,196.148,196.123,196.1,196.077, 196.055,196.034,196.013,195.992,195.973 ,195.954,195.935,195.917,195.9,195.883, 195.866,195.85,195.834,195.819,195.804, 195.79,195.776,195.749,195.717,195.693, 195.671,195.649,195.629,195.614,195.591 ,195.573,195.556,195.552,195.538)
ORBIT_NUMBER = 8319
ORBITAL_ECCENTRICITY = 0.579
ORBITAL_INCLINATION = 86.83
ORBITAL_SEMIMAJOR_AXIS = 8844.3
PERIAPSIS_ALTITUDE = 328.61
PERIAPSIS_ARGUMENT_ANGLE = 340.54
PERIAPSIS_TIME = 2010-07-02T15:45:48.000Z
SPACECRAFT_ORIENTATION = (0.0,1.0,0.0)
^MEX_ORIENTATION_DESC = "MEX_ORIENTATION_DESC.TXT"
SPACECRAFT_POINTING_MODE = NADIR
^MEX_POINTING_DESC = "MEX_POINTING_DESC.TXT"
RIGHT_ASCENSION = -1e+32
DECLINATION = -1e+32
OFFSET_ANGLE = -1e+32
SPACECRAFT_SOLAR_DISTANCE = 2.42915e+08
TARGET_NAME = MARS
/* CAMERA DATA ELEMENTS */
DETECTOR_TEMPERATURE = 17.9627
FOCAL_PLANE_TEMPERATURE = 7.5638
INST_CMPRS_NAME = "DISCRETE COSINE TRANSFORMATION (DCT)"
INST_CMPRS_RATIO = 14.1283
INST_CMPRS_QUALITY = 0
INST_CMPRS_QUANTZ_TBL_ID = 0
INSTRUMENT_TEMPERATURE = 10.8262
LENS_TEMPERATURE = 7.9716
MACROPIXEL_SIZE = 4
MISSING_FRAMES = 0
PIXEL_SUBSAMPLING_FLAG = N
SIGNAL_CHAIN_ID = 2
/* RADIOMETRIC DATA ELEMENTS */
BANDWIDTH = 76.0
CENTER_FILTER_WAVELENGTH = 444.0
RADIANCE_OFFSET = 0.354466
RADIANCE_SCALING_FACTOR = 0.00121017
REFLECTANCE_SCALING_FACTOR = 7.33685e-05
MEX:REFLECTANCE_OFFSET = 0.02149
/* IMAGE OBJECT DEFINITIONS */
OBJECT = IMAGE
  INTERCHANGE_FORMAT = BINARY
  LINES = 9785
  LINE_SAMPLES = 2180
  SAMPLE_TYPE = UNSIGNED_INTEGER
  SAMPLE_BITS = 8
  BANDS = 1
  BAND_STORAGE_TYPE = BAND_SEQUENTIAL
  MAXIMUM = 255
  MEAN = 114.731
  MINIMUM = 1
  STANDARD_DEVIATION = 35.4818
END_OBJECT = IMAGE
/* MAP OBJECT DEFINITIONS */
OBJECT = IMAGE_MAP_PROJECTION
  ^DATA_SET_MAP_PROJECTION_CATALOG= "DSMAP.CAT"
  A_AXIS_RADIUS = 3396.0
  B_AXIS_RADIUS = 3396.0
  C_AXIS_RADIUS = 3396.0
  CENTER_LATITUDE = 0.0
  CENTER_LONGITUDE = 194.0
  COORDINATE_SYSTEM_NAME = PLANETOGRAPHIC
  COORDINATE_SYSTEM_TYPE = "BODY-FIXED ROTATING"
  EASTERNMOST_LONGITUDE = 196.42
  FIRST_STANDARD_PARALLEL = "N/A"
  LINE_FIRST_PIXEL = 1
  LINE_LAST_PIXEL = 9785
  LINE_PROJECTION_OFFSET = 21562.625
  MAP_PROJECTION_ROTATION = 0.0
  MAP_PROJECTION_TYPE = SINUSOIDAL
  MAP_RESOLUTION = 592.713803866667
  MAP_SCALE = 0.1
  MAXIMUM_LATITUDE = 36.3949
  MINIMUM_LATITUDE = 19.866
  POSITIVE_LONGITUDE_DIRECTION = EAST
  REFERENCE_LATITUDE = "N/A"
  REFERENCE_LONGITUDE = "N/A"
  SAMPLE_FIRST_PIXEL = 1
  SAMPLE_LAST_PIXEL = 2180
  SAMPLE_PROJECTION_OFFSET = 995.875
  SECOND_STANDARD_PARALLEL = "N/A"
  WESTERNMOST_LONGITUDE = 191.998
END_OBJECT = IMAGE_MAP_PROJECTION
END
