PDS_VERSION_ID = PDS3
/* FILE DATA ELEMENTS */
RECORD_TYPE = UNDEFINED
/* POINTERS TO DATA OBJECTS */
^IMAGE = ("H8318_0000_BL4.TIF")
/* IDENTIFICATION DATA ELEMENTS */
DATA_SET_ID = "MEX-M-HRSC-4-REFDR-MAPPROJECT-EXT3-V4.0"
DATA_SET_NAME = "MARS EXPRESS HRSC MAP PROJECTED REFDR EXTENSION3 V4.0"
DETECTOR_ID = MEX_HRSC_BLUE
EVENT_TYPE = "MARS-REGIONAL-MAPPING-Vo-Fl"
INSTRUMENT_HOST_ID = MEX
INSTRUMENT_HOST_NAME = "MARS EXPRESS"
INSTRUMENT_ID = HRSC
INSTRUMENT_NAME = "HIGH RESOLUTION STEREO CAMERA"
MISSION_NAME = "MARS EXPRESS"
MISSION_PHASE_NAME = ME_Phase_21
PROCESSING_LEVEL_ID = 4
PRODUCT_CREATION_TIME = 2023-02-03T04:36:48.000Z
PRODUCT_ID = "H8318_0000_BL4.TIF"
RELEASE_ID = 0004
REVISION_ID = 0000
/* QUALITY DATA ELEMENTS */
DATA_QUALITY_ID = 1
DATA_QUALITY_DESC = "Data calculated based on original SPICE kernels"
/* TIME DATA ELEMENTS */
SPACECRAFT_CLOCK_START_COUNT = "1/0226140816.08263"
SPACECRAFT_CLOCK_STOP_COUNT = "1/0226141306.06496"
START_TIME = 2010-07-02T08:54:19.145Z
STOP_TIME = 2010-07-02T08:59:28.665Z
/* ORBITAL DATA ELEMENTS */
ASCENDING_NODE_LONGITUDE = 58.45
MAXIMUM_RESOLUTION = 0.085
FOOTPRINT_POINT_LATITUDE = (12.1123,12.1041,12.0973,12.0901, 12.0898,12.0925,12.6681,13.2527,13.6964 ,14.2938,14.8993,15.2045,15.5131, 15.8227,16.1357,16.4495,16.7671,17.2465 ,17.5689,17.8943,18.3864,18.717,19.0515 ,19.3873,19.7263,20.0681,20.4117, 20.7587,21.1087,21.4607,21.9966,22.5383 ,22.9027,23.4548,23.8228,24.1971, 24.5751,24.957,25.3436,25.7302,26.1243, 26.5188,26.9164,27.3184,27.7239,28.1332 ,28.5465,29.173,29.3837,29.4172,29.4266 ,29.4326,29.4357,29.4377,29.4374, 29.4356,29.4355,29.4336,28.8047,28.3899 ,27.9789,27.5717,27.168,26.7684,26.3721 ,25.9787,25.589,25.2029,24.8211,24.2499 ,23.8764,23.5056,22.9514,22.4051, 22.0457,21.6887,21.3342,20.9834,20.6355 ,20.2894,19.9464,19.6065,19.2681, 18.9334,18.4354,17.943,17.6171,17.2947, 16.8151,16.497,16.1832,15.8698,15.5602, 14.9458,14.3399,13.742,13.0057,12.2813, 12.138,12.1123)
FOOTPRINT_POINT_LONGITUDE = (297.951,297.175,296.614,296.09,296.072 ,296.066,296.044,296.022,296.005, 295.981,295.956,295.943,295.93,295.917, 295.904,295.891,295.877,295.856,295.841 ,295.827,295.804,295.789,295.773, 295.757,295.741,295.725,295.708,295.691 ,295.673,295.656,295.626,295.597, 295.576,295.546,295.531,295.51,295.489, 295.467,295.443,295.422,295.395,295.372 ,295.35,295.325,295.3,295.275,295.248, 295.208,295.194,295.192,295.846,296.441 ,296.911,297.508,298.076,298.519, 298.551,298.561,298.525,298.503,298.481 ,298.46,298.439,298.42,298.402,298.382, 298.364,298.347,298.332,298.303,298.29, 298.276,298.25,298.227,298.214,298.201, 298.189,298.177,298.166,298.155,298.144 ,298.133,298.123,298.113,298.099, 298.085,298.077,298.068,298.056,298.048 ,298.04,298.033,298.025,298.012,297.999 ,297.986,297.972,297.958,297.958, 297.951)
ORBIT_NUMBER = 8318
ORBITAL_ECCENTRICITY = 0.579
ORBITAL_INCLINATION = 86.82
ORBITAL_SEMIMAJOR_AXIS = 8849.48
PERIAPSIS_ALTITUDE = 328.64
PERIAPSIS_ARGUMENT_ANGLE = 340.73
PERIAPSIS_TIME = 2010-07-02T08:46:12.000Z
SPACECRAFT_ORIENTATION = (0.0,1.0,0.0)
^MEX_ORIENTATION_DESC = "MEX_ORIENTATION_DESC.TXT"
SPACECRAFT_POINTING_MODE = ACROSSTRACK
^MEX_POINTING_DESC = "MEX_POINTING_DESC.TXT"
RIGHT_ASCENSION = -1e+32
DECLINATION = -1e+32
OFFSET_ANGLE = -0.3
SPACECRAFT_SOLAR_DISTANCE = 2.42953e+08
TARGET_NAME = MARS
/* CAMERA DATA ELEMENTS */
DETECTOR_TEMPERATURE = 18.1666
FOCAL_PLANE_TEMPERATURE = 7.5638
INST_CMPRS_NAME = "DISCRETE COSINE TRANSFORMATION (DCT)"
INST_CMPRS_RATIO = 8.08187
INST_CMPRS_QUALITY = 0
INST_CMPRS_QUANTZ_TBL_ID = 0
INSTRUMENT_TEMPERATURE = 11.0301
LENS_TEMPERATURE = 7.9716
MACROPIXEL_SIZE = 4
MISSING_FRAMES = 0
PIXEL_SUBSAMPLING_FLAG = N
SIGNAL_CHAIN_ID = 2
/* RADIOMETRIC DATA ELEMENTS */
BANDWIDTH = 76.0
CENTER_FILTER_WAVELENGTH = 444.0
RADIANCE_OFFSET = 0.261848
RADIANCE_SCALING_FACTOR = 0.00156962
REFLECTANCE_SCALING_FACTOR = 9.51901e-05
MEX:REFLECTANCE_OFFSET = 0.0158799
/* IMAGE OBJECT DEFINITIONS */
OBJECT = IMAGE
  INTERCHANGE_FORMAT = BINARY
  LINES = 10279
  LINE_SAMPLES = 1789
  SAMPLE_TYPE = UNSIGNED_INTEGER
  SAMPLE_BITS = 8
  BANDS = 1
  BAND_STORAGE_TYPE = BAND_SEQUENTIAL
  MAXIMUM = 255
  MEAN = 101.886
  MINIMUM = 1
  STANDARD_DEVIATION = 23.4355
END_OBJECT = IMAGE
/* MAP OBJECT DEFINITIONS */
OBJECT = IMAGE_MAP_PROJECTION
  ^DATA_SET_MAP_PROJECTION_CATALOG= "DSMAP.CAT"
  A_AXIS_RADIUS = 3396.0
  B_AXIS_RADIUS = 3396.0
  C_AXIS_RADIUS = 3396.0
  CENTER_LATITUDE = 0.0
  CENTER_LONGITUDE = 297.0
  COORDINATE_SYSTEM_NAME = PLANETOGRAPHIC
  COORDINATE_SYSTEM_TYPE = "BODY-FIXED ROTATING"
  EASTERNMOST_LONGITUDE = 298.561
  FIRST_STANDARD_PARALLEL = "N/A"
  LINE_FIRST_PIXEL = 1
  LINE_LAST_PIXEL = 10279
  LINE_PROJECTION_OFFSET = 17440.875
  MAP_PROJECTION_ROTATION = 0.0
  MAP_PROJECTION_TYPE = SINUSOIDAL
  MAP_RESOLUTION = 592.713803866667
  MAP_SCALE = 0.1
  MAXIMUM_LATITUDE = 29.4377
  MINIMUM_LATITUDE = 12.0898
  POSITIVE_LONGITUDE_DIRECTION = EAST
  REFERENCE_LATITUDE = "N/A"
  REFERENCE_LONGITUDE = "N/A"
  SAMPLE_FIRST_PIXEL = 1
  SAMPLE_LAST_PIXEL = 1789
  SAMPLE_PROJECTION_OFFSET = 963.375
  SECOND_STANDARD_PARALLEL = "N/A"
  WESTERNMOST_LONGITUDE = 295.192
END_OBJECT = IMAGE_MAP_PROJECTION
END
