PDS_VERSION_ID = PDS3
/* FILE DATA ELEMENTS */
RECORD_TYPE = UNDEFINED
/* POINTERS TO DATA OBJECTS */
^IMAGE = ("H8315_0000_P24.TIF")
/* IDENTIFICATION DATA ELEMENTS */
DATA_SET_ID = "MEX-M-HRSC-4-REFDR-MAPPROJECT-EXT3-V4.0"
DATA_SET_NAME = "MARS EXPRESS HRSC MAP PROJECTED REFDR EXTENSION3 V4.0"
DETECTOR_ID = MEX_HRSC_P2
EVENT_TYPE = "MARS-REGIONAL-MAPPING-Vo"
INSTRUMENT_HOST_ID = MEX
INSTRUMENT_HOST_NAME = "MARS EXPRESS"
INSTRUMENT_ID = HRSC
INSTRUMENT_NAME = "HIGH RESOLUTION STEREO CAMERA"
MISSION_NAME = "MARS EXPRESS"
MISSION_PHASE_NAME = ME_Phase_21
PROCESSING_LEVEL_ID = 4
PRODUCT_CREATION_TIME = 2023-02-03T04:36:48.000Z
PRODUCT_ID = "H8315_0000_P24.TIF"
RELEASE_ID = 0004
REVISION_ID = 0000
/* QUALITY DATA ELEMENTS */
DATA_QUALITY_ID = 1
DATA_QUALITY_DESC = "Data calculated based on original SPICE kernels"
/* TIME DATA ELEMENTS */
SPACECRAFT_CLOCK_START_COUNT = "1/0226065230.09137"
SPACECRAFT_CLOCK_STOP_COUNT = "1/0226065548.37409"
START_TIME = 2010-07-01T11:54:07.793Z
STOP_TIME = 2010-07-01T11:57:03.071Z
/* ORBITAL DATA ELEMENTS */
ASCENDING_NODE_LONGITUDE = 58.51
MAXIMUM_RESOLUTION = 0.0395
FOOTPRINT_POINT_LATITUDE = (10.1193,10.1216,10.124,10.1266,10.1294 ,10.1323,10.1364,10.1366,10.1234, 10.6024,11.0891,11.4792,11.8763,12.2737 ,12.6775,13.0818,13.3903,13.5961, 13.8018,14.1149,14.3241,14.5332,14.8521 ,15.0648,15.2772,15.4934,15.7096, 15.9255,16.1441,16.3637,16.5831,16.8046 ,17.0277,17.2506,17.4755,17.7018, 17.9279,18.2719,18.5013,18.7328,18.9659 ,19.1985,19.4348,19.6705,19.9082, 20.1483,20.509,20.7518,20.8728,20.9265, 20.9251,20.9235,20.9223,20.9212,20.919, 20.9171,20.9151,20.915,20.9141,20.6717, 20.3086,20.0692,19.711,19.4748,19.1215, 18.8887,18.5396,18.31,18.0801,17.852, 17.6259,17.287,17.0642,16.8411,16.6187, 16.3992,16.1795,15.9598,15.7437,15.4196 ,15.2039,14.9913,14.7784,14.5653,14.356 ,14.0418,13.8323,13.6266,13.4207, 13.2146,12.8078,12.5041,12.3015,11.904, 11.5058,11.1152,10.6272,10.2437,10.1478 ,10.1193)
FOOTPRINT_POINT_LONGITUDE = (243.784,243.521,243.256,242.989,242.72 ,242.45,242.074,242.057,242.063,242.045 ,242.027,242.012,241.997,241.981, 241.965,241.949,241.936,241.927,241.919 ,241.905,241.897,241.888,241.873, 241.864,241.855,241.845,241.835,241.826 ,241.816,241.806,241.795,241.785, 241.774,241.764,241.753,241.742,241.731 ,241.714,241.703,241.691,241.679, 241.667,241.655,241.643,241.63,241.617, 241.598,241.585,241.578,241.575,242.019 ,242.366,242.62,242.849,243.238,243.601 ,243.918,243.94,243.949,243.943,243.935 ,243.93,243.923,243.918,243.911,243.907 ,243.9,243.896,243.891,243.887,243.883, 243.877,243.874,243.87,243.866,243.863, 243.859,243.856,243.852,243.848,243.844 ,243.841,243.838,243.835,243.832, 243.828,243.825,243.823,243.82,243.818, 243.813,243.809,243.807,243.802,243.798 ,243.794,243.789,243.785,243.784, 243.784)
ORBIT_NUMBER = 8315
ORBITAL_ECCENTRICITY = 0.58
ORBITAL_INCLINATION = 86.82
ORBITAL_SEMIMAJOR_AXIS = 8859.02
PERIAPSIS_ALTITUDE = 328.26
PERIAPSIS_ARGUMENT_ANGLE = 341.2
PERIAPSIS_TIME = 2010-07-01T11:47:04.000Z
SPACECRAFT_ORIENTATION = (0.0,1.0,0.0)
^MEX_ORIENTATION_DESC = "MEX_ORIENTATION_DESC.TXT"
SPACECRAFT_POINTING_MODE = ACROSSTRACK
^MEX_POINTING_DESC = "MEX_POINTING_DESC.TXT"
RIGHT_ASCENSION = -1e+32
DECLINATION = -1e+32
OFFSET_ANGLE = 0.686
SPACECRAFT_SOLAR_DISTANCE = 2.43066e+08
TARGET_NAME = MARS
/* CAMERA DATA ELEMENTS */
DETECTOR_TEMPERATURE = 18.1666
FOCAL_PLANE_TEMPERATURE = 7.5638
INST_CMPRS_NAME = "DISCRETE COSINE TRANSFORMATION (DCT)"
INST_CMPRS_RATIO = 8.08521
INST_CMPRS_QUALITY = 0
INST_CMPRS_QUANTZ_TBL_ID = 0
INSTRUMENT_TEMPERATURE = 10.8262
LENS_TEMPERATURE = 7.9716
MACROPIXEL_SIZE = 2
MISSING_FRAMES = 0
PIXEL_SUBSAMPLING_FLAG = N
SIGNAL_CHAIN_ID = 3
/* RADIOMETRIC DATA ELEMENTS */
BANDWIDTH = 177.0
CENTER_FILTER_WAVELENGTH = 676.5
RADIANCE_OFFSET = 2.24818
RADIANCE_SCALING_FACTOR = 0.0111123
REFLECTANCE_SCALING_FACTOR = 0.000348101
MEX:REFLECTANCE_OFFSET = 0.0704258
/* IMAGE OBJECT DEFINITIONS */
OBJECT = IMAGE
  INTERCHANGE_FORMAT = BINARY
  LINES = 12837
  LINE_SAMPLES = 2785
  SAMPLE_TYPE = UNSIGNED_INTEGER
  SAMPLE_BITS = 8
  BANDS = 1
  BAND_STORAGE_TYPE = BAND_SEQUENTIAL
  MAXIMUM = 255
  MEAN = 77.3494
  MINIMUM = 1
  STANDARD_DEVIATION = 30.9027
END_OBJECT = IMAGE
/* MAP OBJECT DEFINITIONS */
OBJECT = IMAGE_MAP_PROJECTION
  ^DATA_SET_MAP_PROJECTION_CATALOG= "DSMAP.CAT"
  A_AXIS_RADIUS = 3396.0
  B_AXIS_RADIUS = 3396.0
  C_AXIS_RADIUS = 3396.0
  CENTER_LATITUDE = 0.0
  CENTER_LONGITUDE = 243.0
  COORDINATE_SYSTEM_NAME = PLANETOGRAPHIC
  COORDINATE_SYSTEM_TYPE = "BODY-FIXED ROTATING"
  EASTERNMOST_LONGITUDE = 243.949
  FIRST_STANDARD_PARALLEL = "N/A"
  LINE_FIRST_PIXEL = 1
  LINE_LAST_PIXEL = 12837
  LINE_PROJECTION_OFFSET = 24828.75
  MAP_PROJECTION_ROTATION = 0.0
  MAP_PROJECTION_TYPE = SINUSOIDAL
  MAP_RESOLUTION = 1185.42760773333
  MAP_SCALE = 0.05
  MAXIMUM_LATITUDE = 20.9265
  MINIMUM_LATITUDE = 10.1193
  POSITIVE_LONGITUDE_DIRECTION = EAST
  REFERENCE_LATITUDE = "N/A"
  REFERENCE_LONGITUDE = "N/A"
  SAMPLE_FIRST_PIXEL = 1
  SAMPLE_LAST_PIXEL = 2785
  SAMPLE_PROJECTION_OFFSET = 1648.25
  SECOND_STANDARD_PARALLEL = "N/A"
  WESTERNMOST_LONGITUDE = 241.575
END_OBJECT = IMAGE_MAP_PROJECTION
END
