PDS_VERSION_ID = PDS3
/* FILE DATA ELEMENTS */
RECORD_TYPE = UNDEFINED
/* POINTERS TO DATA OBJECTS */
^IMAGE = ("H8304_0000_P14.TIF")
/* IDENTIFICATION DATA ELEMENTS */
DATA_SET_ID = "MEX-M-HRSC-4-REFDR-MAPPROJECT-EXT3-V4.0"
DATA_SET_NAME = "MARS EXPRESS HRSC MAP PROJECTED REFDR EXTENSION3 V4.0"
DETECTOR_ID = MEX_HRSC_P1
EVENT_TYPE = "MARS-REGIONAL-MAPPING-Vo-Te-Fl"
INSTRUMENT_HOST_ID = MEX
INSTRUMENT_HOST_NAME = "MARS EXPRESS"
INSTRUMENT_ID = HRSC
INSTRUMENT_NAME = "HIGH RESOLUTION STEREO CAMERA"
MISSION_NAME = "MARS EXPRESS"
MISSION_PHASE_NAME = ME_Phase_21
PROCESSING_LEVEL_ID = 4
PRODUCT_CREATION_TIME = 2023-02-03T04:36:48.000Z
PRODUCT_ID = "H8304_0000_P14.TIF"
RELEASE_ID = 0004
REVISION_ID = 0000
/* QUALITY DATA ELEMENTS */
DATA_QUALITY_ID = 1
DATA_QUALITY_DESC = "Data calculated based on original SPICE kernels"
/* TIME DATA ELEMENTS */
SPACECRAFT_CLOCK_START_COUNT = "1/0225788514.09047"
SPACECRAFT_CLOCK_STOP_COUNT = "1/0225789302.29849"
START_TIME = 2010-06-28T07:04:17.136Z
STOP_TIME = 2010-06-28T07:12:59.396Z
/* ORBITAL DATA ELEMENTS */
ASCENDING_NODE_LONGITUDE = 58.72
MAXIMUM_RESOLUTION = 0.0701
FOOTPRINT_POINT_LATITUDE = (28.1403,28.1486,28.1507,28.1473, 28.1412,28.1302,28.1295,28.1084,28.8653 ,29.639,30.42,30.8152,31.214,31.6157, 32.0212,32.4301,32.843,33.2588,33.6789, 34.1012,34.529,34.9594,35.394,35.8322, 36.2729,36.7158,37.1522,37.5881,38.019, 38.4461,38.8716,39.2936,39.7101,40.122, 40.5352,40.941,41.5448,41.9439,42.5348, 42.9291,43.6982,44.4546,45.1986,45.9309 ,46.6514,47.3546,47.877,48.0462,48.0968 ,48.1312,48.1373,48.1375,48.1226, 48.0971,48.0621,48.0308,47.9674,47.9622 ,47.9596,47.2726,46.5794,45.8664, 45.1486,44.4115,43.8575,43.1005,42.3291 ,41.9374,41.5422,41.145,40.7441,40.3395 ,39.9304,39.5188,39.1036,38.6836, 38.2601,37.8342,37.4046,36.9706,36.533, 36.0923,35.6541,35.22,34.7897,34.3632, 33.9399,33.5201,33.1039,32.691,32.2819, 31.8758,31.4733,31.0735,30.6775,29.8925 ,29.1194,28.3599,28.1723,28.1403)
FOOTPRINT_POINT_LONGITUDE = (290.332,289.549,288.897,288.148, 287.626,287.006,286.973,286.952,286.895 ,286.837,286.774,286.741,286.708, 286.674,286.638,286.603,286.566,286.528 ,286.49,286.449,286.409,286.367,286.325 ,286.281,286.235,286.189,286.14,286.093 ,286.045,285.995,285.946,285.897, 285.846,285.793,285.743,285.69,285.609, 285.556,285.472,285.419,285.304,285.187 ,285.066,284.944,284.819,284.687, 284.588,284.552,284.542,285.831,286.795 ,287.997,288.797,289.917,290.877, 291.517,292.715,292.795,292.824,292.672 ,292.522,292.38,292.239,292.106,292.005 ,291.878,291.755,291.696,291.638, 291.581,291.524,291.469,291.415,291.362 ,291.31,291.259,291.21,291.16,291.112, 291.065,291.019,290.974,290.931,290.889 ,290.848,290.809,290.771,290.734, 290.699,290.665,290.632,290.6,290.569, 290.539,290.511,290.457,290.407,290.359 ,290.348,290.332)
ORBIT_NUMBER = 8304
ORBITAL_ECCENTRICITY = 0.579
ORBITAL_INCLINATION = 86.82
ORBITAL_SEMIMAJOR_AXIS = 8853.9
PERIAPSIS_ALTITUDE = 329.34
PERIAPSIS_ARGUMENT_ANGLE = 343.13
PERIAPSIS_TIME = 2010-06-28T06:50:53.000Z
SPACECRAFT_ORIENTATION = (0.0,1.0,0.0)
^MEX_ORIENTATION_DESC = "MEX_ORIENTATION_DESC.TXT"
SPACECRAFT_POINTING_MODE = NADIR
^MEX_POINTING_DESC = "MEX_POINTING_DESC.TXT"
RIGHT_ASCENSION = -1e+32
DECLINATION = -1e+32
OFFSET_ANGLE = -1e+32
SPACECRAFT_SOLAR_DISTANCE = 2.43471e+08
TARGET_NAME = MARS
/* CAMERA DATA ELEMENTS */
DETECTOR_TEMPERATURE = 17.1471
FOCAL_PLANE_TEMPERATURE = 7.5638
INST_CMPRS_NAME = "DISCRETE COSINE TRANSFORMATION (DCT)"
INST_CMPRS_RATIO = 5.44259
INST_CMPRS_QUALITY = 0
INST_CMPRS_QUANTZ_TBL_ID = 0
INSTRUMENT_TEMPERATURE = 10.8262
LENS_TEMPERATURE = 8.1755
MACROPIXEL_SIZE = 2
MISSING_FRAMES = 0
PIXEL_SUBSAMPLING_FLAG = N
SIGNAL_CHAIN_ID = 3
/* RADIOMETRIC DATA ELEMENTS */
BANDWIDTH = 174.0
CENTER_FILTER_WAVELENGTH = 675.0
RADIANCE_OFFSET = 0.998144
RADIANCE_SCALING_FACTOR = 0.0251982
REFLECTANCE_SCALING_FACTOR = 0.000803428
MEX:REFLECTANCE_OFFSET = 0.0318251
/* IMAGE OBJECT DEFINITIONS */
OBJECT = IMAGE
  INTERCHANGE_FORMAT = BINARY
  LINES = 23755
  LINE_SAMPLES = 5564
  SAMPLE_TYPE = UNSIGNED_INTEGER
  SAMPLE_BITS = 8
  BANDS = 1
  BAND_STORAGE_TYPE = BAND_SEQUENTIAL
  MAXIMUM = 255
  MEAN = 85.567
  MINIMUM = 1
  STANDARD_DEVIATION = 20.9083
END_OBJECT = IMAGE
/* MAP OBJECT DEFINITIONS */
OBJECT = IMAGE_MAP_PROJECTION
  ^DATA_SET_MAP_PROJECTION_CATALOG= "DSMAP.CAT"
  A_AXIS_RADIUS = 3396.0
  B_AXIS_RADIUS = 3396.0
  C_AXIS_RADIUS = 3396.0
  CENTER_LATITUDE = 0.0
  CENTER_LONGITUDE = 289.0
  COORDINATE_SYSTEM_NAME = PLANETOGRAPHIC
  COORDINATE_SYSTEM_TYPE = "BODY-FIXED ROTATING"
  EASTERNMOST_LONGITUDE = 292.824
  FIRST_STANDARD_PARALLEL = "N/A"
  LINE_FIRST_PIXEL = 1
  LINE_LAST_PIXEL = 23755
  LINE_PROJECTION_OFFSET = 57076.25
  MAP_PROJECTION_ROTATION = 0.0
  MAP_PROJECTION_TYPE = SINUSOIDAL
  MAP_RESOLUTION = 1185.42760773333
  MAP_SCALE = 0.05
  MAXIMUM_LATITUDE = 48.1375
  MINIMUM_LATITUDE = 28.1084
  POSITIVE_LONGITUDE_DIRECTION = EAST
  REFERENCE_LATITUDE = "N/A"
  REFERENCE_LONGITUDE = "N/A"
  SAMPLE_FIRST_PIXEL = 1
  SAMPLE_LAST_PIXEL = 5564
  SAMPLE_PROJECTION_OFFSET = 2990.75
  SECOND_STANDARD_PARALLEL = "N/A"
  WESTERNMOST_LONGITUDE = 284.542
END_OBJECT = IMAGE_MAP_PROJECTION
END
