PDS_VERSION_ID = PDS3
/* FILE DATA ELEMENTS */
RECORD_TYPE = UNDEFINED
/* POINTERS TO DATA OBJECTS */
^IMAGE = ("H8298_0000_RE4.TIF")
/* IDENTIFICATION DATA ELEMENTS */
DATA_SET_ID = "MEX-M-HRSC-4-REFDR-MAPPROJECT-EXT3-V4.0"
DATA_SET_NAME = "MARS EXPRESS HRSC MAP PROJECTED REFDR EXTENSION3 V4.0"
DETECTOR_ID = MEX_HRSC_RED
EVENT_TYPE = "MARS-REGIONAL-MAPPING-Gl-Pf"
INSTRUMENT_HOST_ID = MEX
INSTRUMENT_HOST_NAME = "MARS EXPRESS"
INSTRUMENT_ID = HRSC
INSTRUMENT_NAME = "HIGH RESOLUTION STEREO CAMERA"
MISSION_NAME = "MARS EXPRESS"
MISSION_PHASE_NAME = ME_Phase_20
PROCESSING_LEVEL_ID = 4
PRODUCT_CREATION_TIME = 2023-02-03T04:36:48.000Z
PRODUCT_ID = "H8298_0000_RE4.TIF"
RELEASE_ID = 0004
REVISION_ID = 0000
/* QUALITY DATA ELEMENTS */
DATA_QUALITY_ID = 1
DATA_QUALITY_DESC = "Data calculated based on original SPICE kernels"
/* TIME DATA ELEMENTS */
SPACECRAFT_CLOCK_START_COUNT = "1/0225637502.09050"
SPACECRAFT_CLOCK_STOP_COUNT = "1/0225638268.41796"
START_TIME = 2010-06-26T13:05:18.742Z
STOP_TIME = 2010-06-26T13:10:35.482Z
/* ORBITAL DATA ELEMENTS */
ASCENDING_NODE_LONGITUDE = 58.83
MAXIMUM_RESOLUTION = 0.132
FOOTPRINT_POINT_LATITUDE = (32.9211,32.9082,32.8992,32.8894,32.879 ,32.8679,32.8558,32.855,32.9181,33.558, 34.2065,34.8636,35.5331,35.8704,36.211, 36.5542,36.8997,37.2478,37.5984,37.9518 ,38.487,38.8449,39.2016,39.5573,39.9122 ,40.266,40.6191,40.9711,41.3221,41.6721 ,42.0212,42.3694,42.7164,43.0631, 43.4085,43.7531,44.0966,44.4391,44.7806 ,45.1213,45.4609,45.7995,46.4733, 47.1448,47.8117,48.475,49.1346,49.7903, 49.9535,50.0831,50.0912,50.0954,50.0938 ,50.0871,50.075,50.0607,50.0394,50.0379 ,50.0354,49.3893,48.739,48.0846,47.4262 ,46.7635,46.0972,45.7624,45.4265, 45.0896,44.7517,44.4127,44.0726,43.7317 ,43.3897,43.0468,42.7027,42.3577, 42.0118,41.6647,41.3166,40.9675,40.6174 ,40.2664,39.9142,39.561,39.2069,38.8517 ,38.4955,37.9625,37.6112,37.2625, 36.9162,36.5722,36.2304,35.8918,35.2219 ,34.5614,33.9103,33.2684,33.1095, 32.9211)
FOOTPRINT_POINT_LONGITUDE = (185.325,184.514,184.02,183.53,183.045, 182.562,182.081,182.051,182.038,182.007 ,181.976,181.943,181.91,181.892,181.875 ,181.857,181.839,181.82,181.802,181.783 ,181.753,181.733,181.714,181.693, 181.673,181.653,181.632,181.612,181.591 ,181.57,181.549,181.527,181.506,181.484 ,181.462,181.44,181.418,181.396,181.373 ,181.351,181.328,181.305,181.259, 181.211,181.163,181.114,181.065,181.014 ,181.002,180.991,181.836,182.809, 183.784,184.765,185.753,186.559,187.497 ,187.559,187.58,187.445,187.315,187.19, 187.069,186.953,186.841,186.787,186.733 ,186.681,186.629,186.579,186.529,186.48 ,186.433,186.386,186.34,186.295,186.251 ,186.207,186.164,186.123,186.081, 186.041,186.002,185.963,185.925,185.887 ,185.851,185.797,185.763,185.73,185.697 ,185.666,185.635,185.605,185.548, 185.494,185.443,185.395,185.383, 185.325)
ORBIT_NUMBER = 8298
ORBITAL_ECCENTRICITY = 0.579
ORBITAL_INCLINATION = 86.83
ORBITAL_SEMIMAJOR_AXIS = 8846.69
PERIAPSIS_ALTITUDE = 330.06
PERIAPSIS_ARGUMENT_ANGLE = 344.16
PERIAPSIS_TIME = 2010-06-26T12:52:58.000Z
SPACECRAFT_ORIENTATION = (0.0,1.0,0.0)
^MEX_ORIENTATION_DESC = "MEX_ORIENTATION_DESC.TXT"
SPACECRAFT_POINTING_MODE = ACROSSTRACK
^MEX_POINTING_DESC = "MEX_POINTING_DESC.TXT"
RIGHT_ASCENSION = -1e+32
DECLINATION = -1e+32
OFFSET_ANGLE = -1.078
SPACECRAFT_SOLAR_DISTANCE = 2.43687e+08
TARGET_NAME = MARS
/* CAMERA DATA ELEMENTS */
DETECTOR_TEMPERATURE = 18.5744
FOCAL_PLANE_TEMPERATURE = 8.1755
INST_CMPRS_NAME = "DISCRETE COSINE TRANSFORMATION (DCT)"
INST_CMPRS_RATIO = 18.4579
INST_CMPRS_QUALITY = 0
INST_CMPRS_QUANTZ_TBL_ID = 0
INSTRUMENT_TEMPERATURE = 11.0301
LENS_TEMPERATURE = 8.5833
MACROPIXEL_SIZE = 4
MISSING_FRAMES = 0
PIXEL_SUBSAMPLING_FLAG = N
SIGNAL_CHAIN_ID = 2
/* RADIOMETRIC DATA ELEMENTS */
BANDWIDTH = 48.0
CENTER_FILTER_WAVELENGTH = 748.0
RADIANCE_OFFSET = 0.410604
RADIANCE_SCALING_FACTOR = 0.00394762
REFLECTANCE_SCALING_FACTOR = 0.000534963
MEX:REFLECTANCE_OFFSET = 0.0556431
/* IMAGE OBJECT DEFINITIONS */
OBJECT = IMAGE
  INTERCHANGE_FORMAT = BINARY
  LINES = 10211
  LINE_SAMPLES = 2873
  SAMPLE_TYPE = UNSIGNED_INTEGER
  SAMPLE_BITS = 8
  BANDS = 1
  BAND_STORAGE_TYPE = BAND_SEQUENTIAL
  MAXIMUM = 255
  MEAN = 103.837
  MINIMUM = 1
  STANDARD_DEVIATION = 23.6763
END_OBJECT = IMAGE
/* MAP OBJECT DEFINITIONS */
OBJECT = IMAGE_MAP_PROJECTION
  ^DATA_SET_MAP_PROJECTION_CATALOG= "DSMAP.CAT"
  A_AXIS_RADIUS = 3396.0
  B_AXIS_RADIUS = 3396.0
  C_AXIS_RADIUS = 3396.0
  CENTER_LATITUDE = 0.0
  CENTER_LONGITUDE = 184.0
  COORDINATE_SYSTEM_NAME = PLANETOGRAPHIC
  COORDINATE_SYSTEM_TYPE = "BODY-FIXED ROTATING"
  EASTERNMOST_LONGITUDE = 187.58
  FIRST_STANDARD_PARALLEL = "N/A"
  LINE_FIRST_PIXEL = 1
  LINE_LAST_PIXEL = 10211
  LINE_PROJECTION_OFFSET = 29697.375
  MAP_PROJECTION_ROTATION = 0.0
  MAP_PROJECTION_TYPE = SINUSOIDAL
  MAP_RESOLUTION = 592.713803866667
  MAP_SCALE = 0.1
  MAXIMUM_LATITUDE = 50.0954
  MINIMUM_LATITUDE = 32.855
  POSITIVE_LONGITUDE_DIRECTION = EAST
  REFERENCE_LATITUDE = "N/A"
  REFERENCE_LONGITUDE = "N/A"
  SAMPLE_FIRST_PIXEL = 1
  SAMPLE_LAST_PIXEL = 2873
  SAMPLE_PROJECTION_OFFSET = 1323.375
  SECOND_STANDARD_PARALLEL = "N/A"
  WESTERNMOST_LONGITUDE = 180.991
END_OBJECT = IMAGE_MAP_PROJECTION
END
