PDS_VERSION_ID = PDS3
/* FILE DATA ELEMENTS */
RECORD_TYPE = UNDEFINED
/* POINTERS TO DATA OBJECTS */
^IMAGE = ("H8273_0000_S24.TIF")
/* IDENTIFICATION DATA ELEMENTS */
DATA_SET_ID = "MEX-M-HRSC-4-REFDR-MAPPROJECT-EXT3-V4.0"
DATA_SET_NAME = "MARS EXPRESS HRSC MAP PROJECTED REFDR EXTENSION3 V4.0"
DETECTOR_ID = MEX_HRSC_S2
EVENT_TYPE = "MARS-REGIONAL-MAPPING-Vo-Im-Pf"
INSTRUMENT_HOST_ID = MEX
INSTRUMENT_HOST_NAME = "MARS EXPRESS"
INSTRUMENT_ID = HRSC
INSTRUMENT_NAME = "HIGH RESOLUTION STEREO CAMERA"
MISSION_NAME = "MARS EXPRESS"
MISSION_PHASE_NAME = ME_Phase_20
PROCESSING_LEVEL_ID = 4
PRODUCT_CREATION_TIME = 2023-02-03T04:36:48.000Z
PRODUCT_ID = "H8273_0000_S24.TIF"
RELEASE_ID = 0004
REVISION_ID = 0000
/* QUALITY DATA ELEMENTS */
DATA_QUALITY_ID = 1
DATA_QUALITY_DESC = "Data calculated based on original SPICE kernels"
/* TIME DATA ELEMENTS */
SPACECRAFT_CLOCK_START_COUNT = "1/0225008097.07295"
SPACECRAFT_CLOCK_STOP_COUNT = "1/0225009051.40048"
START_TIME = 2010-06-19T06:14:59.622Z
STOP_TIME = 2010-06-19T06:21:05.791Z
/* ORBITAL DATA ELEMENTS */
ASCENDING_NODE_LONGITUDE = 59.32
MAXIMUM_RESOLUTION = 0.0694
FOOTPRINT_POINT_LATITUDE = (39.0596,39.0654,39.0684,39.0697,39.07, 39.069,39.0671,39.0669,39.1501,39.8058, 40.4706,41.1469,41.8319,42.5277,43.2352 ,43.9528,44.6822,45.423,46.1765,46.5581 ,46.9424,47.33,47.7214,48.1154,48.5129, 48.9142,49.3181,49.7252,50.1365,50.5514 ,50.9695,51.3919,51.817,52.2468,52.6807 ,53.1176,53.5597,54.0043,54.4531, 54.9058,55.3643,55.8265,56.2924,56.7629 ,57.2383,57.7176,58.1988,58.6787, 58.9176,59.1534,59.1563,59.1526,59.1387 ,59.1164,59.0823,59.0474,58.9943, 58.9906,58.9879,58.5181,58.0459,57.5718 ,57.0992,56.6308,56.1661,55.706,55.2493 ,54.7972,54.349,53.9039,53.4637,53.0263 ,52.5933,52.1634,51.7382,51.3155, 50.8964,50.4818,50.0702,49.6618,49.2567 ,48.8555,48.4569,48.0614,47.6695, 47.2807,46.8947,46.5126,46.1332,45.3832 ,44.6455,43.919,43.2043,42.5,41.8068, 41.1231,40.4494,39.4502,39.2846, 39.0596)
FOOTPRINT_POINT_LONGITUDE = (221.341,220.564,219.93,219.366,218.803 ,218.238,217.743,217.708,217.663, 217.621,217.577,217.531,217.484,217.435 ,217.383,217.33,217.275,217.217,217.156 ,217.125,217.093,217.06,217.027,216.992 ,216.957,216.921,216.884,216.847, 216.808,216.769,216.728,216.686,216.644 ,216.6,216.554,216.508,216.46,216.411, 216.36,216.309,216.254,216.199,216.142, 216.083,216.022,215.959,215.895,215.828 ,215.795,215.761,216.632,218.113, 219.415,220.714,222.1,223.225,224.61, 224.696,224.727,224.578,224.435,224.296 ,224.162,224.034,223.912,223.796, 223.684,223.577,223.474,223.376,223.282 ,223.191,223.104,223.02,222.94,222.862, 222.788,222.716,222.648,222.581,222.517 ,222.455,222.395,222.338,222.282, 222.228,222.176,222.126,222.078,221.985 ,221.899,221.818,221.742,221.671, 221.604,221.541,221.481,221.394,221.38, 221.341)
ORBIT_NUMBER = 8273
ORBITAL_ECCENTRICITY = 0.579
ORBITAL_INCLINATION = 86.84
ORBITAL_SEMIMAJOR_AXIS = 8857.0
PERIAPSIS_ALTITUDE = 331.19
PERIAPSIS_ARGUMENT_ANGLE = 348.46
PERIAPSIS_TIME = 2010-06-19T06:02:19.000Z
SPACECRAFT_ORIENTATION = (0.0,1.0,0.0)
^MEX_ORIENTATION_DESC = "MEX_ORIENTATION_DESC.TXT"
SPACECRAFT_POINTING_MODE = NADIR
^MEX_POINTING_DESC = "MEX_POINTING_DESC.TXT"
RIGHT_ASCENSION = -1e+32
DECLINATION = -1e+32
OFFSET_ANGLE = -1e+32
SPACECRAFT_SOLAR_DISTANCE = 2.44546e+08
TARGET_NAME = MARS
/* CAMERA DATA ELEMENTS */
DETECTOR_TEMPERATURE = 18.3705
FOCAL_PLANE_TEMPERATURE = 7.5638
INST_CMPRS_NAME = "DISCRETE COSINE TRANSFORMATION (DCT)"
INST_CMPRS_RATIO = 10.7175
INST_CMPRS_QUALITY = 0
INST_CMPRS_QUANTZ_TBL_ID = 0
INSTRUMENT_TEMPERATURE = 10.8262
LENS_TEMPERATURE = 7.9716
MACROPIXEL_SIZE = 2
MISSING_FRAMES = 0
PIXEL_SUBSAMPLING_FLAG = N
SIGNAL_CHAIN_ID = 1
/* RADIOMETRIC DATA ELEMENTS */
BANDWIDTH = 178.0
CENTER_FILTER_WAVELENGTH = 679.0
RADIANCE_OFFSET = 1.72853
RADIANCE_SCALING_FACTOR = 0.0141734
REFLECTANCE_SCALING_FACTOR = 0.000448869
MEX:REFLECTANCE_OFFSET = 0.0547425
/* IMAGE OBJECT DEFINITIONS */
OBJECT = IMAGE
  INTERCHANGE_FORMAT = BINARY
  LINES = 23767
  LINE_SAMPLES = 6490
  SAMPLE_TYPE = UNSIGNED_INTEGER
  SAMPLE_BITS = 8
  BANDS = 1
  BAND_STORAGE_TYPE = BAND_SEQUENTIAL
  MAXIMUM = 255
  MEAN = 110.393
  MINIMUM = 1
  STANDARD_DEVIATION = 24.7008
END_OBJECT = IMAGE
/* MAP OBJECT DEFINITIONS */
OBJECT = IMAGE_MAP_PROJECTION
  ^DATA_SET_MAP_PROJECTION_CATALOG= "DSMAP.CAT"
  A_AXIS_RADIUS = 3396.0
  B_AXIS_RADIUS = 3396.0
  C_AXIS_RADIUS = 3396.0
  CENTER_LATITUDE = 0.0
  CENTER_LONGITUDE = 220.0
  COORDINATE_SYSTEM_NAME = PLANETOGRAPHIC
  COORDINATE_SYSTEM_TYPE = "BODY-FIXED ROTATING"
  EASTERNMOST_LONGITUDE = 224.727
  FIRST_STANDARD_PARALLEL = "N/A"
  LINE_FIRST_PIXEL = 1
  LINE_LAST_PIXEL = 23767
  LINE_PROJECTION_OFFSET = 70143.75
  MAP_PROJECTION_ROTATION = 0.0
  MAP_PROJECTION_TYPE = SINUSOIDAL
  MAP_RESOLUTION = 1185.42760773333
  MAP_SCALE = 0.05
  MAXIMUM_LATITUDE = 59.1563
  MINIMUM_LATITUDE = 39.0596
  POSITIVE_LONGITUDE_DIRECTION = EAST
  REFERENCE_LATITUDE = "N/A"
  REFERENCE_LONGITUDE = "N/A"
  SAMPLE_FIRST_PIXEL = 1
  SAMPLE_LAST_PIXEL = 6490
  SAMPLE_PROJECTION_OFFSET = 3014.25
  SECOND_STANDARD_PARALLEL = "N/A"
  WESTERNMOST_LONGITUDE = 215.761
END_OBJECT = IMAGE_MAP_PROJECTION
END
