PDS_VERSION_ID = PDS3
/* FILE DATA ELEMENTS */
RECORD_TYPE = UNDEFINED
/* POINTERS TO DATA OBJECTS */
^IMAGE = ("H8272_0000_P24.TIF")
/* IDENTIFICATION DATA ELEMENTS */
DATA_SET_ID = "MEX-M-HRSC-4-REFDR-MAPPROJECT-EXT3-V4.0"
DATA_SET_NAME = "MARS EXPRESS HRSC MAP PROJECTED REFDR EXTENSION3 V4.0"
DETECTOR_ID = MEX_HRSC_P2
EVENT_TYPE = "MARS-REGIONAL-MAPPING-Fl-Eo-Ot"
INSTRUMENT_HOST_ID = MEX
INSTRUMENT_HOST_NAME = "MARS EXPRESS"
INSTRUMENT_ID = HRSC
INSTRUMENT_NAME = "HIGH RESOLUTION STEREO CAMERA"
MISSION_NAME = "MARS EXPRESS"
MISSION_PHASE_NAME = ME_Phase_20
PROCESSING_LEVEL_ID = 4
PRODUCT_CREATION_TIME = 2023-02-03T04:36:48.000Z
PRODUCT_ID = "H8272_0000_P24.TIF"
RELEASE_ID = 0004
REVISION_ID = 0000
/* QUALITY DATA ELEMENTS */
DATA_QUALITY_ID = 1
DATA_QUALITY_DESC = "Data calculated based on original SPICE kernels"
/* TIME DATA ELEMENTS */
SPACECRAFT_CLOCK_START_COUNT = "1/0224982868.08232"
SPACECRAFT_CLOCK_STOP_COUNT = "1/0224983604.63237"
START_TIME = 2010-06-18T23:14:57.446Z
STOP_TIME = 2010-06-18T23:20:22.852Z
/* ORBITAL DATA ELEMENTS */
ASCENDING_NODE_LONGITUDE = 59.34
MAXIMUM_RESOLUTION = 0.064
FOOTPRINT_POINT_LATITUDE = (35.875,35.8785,35.8813,35.8821,35.8818 ,35.8802,35.8762,35.876,35.9277,36.5054 ,37.0909,37.6836,38.285,38.894,39.5118, 40.1367,40.7723,41.4155,42.0683,42.7303 ,43.065,43.4021,43.7423,44.0843,44.4296 ,44.7768,45.1265,45.4786,45.8333, 46.1912,46.5521,46.9153,47.2814,47.6504 ,48.0219,48.3971,48.7749,49.1554,49.539 ,49.9255,50.3152,50.7082,51.1047, 51.5037,51.906,52.312,52.927,53.1336, 53.179,53.183,53.1845,53.1813,53.1735, 53.1615,53.1393,53.1237,53.0849,53.0825 ,53.0803,52.672,52.2669,51.8651,51.4661 ,51.0702,50.6777,50.2875,49.9007, 49.5167,49.1361,48.7583,48.383,48.0104, 47.6406,47.2744,46.9105,46.5494,46.1905 ,45.8342,45.4811,45.1306,44.7825,44.437 ,44.0938,43.7529,43.4144,43.0783, 42.7447,42.4136,41.758,41.1121,40.4746, 39.8463,39.226,38.6136,38.0103,37.4144, 36.6804,36.1017,35.9581,35.875)
FOOTPRINT_POINT_LONGITUDE = (323.411,322.929,322.288,321.71,321.294 ,320.781,320.138,320.106,320.066,320.03 ,319.994,319.956,319.917,319.877, 319.835,319.792,319.747,319.701,319.652 ,319.603,319.577,319.551,319.524, 319.497,319.469,319.44,319.411,319.382, 319.352,319.321,319.29,319.258,319.225, 319.191,319.157,319.122,319.086,319.049 ,319.012,318.974,318.934,318.894, 318.853,318.811,318.767,318.723,318.654 ,318.63,318.625,319.302,319.98,320.994, 321.805,322.615,323.695,324.303,325.52, 325.588,325.612,325.525,325.441,325.361 ,325.283,325.207,325.135,325.065, 324.997,324.932,324.869,324.808,324.749 ,324.692,324.637,324.584,324.533, 324.483,324.434,324.387,324.342,324.298 ,324.255,324.214,324.173,324.134, 324.096,324.06,324.024,323.989,323.922, 323.86,323.8,323.744,323.691,323.64, 323.593,323.547,323.494,323.453,323.443 ,323.411)
ORBIT_NUMBER = 8272
ORBITAL_ECCENTRICITY = 0.579
ORBITAL_INCLINATION = 86.84
ORBITAL_SEMIMAJOR_AXIS = 8849.75
PERIAPSIS_ALTITUDE = 331.66
PERIAPSIS_ARGUMENT_ANGLE = 348.67
PERIAPSIS_TIME = 2010-06-18T23:02:48.000Z
SPACECRAFT_ORIENTATION = (0.0,1.0,0.0)
^MEX_ORIENTATION_DESC = "MEX_ORIENTATION_DESC.TXT"
SPACECRAFT_POINTING_MODE = NADIR
^MEX_POINTING_DESC = "MEX_POINTING_DESC.TXT"
RIGHT_ASCENSION = -1e+32
DECLINATION = -1e+32
OFFSET_ANGLE = -1e+32
SPACECRAFT_SOLAR_DISTANCE = 2.44579e+08
TARGET_NAME = MARS
/* CAMERA DATA ELEMENTS */
DETECTOR_TEMPERATURE = 18.3705
FOCAL_PLANE_TEMPERATURE = 7.5638
INST_CMPRS_NAME = "DISCRETE COSINE TRANSFORMATION (DCT)"
INST_CMPRS_RATIO = 8.5511
INST_CMPRS_QUALITY = 0
INST_CMPRS_QUANTZ_TBL_ID = 0
INSTRUMENT_TEMPERATURE = 9.195
LENS_TEMPERATURE = 7.9716
MACROPIXEL_SIZE = 2
MISSING_FRAMES = 0
PIXEL_SUBSAMPLING_FLAG = N
SIGNAL_CHAIN_ID = 3
/* RADIOMETRIC DATA ELEMENTS */
BANDWIDTH = 177.0
CENTER_FILTER_WAVELENGTH = 676.5
RADIANCE_OFFSET = 0.940352
RADIANCE_SCALING_FACTOR = 0.00863069
REFLECTANCE_SCALING_FACTOR = 0.00027374
MEX:REFLECTANCE_OFFSET = 0.0298252
/* IMAGE OBJECT DEFINITIONS */
OBJECT = IMAGE
  INTERCHANGE_FORMAT = BINARY
  LINES = 20488
  LINE_SAMPLES = 5541
  SAMPLE_TYPE = UNSIGNED_INTEGER
  SAMPLE_BITS = 8
  BANDS = 1
  BAND_STORAGE_TYPE = BAND_SEQUENTIAL
  MAXIMUM = 255
  MEAN = 79.0038
  MINIMUM = 1
  STANDARD_DEVIATION = 18.0433
END_OBJECT = IMAGE
/* MAP OBJECT DEFINITIONS */
OBJECT = IMAGE_MAP_PROJECTION
  ^DATA_SET_MAP_PROJECTION_CATALOG= "DSMAP.CAT"
  A_AXIS_RADIUS = 3396.0
  B_AXIS_RADIUS = 3396.0
  C_AXIS_RADIUS = 3396.0
  CENTER_LATITUDE = 0.0
  CENTER_LONGITUDE = 322.0
  COORDINATE_SYSTEM_NAME = PLANETOGRAPHIC
  COORDINATE_SYSTEM_TYPE = "BODY-FIXED ROTATING"
  EASTERNMOST_LONGITUDE = 325.612
  FIRST_STANDARD_PARALLEL = "N/A"
  LINE_FIRST_PIXEL = 1
  LINE_LAST_PIXEL = 20488
  LINE_PROJECTION_OFFSET = 63038.25
  MAP_PROJECTION_ROTATION = 0.0
  MAP_PROJECTION_TYPE = SINUSOIDAL
  MAP_RESOLUTION = 1185.42760773333
  MAP_SCALE = 0.05
  MAXIMUM_LATITUDE = 53.1845
  MINIMUM_LATITUDE = 35.875
  POSITIVE_LONGITUDE_DIRECTION = EAST
  REFERENCE_LATITUDE = "N/A"
  REFERENCE_LONGITUDE = "N/A"
  SAMPLE_FIRST_PIXEL = 1
  SAMPLE_LAST_PIXEL = 5541
  SAMPLE_PROJECTION_OFFSET = 2657.75
  SECOND_STANDARD_PARALLEL = "N/A"
  WESTERNMOST_LONGITUDE = 318.625
END_OBJECT = IMAGE_MAP_PROJECTION
END
