PDS_VERSION_ID = PDS3
/* FILE DATA ELEMENTS */
RECORD_TYPE = UNDEFINED
/* POINTERS TO DATA OBJECTS */
^IMAGE = ("H8259_0000_S24.TIF")
/* IDENTIFICATION DATA ELEMENTS */
DATA_SET_ID = "MEX-M-HRSC-4-REFDR-MAPPROJECT-EXT3-V4.0"
DATA_SET_NAME = "MARS EXPRESS HRSC MAP PROJECTED REFDR EXTENSION3 V4.0"
DETECTOR_ID = MEX_HRSC_S2
EVENT_TYPE = "MARS-REGIONAL-MAPPING-Vo-Im-Pf"
INSTRUMENT_HOST_ID = MEX
INSTRUMENT_HOST_NAME = "MARS EXPRESS"
INSTRUMENT_ID = HRSC
INSTRUMENT_NAME = "HIGH RESOLUTION STEREO CAMERA"
MISSION_NAME = "MARS EXPRESS"
MISSION_PHASE_NAME = ME_Phase_20
PROCESSING_LEVEL_ID = 4
PRODUCT_CREATION_TIME = 2023-02-03T04:36:48.000Z
PRODUCT_ID = "H8259_0000_S24.TIF"
RELEASE_ID = 0004
REVISION_ID = 0000
/* QUALITY DATA ELEMENTS */
DATA_QUALITY_ID = 1
DATA_QUALITY_DESC = "Data calculated based on original SPICE kernels"
/* TIME DATA ELEMENTS */
SPACECRAFT_CLOCK_START_COUNT = "1/0224655654.09137"
SPACECRAFT_CLOCK_STOP_COUNT = "1/0224656374.03369"
START_TIME = 2010-06-15T04:20:56.703Z
STOP_TIME = 2010-06-15T04:25:09.114Z
/* ORBITAL DATA ELEMENTS */
ASCENDING_NODE_LONGITUDE = 59.59
MAXIMUM_RESOLUTION = 0.0722
FOOTPRINT_POINT_LATITUDE = (42.9202,42.9323,42.9381,42.9423, 42.9448,42.9456,42.9448,42.9447,43.0406 ,43.4011,43.7643,44.2536,44.6238, 44.9971,45.4988,46.1352,46.6504,47.1708 ,47.6983,48.2308,48.7693,49.3151, 49.5903,49.8668,50.1453,50.4251,50.7066 ,50.9903,51.2756,51.5623,51.8507, 52.1408,52.4327,52.7262,53.0219,53.3195 ,53.619,53.9203,54.2231,54.5287,54.8356 ,55.1445,55.455,55.7664,56.2406,56.7177 ,56.8778,57.0035,57.0044,57.0016, 56.9966,56.9896,56.9828,56.9724,56.958, 56.9375,56.9138,56.8971,56.8704,56.8676 ,56.8652,56.5484,56.234,55.9217,55.6111 ,55.3009,54.9931,54.6857,54.3824, 53.9317,53.6342,53.3389,53.0436,52.7498 ,52.4584,52.1685,51.8802,51.5932, 51.3079,51.0244,50.7432,50.4633,50.1851 ,49.9079,49.6325,49.3592,48.8162, 48.2791,47.749,47.2243,46.5765,46.0644, 45.558,45.0571,44.5615,44.1936,43.5858, 43.2254,43.1063,42.9202)
FOOTPRINT_POINT_LONGITUDE = (213.504,212.572,211.951,211.331, 210.711,210.09,209.545,209.506,209.453, 209.429,209.404,209.371,209.346,209.319 ,209.284,209.238,209.2,209.161,209.12, 209.079,209.036,208.991,208.969,208.946 ,208.922,208.898,208.874,208.849, 208.824,208.798,208.772,208.746,208.719 ,208.692,208.664,208.635,208.606, 208.576,208.546,208.515,208.484,208.452 ,208.419,208.386,208.334,208.281, 208.263,208.249,208.766,209.805,210.47, 211.061,211.577,212.166,212.83,213.714, 214.524,215.04,215.777,215.851,215.877, 215.793,215.712,215.634,215.557,215.482 ,215.41,215.338,215.27,215.172,215.11, 215.049,214.99,214.931,214.875,214.82, 214.766,214.713,214.662,214.613,214.564 ,214.517,214.472,214.427,214.383,214.34 ,214.258,214.18,214.105,214.034,213.95, 213.885,213.824,213.765,213.709,213.669 ,213.604,213.567,213.555,213.504)
ORBIT_NUMBER = 8259
ORBITAL_ECCENTRICITY = 0.579
ORBITAL_INCLINATION = 86.84
ORBITAL_SEMIMAJOR_AXIS = 8855.76
PERIAPSIS_ALTITUDE = 332.4
PERIAPSIS_ARGUMENT_ANGLE = 350.91
PERIAPSIS_TIME = 2010-06-15T04:07:52.000Z
SPACECRAFT_ORIENTATION = (0.0,1.0,0.0)
^MEX_ORIENTATION_DESC = "MEX_ORIENTATION_DESC.TXT"
SPACECRAFT_POINTING_MODE = NADIR
^MEX_POINTING_DESC = "MEX_POINTING_DESC.TXT"
RIGHT_ASCENSION = -1e+32
DECLINATION = -1e+32
OFFSET_ANGLE = -1e+32
SPACECRAFT_SOLAR_DISTANCE = 2.44998e+08
TARGET_NAME = MARS
/* CAMERA DATA ELEMENTS */
DETECTOR_TEMPERATURE = 18.3705
FOCAL_PLANE_TEMPERATURE = 7.7677
INST_CMPRS_NAME = "DISCRETE COSINE TRANSFORMATION (DCT)"
INST_CMPRS_RATIO = 11.4456
INST_CMPRS_QUALITY = 0
INST_CMPRS_QUANTZ_TBL_ID = 0
INSTRUMENT_TEMPERATURE = 10.8262
LENS_TEMPERATURE = 8.3794
MACROPIXEL_SIZE = 2
MISSING_FRAMES = 0
PIXEL_SUBSAMPLING_FLAG = N
SIGNAL_CHAIN_ID = 1
/* RADIOMETRIC DATA ELEMENTS */
BANDWIDTH = 178.0
CENTER_FILTER_WAVELENGTH = 679.0
RADIANCE_OFFSET = 1.58469
RADIANCE_SCALING_FACTOR = 0.0146568
REFLECTANCE_SCALING_FACTOR = 0.000465898
MEX:REFLECTANCE_OFFSET = 0.0503728
/* IMAGE OBJECT DEFINITIONS */
OBJECT = IMAGE
  INTERCHANGE_FORMAT = BINARY
  LINES = 8321
  LINE_SAMPLES = 2887
  SAMPLE_TYPE = UNSIGNED_INTEGER
  SAMPLE_BITS = 8
  BANDS = 1
  BAND_STORAGE_TYPE = BAND_SEQUENTIAL
  MAXIMUM = 255
  MEAN = 100.709
  MINIMUM = 1
  STANDARD_DEVIATION = 19.1795
END_OBJECT = IMAGE
/* MAP OBJECT DEFINITIONS */
OBJECT = IMAGE_MAP_PROJECTION
  ^DATA_SET_MAP_PROJECTION_CATALOG= "DSMAP.CAT"
  A_AXIS_RADIUS = 3396.0
  B_AXIS_RADIUS = 3396.0
  C_AXIS_RADIUS = 3396.0
  CENTER_LATITUDE = 0.0
  CENTER_LONGITUDE = 212.0
  COORDINATE_SYSTEM_NAME = PLANETOGRAPHIC
  COORDINATE_SYSTEM_TYPE = "BODY-FIXED ROTATING"
  EASTERNMOST_LONGITUDE = 215.877
  FIRST_STANDARD_PARALLEL = "N/A"
  LINE_FIRST_PIXEL = 1
  LINE_LAST_PIXEL = 8321
  LINE_PROJECTION_OFFSET = 33793.25
  MAP_PROJECTION_ROTATION = 0.0
  MAP_PROJECTION_TYPE = SINUSOIDAL
  MAP_RESOLUTION = 592.713803866667
  MAP_SCALE = 0.1
  MAXIMUM_LATITUDE = 57.0044
  MINIMUM_LATITUDE = 42.9202
  POSITIVE_LONGITUDE_DIRECTION = EAST
  REFERENCE_LATITUDE = "N/A"
  REFERENCE_LONGITUDE = "N/A"
  SAMPLE_FIRST_PIXEL = 1
  SAMPLE_LAST_PIXEL = 2887
  SAMPLE_PROJECTION_OFFSET = 1391.75
  SECOND_STANDARD_PARALLEL = "N/A"
  WESTERNMOST_LONGITUDE = 208.249
END_OBJECT = IMAGE_MAP_PROJECTION
END
