PDS_VERSION_ID = PDS3
/* FILE DATA ELEMENTS */
RECORD_TYPE = UNDEFINED
/* POINTERS TO DATA OBJECTS */
^IMAGE = ("H8256_0000_ND4.TIF")
/* IDENTIFICATION DATA ELEMENTS */
DATA_SET_ID = "MEX-M-HRSC-4-REFDR-MAPPROJECT-EXT3-V4.0"
DATA_SET_NAME = "MARS EXPRESS HRSC MAP PROJECTED REFDR EXTENSION3 V4.0"
DETECTOR_ID = MEX_HRSC_NADIR
EVENT_TYPE = "MARS-REGIONAL-MAPPING-Gl-Pf"
INSTRUMENT_HOST_ID = MEX
INSTRUMENT_HOST_NAME = "MARS EXPRESS"
INSTRUMENT_ID = HRSC
INSTRUMENT_NAME = "HIGH RESOLUTION STEREO CAMERA"
MISSION_NAME = "MARS EXPRESS"
MISSION_PHASE_NAME = ME_Phase_20
PROCESSING_LEVEL_ID = 4
PRODUCT_CREATION_TIME = 2023-02-03T04:36:48.000Z
PRODUCT_ID = "H8256_0000_ND4.TIF"
RELEASE_ID = 0004
REVISION_ID = 0000
/* QUALITY DATA ELEMENTS */
DATA_QUALITY_ID = 1
DATA_QUALITY_DESC = "Data calculated based on original SPICE kernels"
/* TIME DATA ELEMENTS */
SPACECRAFT_CLOCK_START_COUNT = "1/0224580107.08407"
SPACECRAFT_CLOCK_STOP_COUNT = "1/0224580664.48509"
START_TIME = 2010-06-14T07:23:24.575Z
STOP_TIME = 2010-06-14T07:27:14.539Z
/* ORBITAL DATA ELEMENTS */
ASCENDING_NODE_LONGITUDE = 59.64
MAXIMUM_RESOLUTION = 0.0368
FOOTPRINT_POINT_LATITUDE = (42.0764,42.0875,42.0952,42.1012, 42.1064,42.1114,42.1155,42.1194,42.1211 ,42.1219,42.1203,42.1178,42.1174, 42.1187,42.3379,42.6687,42.8903,43.1135 ,43.3362,43.5583,43.7799,44.0008, 44.2212,44.4411,44.6603,44.879,45.0971, 45.3147,45.5316,45.748,45.9639,46.1792, 46.3939,46.608,46.8216,47.0346,47.2471, 47.6703,48.0913,48.51,48.9265,49.3408, 49.7529,50.1628,50.5705,50.976,51.3794, 51.7805,52.1795,52.5764,52.6753,52.6993 ,52.7044,52.704,52.7016,52.6979,52.6908 ,52.681,52.6686,52.6452,52.6132,52.584, 52.561,52.5575,52.5554,52.165,51.7723, 51.3772,50.9799,50.5802,50.1781,49.7738 ,49.367,48.958,48.5465,48.1327,47.7166, 47.298,46.8771,46.4538,46.2413,46.0282, 45.8145,45.6001,45.3852,45.1697,44.9536 ,44.7369,44.5196,44.3017,44.0832, 43.8641,43.6444,43.4241,43.2032,42.8707 ,42.5401,42.2117,42.1032,42.0764)
FOOTPRINT_POINT_LONGITUDE = (160.452,160.03,159.692,159.397,159.101 ,158.764,158.426,157.963,157.626, 157.161,156.612,156.231,156.188,156.132 ,156.115,156.09,156.073,156.055,156.037 ,156.02,156.002,155.984,155.966,155.948 ,155.929,155.911,155.892,155.873, 155.855,155.836,155.817,155.797,155.778 ,155.759,155.739,155.72,155.7,155.66, 155.62,155.579,155.537,155.495,155.453, 155.41,155.366,155.322,155.277,155.232, 155.186,155.139,155.128,155.125,156.034 ,156.594,157.082,157.5,158.057,158.614, 159.171,160.006,160.91,161.605,162.093, 162.162,162.196,162.107,162.02,161.935, 161.852,161.771,161.691,161.614,161.539 ,161.464,161.392,161.322,161.253, 161.185,161.119,161.055,161.023,160.992 ,160.961,160.931,160.901,160.871, 160.842,160.812,160.783,160.755,160.727 ,160.699,160.671,160.644,160.618, 160.578,160.539,160.502,160.49,160.452)
ORBIT_NUMBER = 8256
ORBITAL_ECCENTRICITY = 0.579
ORBITAL_INCLINATION = 86.83
ORBITAL_SEMIMAJOR_AXIS = 8853.45
PERIAPSIS_ALTITUDE = 333.16
PERIAPSIS_ARGUMENT_ANGLE = 351.48
PERIAPSIS_TIME = 2010-06-14T07:09:10.000Z
SPACECRAFT_ORIENTATION = (0.0,1.0,0.0)
^MEX_ORIENTATION_DESC = "MEX_ORIENTATION_DESC.TXT"
SPACECRAFT_POINTING_MODE = NADIR
^MEX_POINTING_DESC = "MEX_POINTING_DESC.TXT"
RIGHT_ASCENSION = -1e+32
DECLINATION = -1e+32
OFFSET_ANGLE = -1e+32
SPACECRAFT_SOLAR_DISTANCE = 2.45092e+08
TARGET_NAME = MARS
/* CAMERA DATA ELEMENTS */
DETECTOR_TEMPERATURE = 18.1666
FOCAL_PLANE_TEMPERATURE = 7.7677
INST_CMPRS_NAME = "DISCRETE COSINE TRANSFORMATION (DCT)"
INST_CMPRS_RATIO = 6.75652
INST_CMPRS_QUALITY = 0
INST_CMPRS_QUANTZ_TBL_ID = 0
INSTRUMENT_TEMPERATURE = 10.8262
LENS_TEMPERATURE = 8.1755
MACROPIXEL_SIZE = 1
MISSING_FRAMES = 0
PIXEL_SUBSAMPLING_FLAG = N
SIGNAL_CHAIN_ID = 0
/* RADIOMETRIC DATA ELEMENTS */
BANDWIDTH = 177.0
CENTER_FILTER_WAVELENGTH = 677.5
RADIANCE_OFFSET = 1.12417
RADIANCE_SCALING_FACTOR = 0.0154298
REFLECTANCE_SCALING_FACTOR = 0.000492378
MEX:REFLECTANCE_OFFSET = 0.0358733
/* IMAGE OBJECT DEFINITIONS */
OBJECT = IMAGE
  INTERCHANGE_FORMAT = BINARY
  LINES = 25197
  LINE_SAMPLES = 10180
  SAMPLE_TYPE = UNSIGNED_INTEGER
  SAMPLE_BITS = 8
  BANDS = 1
  BAND_STORAGE_TYPE = BAND_SEQUENTIAL
  MAXIMUM = 255
  MEAN = 79.9148
  MINIMUM = 1
  STANDARD_DEVIATION = 21.6006
END_OBJECT = IMAGE
/* MAP OBJECT DEFINITIONS */
OBJECT = IMAGE_MAP_PROJECTION
  ^DATA_SET_MAP_PROJECTION_CATALOG= "DSMAP.CAT"
  A_AXIS_RADIUS = 3396.0
  B_AXIS_RADIUS = 3396.0
  C_AXIS_RADIUS = 3396.0
  CENTER_LATITUDE = 0.0
  CENTER_LONGITUDE = 158.0
  COORDINATE_SYSTEM_NAME = PLANETOGRAPHIC
  COORDINATE_SYSTEM_TYPE = "BODY-FIXED ROTATING"
  EASTERNMOST_LONGITUDE = 162.196
  FIRST_STANDARD_PARALLEL = "N/A"
  LINE_FIRST_PIXEL = 1
  LINE_LAST_PIXEL = 25197
  LINE_PROJECTION_OFFSET = 124953.0
  MAP_PROJECTION_ROTATION = 0.0
  MAP_PROJECTION_TYPE = SINUSOIDAL
  MAP_RESOLUTION = 2370.85521546667
  MAP_SCALE = 0.025
  MAXIMUM_LATITUDE = 52.7044
  MINIMUM_LATITUDE = 42.0764
  POSITIVE_LONGITUDE_DIRECTION = EAST
  REFERENCE_LATITUDE = "N/A"
  REFERENCE_LONGITUDE = "N/A"
  SAMPLE_FIRST_PIXEL = 1
  SAMPLE_LAST_PIXEL = 10180
  SAMPLE_PROJECTION_OFFSET = 4130.0
  SECOND_STANDARD_PARALLEL = "N/A"
  WESTERNMOST_LONGITUDE = 155.125
END_OBJECT = IMAGE_MAP_PROJECTION
END
