PDS_VERSION_ID = PDS3
/* FILE DATA ELEMENTS */
RECORD_TYPE = UNDEFINED
/* POINTERS TO DATA OBJECTS */
^IMAGE = ("H8255_0000_IR4.TIF")
/* IDENTIFICATION DATA ELEMENTS */
DATA_SET_ID = "MEX-M-HRSC-4-REFDR-MAPPROJECT-EXT3-V4.0"
DATA_SET_NAME = "MARS EXPRESS HRSC MAP PROJECTED REFDR EXTENSION3 V4.0"
DETECTOR_ID = MEX_HRSC_IR
EVENT_TYPE = "MARS-REGIONAL-MAPPING-Vo-Te-Fl"
INSTRUMENT_HOST_ID = MEX
INSTRUMENT_HOST_NAME = "MARS EXPRESS"
INSTRUMENT_ID = HRSC
INSTRUMENT_NAME = "HIGH RESOLUTION STEREO CAMERA"
MISSION_NAME = "MARS EXPRESS"
MISSION_PHASE_NAME = ME_Phase_20
PROCESSING_LEVEL_ID = 4
PRODUCT_CREATION_TIME = 2023-02-03T04:36:48.000Z
PRODUCT_ID = "H8255_0000_IR4.TIF"
RELEASE_ID = 0004
REVISION_ID = 0000
/* QUALITY DATA ELEMENTS */
DATA_QUALITY_ID = 1
DATA_QUALITY_DESC = "Data calculated based on original SPICE kernels"
/* TIME DATA ELEMENTS */
SPACECRAFT_CLOCK_START_COUNT = "1/0224554824.08237"
SPACECRAFT_CLOCK_STOP_COUNT = "1/0224555635.55045"
START_TIME = 2010-06-14T00:23:04.990Z
STOP_TIME = 2010-06-14T00:32:46.994Z
/* ORBITAL DATA ELEMENTS */
ASCENDING_NODE_LONGITUDE = 59.66
MAXIMUM_RESOLUTION = 0.1453
FOOTPRINT_POINT_LATITUDE = (36.0416,36.0613,36.0719,36.0804, 36.0819,36.0799,36.0741,36.0736,36.0517 ,36.7651,37.4897,38.2235,38.9683, 39.7238,40.487,41.2607,42.0449,42.8428, 43.8591,44.4786,44.8942,45.3153,45.7386 ,46.1642,46.5944,47.0263,47.4628, 47.9031,48.3468,48.7932,49.2437,49.6975 ,50.1551,50.6163,51.0809,51.5495, 52.2499,52.7098,53.1649,53.6139,54.0588 ,54.4978,54.9316,55.3602,55.7842,56.203 ,56.617,56.8221,56.8492,56.8661,56.8705 ,56.8647,56.8521,56.8205,56.7647,56.724 ,56.6694,56.5915,56.4832,56.4741, 56.4694,55.673,55.2669,54.8553,54.438, 54.0146,53.5856,53.1525,52.7123,52.2672 ,51.8155,51.3579,50.6733,50.2199, 49.7693,49.3223,48.8779,48.4369,47.9988 ,47.5639,47.1318,46.7026,46.2766, 45.8529,45.4329,45.0157,44.6012,43.7822 ,42.975,42.1798,41.3964,40.624,39.8625, 39.1115,38.3697,37.6398,36.921,36.2109, 36.0355,36.0416)
FOOTPRINT_POINT_LONGITUDE = (262.4,261.668,261.11,260.344,259.822, 259.264,258.705,258.67,258.651,258.597, 258.54,258.48,258.417,258.351,258.279, 258.203,258.121,258.036,257.924,257.852 ,257.802,257.751,257.699,257.644, 257.588,257.529,257.469,257.408,257.344 ,257.277,257.209,257.138,257.064, 256.988,256.909,256.827,256.698,256.611 ,256.521,256.43,256.337,256.243,256.146 ,256.048,255.947,255.845,255.741, 255.688,255.681,256.795,257.915,258.828 ,259.638,260.851,262.262,263.067,263.97 ,265.071,266.369,266.469,266.501, 266.198,266.05,265.906,265.764,265.625, 265.49,265.356,265.226,265.098,264.973, 264.851,264.676,264.565,264.458,264.355 ,264.257,264.162,264.071,263.984, 263.899,263.818,263.74,263.665,263.593, 263.523,263.455,263.327,263.208,263.097 ,262.992,262.895,262.804,262.72,262.641 ,262.566,262.496,262.43,262.414,262.4)
ORBIT_NUMBER = 8255
ORBITAL_ECCENTRICITY = 0.58
ORBITAL_INCLINATION = 86.82
ORBITAL_SEMIMAJOR_AXIS = 8869.62
PERIAPSIS_ALTITUDE = 332.4
PERIAPSIS_ARGUMENT_ANGLE = 351.62
PERIAPSIS_TIME = 2010-06-14T00:09:31.000Z
SPACECRAFT_ORIENTATION = (0.0,1.0,0.0)
^MEX_ORIENTATION_DESC = "MEX_ORIENTATION_DESC.TXT"
SPACECRAFT_POINTING_MODE = NADIR
^MEX_POINTING_DESC = "MEX_POINTING_DESC.TXT"
RIGHT_ASCENSION = -1e+32
DECLINATION = -1e+32
OFFSET_ANGLE = -1e+32
SPACECRAFT_SOLAR_DISTANCE = 2.45123e+08
TARGET_NAME = MARS
/* CAMERA DATA ELEMENTS */
DETECTOR_TEMPERATURE = 17.1471
FOCAL_PLANE_TEMPERATURE = 7.7677
INST_CMPRS_NAME = "DISCRETE COSINE TRANSFORMATION (DCT)"
INST_CMPRS_RATIO = 6.23196
INST_CMPRS_QUALITY = 0
INST_CMPRS_QUANTZ_TBL_ID = 0
INSTRUMENT_TEMPERATURE = 10.8262
LENS_TEMPERATURE = 8.1755
MACROPIXEL_SIZE = 4
MISSING_FRAMES = 0
PIXEL_SUBSAMPLING_FLAG = N
SIGNAL_CHAIN_ID = 2
/* RADIOMETRIC DATA ELEMENTS */
BANDWIDTH = 81.0
CENTER_FILTER_WAVELENGTH = 955.5
RADIANCE_OFFSET = 0.199146
RADIANCE_SCALING_FACTOR = 0.0060592
REFLECTANCE_SCALING_FACTOR = 0.000785434
MEX:REFLECTANCE_OFFSET = 0.0258146
/* IMAGE OBJECT DEFINITIONS */
OBJECT = IMAGE
  INTERCHANGE_FORMAT = BINARY
  LINES = 12346
  LINE_SAMPLES = 2815
  SAMPLE_TYPE = UNSIGNED_INTEGER
  SAMPLE_BITS = 8
  BANDS = 1
  BAND_STORAGE_TYPE = BAND_SEQUENTIAL
  MAXIMUM = 255
  MEAN = 71.0022
  MINIMUM = 1
  STANDARD_DEVIATION = 15.8673
END_OBJECT = IMAGE
/* MAP OBJECT DEFINITIONS */
OBJECT = IMAGE_MAP_PROJECTION
  ^DATA_SET_MAP_PROJECTION_CATALOG= "DSMAP.CAT"
  A_AXIS_RADIUS = 3396.0
  B_AXIS_RADIUS = 3396.0
  C_AXIS_RADIUS = 3396.0
  CENTER_LATITUDE = 0.0
  CENTER_LONGITUDE = 261.0
  COORDINATE_SYSTEM_NAME = PLANETOGRAPHIC
  COORDINATE_SYSTEM_TYPE = "BODY-FIXED ROTATING"
  EASTERNMOST_LONGITUDE = 266.501
  FIRST_STANDARD_PARALLEL = "N/A"
  LINE_FIRST_PIXEL = 1
  LINE_LAST_PIXEL = 12346
  LINE_PROJECTION_OFFSET = 33698.875
  MAP_PROJECTION_ROTATION = 0.0
  MAP_PROJECTION_TYPE = SINUSOIDAL
  MAP_RESOLUTION = 592.713803866667
  MAP_SCALE = 0.1
  MAXIMUM_LATITUDE = 56.8705
  MINIMUM_LATITUDE = 36.0355
  POSITIVE_LONGITUDE_DIRECTION = EAST
  REFERENCE_LATITUDE = "N/A"
  REFERENCE_LONGITUDE = "N/A"
  SAMPLE_FIRST_PIXEL = 1
  SAMPLE_LAST_PIXEL = 2815
  SAMPLE_PROJECTION_OFFSET = 1323.625
  SECOND_STANDARD_PARALLEL = "N/A"
  WESTERNMOST_LONGITUDE = 255.681
END_OBJECT = IMAGE_MAP_PROJECTION
END
