PDS_VERSION_ID = PDS3
/* FILE DATA ELEMENTS */
RECORD_TYPE = UNDEFINED
/* POINTERS TO DATA OBJECTS */
^IMAGE = ("H8253_0000_RE4.TIF")
/* IDENTIFICATION DATA ELEMENTS */
DATA_SET_ID = "MEX-M-HRSC-4-REFDR-MAPPROJECT-EXT3-V4.0"
DATA_SET_NAME = "MARS EXPRESS HRSC MAP PROJECTED REFDR EXTENSION3 V4.0"
DETECTOR_ID = MEX_HRSC_RED
EVENT_TYPE = "MARS-LOCAL-COLOR-Pf-Ts"
INSTRUMENT_HOST_ID = MEX
INSTRUMENT_HOST_NAME = "MARS EXPRESS"
INSTRUMENT_ID = HRSC
INSTRUMENT_NAME = "HIGH RESOLUTION STEREO CAMERA"
MISSION_NAME = "MARS EXPRESS"
MISSION_PHASE_NAME = ME_Phase_20
PROCESSING_LEVEL_ID = 4
PRODUCT_CREATION_TIME = 2023-02-03T04:36:48.000Z
PRODUCT_ID = "H8253_0000_RE4.TIF"
RELEASE_ID = 0004
REVISION_ID = 0000
/* QUALITY DATA ELEMENTS */
DATA_QUALITY_ID = 1
DATA_QUALITY_DESC = "Data calculated based on original SPICE kernels"
/* TIME DATA ELEMENTS */
SPACECRAFT_CLOCK_START_COUNT = "1/0224504626.09052"
SPACECRAFT_CLOCK_STOP_COUNT = "1/0224505116.57963"
START_TIME = 2010-06-13T10:24:05.272Z
STOP_TIME = 2010-06-13T10:26:13.463Z
/* ORBITAL DATA ELEMENTS */
ASCENDING_NODE_LONGITUDE = 59.7
MAXIMUM_RESOLUTION = 0.1514
FOOTPRINT_POINT_LATITUDE = (45.8634,45.8719,45.8767,45.8809, 45.8844,45.8873,45.8896,45.8913,45.8923 ,45.8928,45.8927,45.8924,45.8913, 45.8901,45.8889,45.8886,45.9772,46.2371 ,46.4985,46.7617,47.0927,47.2917, 47.4928,47.7612,47.9634,48.2352,48.508, 48.7824,49.0584,49.406,49.6861,49.8974, 50.1804,50.4648,50.6078,50.7507,50.8948 ,51.0387,51.256,51.401,51.5471,51.693, 51.9117,52.0573,52.2025,52.3477,52.5653 ,52.7821,52.8544,52.9219,52.9224, 52.9224,52.9219,52.92,52.917,52.9127, 52.907,52.9001,52.8907,52.8847,52.8783, 52.8684,52.8576,52.8438,52.8365,52.8288 ,52.8268,52.8238,52.6811,52.5384, 52.3955,52.2523,52.109,51.9653,51.8214, 51.6776,51.4613,51.317,51.1021,50.9588, 50.8164,50.674,50.5325,50.1799,49.8298, 49.5515,49.2744,48.9991,48.7259,48.5218 ,48.1836,47.8477,47.5139,47.2485, 46.9853,46.5922,46.397,46.0731,46.0089, 45.8634)
FOOTPRINT_POINT_LONGITUDE = (108.532,108.022,107.683,107.346, 107.009,106.673,106.337,106.003,105.669 ,105.336,105.087,104.879,104.547, 104.297,104.09,104.048,104.013,103.999, 103.986,103.972,103.954,103.944,103.933 ,103.918,103.907,103.892,103.877, 103.862,103.846,103.827,103.811,103.798 ,103.782,103.765,103.757,103.748, 103.739,103.731,103.718,103.709,103.7, 103.691,103.678,103.668,103.659,103.65, 103.637,103.623,103.618,103.614,103.899 ,104.246,104.593,105.056,105.519, 105.983,106.447,106.912,107.437,107.729 ,108.021,108.43,108.841,109.311,109.547 ,109.783,109.842,109.861,109.828, 109.796,109.764,109.732,109.701,109.67, 109.639,109.608,109.563,109.533,109.489 ,109.459,109.431,109.403,109.375, 109.306,109.24,109.189,109.139,109.09, 109.042,109.007,108.95,108.894,108.84, 108.799,108.758,108.698,108.669,108.621 ,108.612,108.532)
ORBIT_NUMBER = 8253
ORBITAL_ECCENTRICITY = 0.579
ORBITAL_INCLINATION = 86.82
ORBITAL_SEMIMAJOR_AXIS = 8861.18
PERIAPSIS_ALTITUDE = 332.5
PERIAPSIS_ARGUMENT_ANGLE = 351.95
PERIAPSIS_TIME = 2010-06-13T10:10:11.000Z
SPACECRAFT_ORIENTATION = (0.0,1.0,0.0)
^MEX_ORIENTATION_DESC = "MEX_ORIENTATION_DESC.TXT"
SPACECRAFT_POINTING_MODE = ACROSSTRACK
^MEX_POINTING_DESC = "MEX_POINTING_DESC.TXT"
RIGHT_ASCENSION = -1e+32
DECLINATION = -1e+32
OFFSET_ANGLE = -0.687
SPACECRAFT_SOLAR_DISTANCE = 2.45185e+08
TARGET_NAME = MARS
/* CAMERA DATA ELEMENTS */
DETECTOR_TEMPERATURE = 18.5744
FOCAL_PLANE_TEMPERATURE = 7.9716
INST_CMPRS_NAME = "DISCRETE COSINE TRANSFORMATION (DCT)"
INST_CMPRS_RATIO = 30.395
INST_CMPRS_QUALITY = 0
INST_CMPRS_QUANTZ_TBL_ID = 0
INSTRUMENT_TEMPERATURE = 11.0301
LENS_TEMPERATURE = 8.3794
MACROPIXEL_SIZE = 4
MISSING_FRAMES = 0
PIXEL_SUBSAMPLING_FLAG = N
SIGNAL_CHAIN_ID = 2
/* RADIOMETRIC DATA ELEMENTS */
BANDWIDTH = 48.0
CENTER_FILTER_WAVELENGTH = 748.0
RADIANCE_OFFSET = 0.383003
RADIANCE_SCALING_FACTOR = 0.00136945
REFLECTANCE_SCALING_FACTOR = 0.00018787
MEX:REFLECTANCE_OFFSET = 0.0525429
/* IMAGE OBJECT DEFINITIONS */
OBJECT = IMAGE
  INTERCHANGE_FORMAT = BINARY
  LINES = 2096
  LINE_SAMPLES = 1266
  SAMPLE_TYPE = UNSIGNED_INTEGER
  SAMPLE_BITS = 8
  BANDS = 1
  BAND_STORAGE_TYPE = BAND_SEQUENTIAL
  MAXIMUM = 255
  MEAN = 111.167
  MINIMUM = 2
  STANDARD_DEVIATION = 30.979
END_OBJECT = IMAGE
/* MAP OBJECT DEFINITIONS */
OBJECT = IMAGE_MAP_PROJECTION
  ^DATA_SET_MAP_PROJECTION_CATALOG= "DSMAP.CAT"
  A_AXIS_RADIUS = 3396.0
  B_AXIS_RADIUS = 3396.0
  C_AXIS_RADIUS = 3396.0
  CENTER_LATITUDE = 0.0
  CENTER_LONGITUDE = 106.0
  COORDINATE_SYSTEM_NAME = PLANETOGRAPHIC
  COORDINATE_SYSTEM_TYPE = "BODY-FIXED ROTATING"
  EASTERNMOST_LONGITUDE = 109.861
  FIRST_STANDARD_PARALLEL = "N/A"
  LINE_FIRST_PIXEL = 1
  LINE_LAST_PIXEL = 2096
  LINE_PROJECTION_OFFSET = 15685.875
  MAP_PROJECTION_ROTATION = 0.0
  MAP_PROJECTION_TYPE = SINUSOIDAL
  MAP_RESOLUTION = 296.356901933333
  MAP_SCALE = 0.2
  MAXIMUM_LATITUDE = 52.9224
  MINIMUM_LATITUDE = 45.8634
  POSITIVE_LONGITUDE_DIRECTION = EAST
  REFERENCE_LATITUDE = "N/A"
  REFERENCE_LONGITUDE = "N/A"
  SAMPLE_FIRST_PIXEL = 1
  SAMPLE_LAST_PIXEL = 1266
  SAMPLE_PROJECTION_OFFSET = 496.375
  SECOND_STANDARD_PARALLEL = "N/A"
  WESTERNMOST_LONGITUDE = 103.614
END_OBJECT = IMAGE_MAP_PROJECTION
END
