PDS_VERSION_ID = PDS3
/* FILE DATA ELEMENTS */
RECORD_TYPE = UNDEFINED
/* POINTERS TO DATA OBJECTS */
^IMAGE = ("H8253_0000_ND4.TIF")
/* IDENTIFICATION DATA ELEMENTS */
DATA_SET_ID = "MEX-M-HRSC-4-REFDR-MAPPROJECT-EXT3-V4.0"
DATA_SET_NAME = "MARS EXPRESS HRSC MAP PROJECTED REFDR EXTENSION3 V4.0"
DETECTOR_ID = MEX_HRSC_NADIR
EVENT_TYPE = "MARS-LOCAL-COLOR-Pf-Ts"
INSTRUMENT_HOST_ID = MEX
INSTRUMENT_HOST_NAME = "MARS EXPRESS"
INSTRUMENT_ID = HRSC
INSTRUMENT_NAME = "HIGH RESOLUTION STEREO CAMERA"
MISSION_NAME = "MARS EXPRESS"
MISSION_PHASE_NAME = ME_Phase_20
PROCESSING_LEVEL_ID = 4
PRODUCT_CREATION_TIME = 2023-02-03T04:36:48.000Z
PRODUCT_ID = "H8253_0000_ND4.TIF"
RELEASE_ID = 0004
REVISION_ID = 0000
/* QUALITY DATA ELEMENTS */
DATA_QUALITY_ID = 1
DATA_QUALITY_DESC = "Data calculated based on original SPICE kernels"
/* TIME DATA ELEMENTS */
SPACECRAFT_CLOCK_START_COUNT = "1/0224504626.09052"
SPACECRAFT_CLOCK_STOP_COUNT = "1/0224505116.57963"
START_TIME = 2010-06-13T10:25:35.570Z
STOP_TIME = 2010-06-13T10:28:09.561Z
/* ORBITAL DATA ELEMENTS */
ASCENDING_NODE_LONGITUDE = 59.7
MAXIMUM_RESOLUTION = 0.0403
FOOTPRINT_POINT_LATITUDE = (45.8618,45.8767,45.8922,45.9064, 45.9192,45.9306,45.9407,45.9493,45.9566 ,45.9638,45.968,45.97,45.9717,45.9727, 45.9728,45.9749,46.2613,46.4048,46.5493 ,46.7657,46.9097,47.0534,47.1969, 47.3401,47.6257,47.9104,48.194,48.4766, 48.7583,49.0389,49.3185,49.5971,49.8747 ,50.1514,50.427,50.7016,50.9753,51.248, 51.5197,51.7904,52.0602,52.3289,52.5967 ,52.8636,52.9301,52.9311,52.9305, 52.9292,52.9262,52.9233,52.9198,52.9156 ,52.9108,52.9039,52.8977,52.8908, 52.8832,52.875,52.8661,52.8566,52.8465, 52.8356,52.8241,52.8119,52.7958,52.7821 ,52.7678,52.7528,52.7371,52.7207, 52.7165,52.7139,52.4525,52.1899,51.9263 ,51.6617,51.396,51.1292,50.8613,50.5924 ,50.3224,50.0514,49.7792,49.506,49.2317 ,48.9564,48.68,48.4024,48.1238,47.8442, 47.5634,47.2816,46.9987,46.7147,46.5723 ,46.4296,46.1449,45.9322,45.8616, 45.8618)
FOOTPRINT_POINT_LONGITUDE = (108.797,108.447,108.048,107.651, 107.254,106.858,106.462,106.068,105.674 ,105.183,104.79,104.545,104.25,103.858, 103.809,103.759,103.739,103.73,103.72, 103.705,103.695,103.684,103.674,103.664 ,103.644,103.623,103.602,103.582,103.56 ,103.539,103.518,103.496,103.475, 103.453,103.431,103.408,103.386,103.364 ,103.341,103.318,103.295,103.272, 103.248,103.224,103.218,103.218,103.494 ,103.771,104.188,104.465,104.743,105.02 ,105.297,105.644,105.921,106.199, 106.476,106.754,107.032,107.311,107.589 ,107.868,108.147,108.426,108.775, 109.054,109.334,109.614,109.894,110.175 ,110.245,110.279,110.211,110.145, 110.079,110.014,109.951,109.888,109.826 ,109.765,109.705,109.646,109.588,109.53 ,109.473,109.418,109.363,109.309, 109.256,109.204,109.152,109.101,109.051 ,109.002,108.978,108.954,108.906, 108.871,108.86,108.797)
ORBIT_NUMBER = 8253
ORBITAL_ECCENTRICITY = 0.579
ORBITAL_INCLINATION = 86.82
ORBITAL_SEMIMAJOR_AXIS = 8861.18
PERIAPSIS_ALTITUDE = 332.5
PERIAPSIS_ARGUMENT_ANGLE = 351.95
PERIAPSIS_TIME = 2010-06-13T10:10:11.000Z
SPACECRAFT_ORIENTATION = (0.0,1.0,0.0)
^MEX_ORIENTATION_DESC = "MEX_ORIENTATION_DESC.TXT"
SPACECRAFT_POINTING_MODE = ACROSSTRACK
^MEX_POINTING_DESC = "MEX_POINTING_DESC.TXT"
RIGHT_ASCENSION = -1e+32
DECLINATION = -1e+32
OFFSET_ANGLE = -0.687
SPACECRAFT_SOLAR_DISTANCE = 2.45185e+08
TARGET_NAME = MARS
/* CAMERA DATA ELEMENTS */
DETECTOR_TEMPERATURE = 18.1666
FOCAL_PLANE_TEMPERATURE = 7.9716
INST_CMPRS_NAME = "DISCRETE COSINE TRANSFORMATION (DCT)"
INST_CMPRS_RATIO = 6.82811
INST_CMPRS_QUALITY = 0
INST_CMPRS_QUANTZ_TBL_ID = 0
INSTRUMENT_TEMPERATURE = 11.0301
LENS_TEMPERATURE = 8.3794
MACROPIXEL_SIZE = 1
MISSING_FRAMES = 0
PIXEL_SUBSAMPLING_FLAG = N
SIGNAL_CHAIN_ID = 0
/* RADIOMETRIC DATA ELEMENTS */
BANDWIDTH = 177.0
CENTER_FILTER_WAVELENGTH = 677.5
RADIANCE_OFFSET = 1.27389
RADIANCE_SCALING_FACTOR = 0.00516216
REFLECTANCE_SCALING_FACTOR = 0.000164854
MEX:REFLECTANCE_OFFSET = 0.0406818
/* IMAGE OBJECT DEFINITIONS */
OBJECT = IMAGE
  INTERCHANGE_FORMAT = BINARY
  LINES = 8382
  LINE_SAMPLES = 5061
  SAMPLE_TYPE = UNSIGNED_INTEGER
  SAMPLE_BITS = 8
  BANDS = 1
  BAND_STORAGE_TYPE = BAND_SEQUENTIAL
  MAXIMUM = 255
  MEAN = 113.477
  MINIMUM = 1
  STANDARD_DEVIATION = 28.1025
END_OBJECT = IMAGE
/* MAP OBJECT DEFINITIONS */
OBJECT = IMAGE_MAP_PROJECTION
  ^DATA_SET_MAP_PROJECTION_CATALOG= "DSMAP.CAT"
  A_AXIS_RADIUS = 3396.0
  B_AXIS_RADIUS = 3396.0
  C_AXIS_RADIUS = 3396.0
  CENTER_LATITUDE = 0.0
  CENTER_LONGITUDE = 106.0
  COORDINATE_SYSTEM_NAME = PLANETOGRAPHIC
  COORDINATE_SYSTEM_TYPE = "BODY-FIXED ROTATING"
  EASTERNMOST_LONGITUDE = 110.279
  FIRST_STANDARD_PARALLEL = "N/A"
  LINE_FIRST_PIXEL = 1
  LINE_LAST_PIXEL = 8382
  LINE_PROJECTION_OFFSET = 62745.0
  MAP_PROJECTION_ROTATION = 0.0
  MAP_PROJECTION_TYPE = SINUSOIDAL
  MAP_RESOLUTION = 1185.42760773333
  MAP_SCALE = 0.05
  MAXIMUM_LATITUDE = 52.9311
  MINIMUM_LATITUDE = 45.8616
  POSITIVE_LONGITUDE_DIRECTION = EAST
  REFERENCE_LATITUDE = "N/A"
  REFERENCE_LONGITUDE = "N/A"
  SAMPLE_FIRST_PIXEL = 1
  SAMPLE_LAST_PIXEL = 5061
  SAMPLE_PROJECTION_OFFSET = 1987.0
  SECOND_STANDARD_PARALLEL = "N/A"
  WESTERNMOST_LONGITUDE = 103.218
END_OBJECT = IMAGE_MAP_PROJECTION
END
