PDS_VERSION_ID = PDS3
/* FILE DATA ELEMENTS */
RECORD_TYPE = UNDEFINED
/* POINTERS TO DATA OBJECTS */
^IMAGE = ("H8252_0000_ND4.TIF")
/* IDENTIFICATION DATA ELEMENTS */
DATA_SET_ID = "MEX-M-HRSC-4-REFDR-MAPPROJECT-EXT3-V4.0"
DATA_SET_NAME = "MARS EXPRESS HRSC MAP PROJECTED REFDR EXTENSION3 V4.0"
DETECTOR_ID = MEX_HRSC_NADIR
EVENT_TYPE = "MARS-REGIONAL-MAPPING-Vo-Im-Pf"
INSTRUMENT_HOST_ID = MEX
INSTRUMENT_HOST_NAME = "MARS EXPRESS"
INSTRUMENT_ID = HRSC
INSTRUMENT_NAME = "HIGH RESOLUTION STEREO CAMERA"
MISSION_NAME = "MARS EXPRESS"
MISSION_PHASE_NAME = ME_Phase_20
PROCESSING_LEVEL_ID = 4
PRODUCT_CREATION_TIME = 2023-02-03T04:36:48.000Z
PRODUCT_ID = "H8252_0000_ND4.TIF"
RELEASE_ID = 0004
REVISION_ID = 0000
/* QUALITY DATA ELEMENTS */
DATA_QUALITY_ID = 1
DATA_QUALITY_DESC = "Data calculated based on original SPICE kernels"
/* TIME DATA ELEMENTS */
SPACECRAFT_CLOCK_START_COUNT = "1/0224479358.09057"
SPACECRAFT_CLOCK_STOP_COUNT = "1/0224480027.55374"
START_TIME = 2010-06-13T03:24:09.947Z
STOP_TIME = 2010-06-13T03:29:27.948Z
/* ORBITAL DATA ELEMENTS */
ASCENDING_NODE_LONGITUDE = 59.73
MAXIMUM_RESOLUTION = 0.0352
FOOTPRINT_POINT_LATITUDE = (40.9994,41.016,41.0259,41.034,41.0391, 41.0399,41.0365,41.0362,41.0375,41.5413 ,42.0513,42.5664,43.0881,43.6153, 44.1481,44.6874,45.2327,45.7843,46.3422 ,46.9069,47.1915,47.4778,47.7658, 48.0557,48.3473,48.6405,48.9355,49.2324 ,49.5308,49.8314,50.1337,50.4377, 50.7437,51.0515,51.3615,51.6733,51.9868 ,52.3027,52.6204,52.94,53.2618,53.5853, 53.9111,54.2387,54.5688,54.9007,55.4026 ,55.571,55.6005,55.6047,55.6019,55.5904 ,55.5723,55.556,55.5339,55.5138,55.47, 55.4429,55.4131,55.4087,55.4059,54.9113 ,54.5843,54.2589,53.9355,53.6139, 53.2944,52.9765,52.6606,52.3464,52.034, 51.7236,51.4149,51.1079,50.8031,50.4998 ,50.198,49.8984,49.6005,49.3043,49.0097 ,48.7166,48.4253,48.1357,47.8476, 47.5613,46.9938,46.4321,45.8769,45.3278 ,44.7853,44.2482,43.7171,43.1915, 42.6719,42.1575,41.6493,41.1462,41.0215 ,40.9994)
FOOTPRINT_POINT_LONGITUDE = (209.494,208.78,208.226,207.593,206.841 ,206.406,205.533,205.493,205.439, 205.404,205.367,205.329,205.289,205.248 ,205.207,205.163,205.119,205.073, 205.025,204.975,204.95,204.924,204.898, 204.871,204.844,204.816,204.787,204.759 ,204.729,204.699,204.669,204.637, 204.606,204.573,204.54,204.506,204.472, 204.437,204.4,204.364,204.326,204.288, 204.249,204.208,204.167,204.125,204.06, 204.038,204.034,205.308,205.944,206.975 ,207.925,208.558,209.27,209.823,210.849 ,211.401,211.953,212.032,212.071, 211.932,211.843,211.757,211.673,211.592 ,211.514,211.438,211.365,211.292, 211.223,211.155,211.089,211.025,210.962 ,210.902,210.843,210.785,210.73,210.676 ,210.623,210.571,210.521,210.472, 210.424,210.378,210.289,210.203,210.122 ,210.045,209.972,209.902,209.835, 209.772,209.711,209.652,209.597,209.544 ,209.531,209.494)
ORBIT_NUMBER = 8252
ORBITAL_ECCENTRICITY = 0.579
ORBITAL_INCLINATION = 86.84
ORBITAL_SEMIMAJOR_AXIS = 8855.43
PERIAPSIS_ALTITUDE = 332.98
PERIAPSIS_ARGUMENT_ANGLE = 352.13
PERIAPSIS_TIME = 2010-06-13T03:10:30.000Z
SPACECRAFT_ORIENTATION = (0.0,1.0,0.0)
^MEX_ORIENTATION_DESC = "MEX_ORIENTATION_DESC.TXT"
SPACECRAFT_POINTING_MODE = NADIR
^MEX_POINTING_DESC = "MEX_POINTING_DESC.TXT"
RIGHT_ASCENSION = -1e+32
DECLINATION = -1e+32
OFFSET_ANGLE = -1e+32
SPACECRAFT_SOLAR_DISTANCE = 2.45216e+08
TARGET_NAME = MARS
/* CAMERA DATA ELEMENTS */
DETECTOR_TEMPERATURE = 18.1666
FOCAL_PLANE_TEMPERATURE = 7.7677
INST_CMPRS_NAME = "DISCRETE COSINE TRANSFORMATION (DCT)"
INST_CMPRS_RATIO = 6.79742
INST_CMPRS_QUALITY = 0
INST_CMPRS_QUANTZ_TBL_ID = 0
INSTRUMENT_TEMPERATURE = 11.0301
LENS_TEMPERATURE = 8.1755
MACROPIXEL_SIZE = 1
MISSING_FRAMES = 0
PIXEL_SUBSAMPLING_FLAG = N
SIGNAL_CHAIN_ID = 0
/* RADIOMETRIC DATA ELEMENTS */
BANDWIDTH = 177.0
CENTER_FILTER_WAVELENGTH = 677.5
RADIANCE_OFFSET = 1.58093
RADIANCE_SCALING_FACTOR = 0.00823547
REFLECTANCE_SCALING_FACTOR = 0.000263068
MEX:REFLECTANCE_OFFSET = 0.0505001
/* IMAGE OBJECT DEFINITIONS */
OBJECT = IMAGE
  INTERCHANGE_FORMAT = BINARY
  LINES = 34626
  LINE_SAMPLES = 10792
  SAMPLE_TYPE = UNSIGNED_INTEGER
  SAMPLE_BITS = 8
  BANDS = 1
  BAND_STORAGE_TYPE = BAND_SEQUENTIAL
  MAXIMUM = 255
  MEAN = 120.297
  MINIMUM = 1
  STANDARD_DEVIATION = 34.1861
END_OBJECT = IMAGE
/* MAP OBJECT DEFINITIONS */
OBJECT = IMAGE_MAP_PROJECTION
  ^DATA_SET_MAP_PROJECTION_CATALOG= "DSMAP.CAT"
  A_AXIS_RADIUS = 3396.0
  B_AXIS_RADIUS = 3396.0
  C_AXIS_RADIUS = 3396.0
  CENTER_LATITUDE = 0.0
  CENTER_LONGITUDE = 208.0
  COORDINATE_SYSTEM_NAME = PLANETOGRAPHIC
  COORDINATE_SYSTEM_TYPE = "BODY-FIXED ROTATING"
  EASTERNMOST_LONGITUDE = 212.071
  FIRST_STANDARD_PARALLEL = "N/A"
  LINE_FIRST_PIXEL = 1
  LINE_LAST_PIXEL = 34626
  LINE_PROJECTION_OFFSET = 131829.0
  MAP_PROJECTION_ROTATION = 0.0
  MAP_PROJECTION_TYPE = SINUSOIDAL
  MAP_RESOLUTION = 2370.85521546667
  MAP_SCALE = 0.025
  MAXIMUM_LATITUDE = 55.6047
  MINIMUM_LATITUDE = 40.9994
  POSITIVE_LONGITUDE_DIRECTION = EAST
  REFERENCE_LATITUDE = "N/A"
  REFERENCE_LONGITUDE = "N/A"
  SAMPLE_FIRST_PIXEL = 1
  SAMPLE_LAST_PIXEL = 10792
  SAMPLE_PROJECTION_OFFSET = 5311.0
  SECOND_STANDARD_PARALLEL = "N/A"
  WESTERNMOST_LONGITUDE = 204.034
END_OBJECT = IMAGE_MAP_PROJECTION
END
