PDS_VERSION_ID = PDS3
/* FILE DATA ELEMENTS */
RECORD_TYPE = UNDEFINED
/* POINTERS TO DATA OBJECTS */
^IMAGE = ("H8241_0000_GR4.TIF")
/* IDENTIFICATION DATA ELEMENTS */
DATA_SET_ID = "MEX-M-HRSC-4-REFDR-MAPPROJECT-EXT3-V4.0"
DATA_SET_NAME = "MARS EXPRESS HRSC MAP PROJECTED REFDR EXTENSION3 V4.0"
DETECTOR_ID = MEX_HRSC_GREEN
EVENT_TYPE = "MARS-REGIONAL-MAPPING-Vo-Te-Fl"
INSTRUMENT_HOST_ID = MEX
INSTRUMENT_HOST_NAME = "MARS EXPRESS"
INSTRUMENT_ID = HRSC
INSTRUMENT_NAME = "HIGH RESOLUTION STEREO CAMERA"
MISSION_NAME = "MARS EXPRESS"
MISSION_PHASE_NAME = ME_Phase_20
PROCESSING_LEVEL_ID = 4
PRODUCT_CREATION_TIME = 2023-02-03T04:36:48.000Z
PRODUCT_ID = "H8241_0000_GR4.TIF"
RELEASE_ID = 0004
REVISION_ID = 0000
/* QUALITY DATA ELEMENTS */
DATA_QUALITY_ID = 1
DATA_QUALITY_DESC = "Data calculated based on original SPICE kernels"
/* TIME DATA ELEMENTS */
SPACECRAFT_CLOCK_START_COUNT = "1/0224202413.07299"
SPACECRAFT_CLOCK_STOP_COUNT = "1/0224203208.61825"
START_TIME = 2010-06-09T22:28:48.137Z
STOP_TIME = 2010-06-09T22:35:28.977Z
/* ORBITAL DATA ELEMENTS */
ASCENDING_NODE_LONGITUDE = 59.94
MAXIMUM_RESOLUTION = 0.148
FOOTPRINT_POINT_LATITUDE = (44.181,44.2038,44.2257,44.2356,44.2476 ,44.2492,44.2476,44.2473,44.2452, 44.8393,45.4399,46.0476,46.664,47.2881, 47.9203,48.5612,49.2111,49.8695,50.5372 ,50.8742,51.2139,51.5556,51.8998, 52.2462,52.595,52.9462,53.2999,53.6559, 54.0148,54.376,54.7395,55.1022,55.4629, 55.8217,56.1784,56.5332,56.8861,57.237, 57.586,57.9331,58.2782,58.6213,58.9628, 59.3023,59.64,60.3097,60.9721,61.1366, 61.1754,61.1789,61.1774,61.171,61.1597, 61.1435,61.1225,61.0966,61.0574,61.0005 ,60.9564,60.9012,60.8253,60.8179, 60.8134,60.1748,59.5277,58.8725,58.2086 ,57.8735,57.5362,57.1969,56.8554, 56.5118,56.1661,55.8181,55.4681,55.1159 ,54.7615,54.4049,54.0488,53.6949, 53.3436,52.9942,52.6472,52.3026,51.9599 ,51.6194,51.2812,50.6107,49.9489, 49.2957,48.6507,48.0138,47.3844,46.7635 ,46.1502,45.5449,44.947,44.3561,44.2092 ,44.181)
FOOTPRINT_POINT_LONGITUDE = (255.002,254.294,253.42,252.879,251.755 ,251.088,250.586,250.545,250.523, 250.478,250.43,250.376,250.323,250.267, 250.209,250.15,250.089,250.026,249.961, 249.927,249.892,249.857,249.82,249.783, 249.745,249.706,249.666,249.625,249.584 ,249.541,249.497,249.452,249.406,249.36 ,249.313,249.266,249.218,249.17,249.12, 249.07,249.019,248.967,248.915,248.862, 248.808,248.698,248.584,248.555,248.548 ,249.444,250.147,250.947,251.746, 252.543,253.338,254.132,255.124,256.311 ,257.1,257.986,259.067,259.165,259.197, 258.916,258.647,258.389,258.141,258.022 ,257.905,257.79,257.678,257.567,257.46, 257.354,257.251,257.15,257.051,256.955, 256.86,256.769,256.681,256.596,256.514, 256.434,256.357,256.282,256.209,256.071 ,255.941,255.818,255.702,255.592, 255.489,255.39,255.297,255.207,255.122, 255.042,255.023,255.002)
ORBIT_NUMBER = 8241
ORBITAL_ECCENTRICITY = 0.58
ORBITAL_INCLINATION = 86.81
ORBITAL_SEMIMAJOR_AXIS = 8872.64
PERIAPSIS_ALTITUDE = 333.45
PERIAPSIS_ARGUMENT_ANGLE = 354.03
PERIAPSIS_TIME = 2010-06-09T22:14:23.000Z
SPACECRAFT_ORIENTATION = (0.0,1.0,0.0)
^MEX_ORIENTATION_DESC = "MEX_ORIENTATION_DESC.TXT"
SPACECRAFT_POINTING_MODE = NADIR
^MEX_POINTING_DESC = "MEX_POINTING_DESC.TXT"
RIGHT_ASCENSION = -1e+32
DECLINATION = -1e+32
OFFSET_ANGLE = -1e+32
SPACECRAFT_SOLAR_DISTANCE = 2.45548e+08
TARGET_NAME = MARS
/* CAMERA DATA ELEMENTS */
DETECTOR_TEMPERATURE = 18.1666
FOCAL_PLANE_TEMPERATURE = 6.7482
INST_CMPRS_NAME = "DISCRETE COSINE TRANSFORMATION (DCT)"
INST_CMPRS_RATIO = 10.7792
INST_CMPRS_QUALITY = 0
INST_CMPRS_QUANTZ_TBL_ID = 0
INSTRUMENT_TEMPERATURE = 11.0301
LENS_TEMPERATURE = 8.1755
MACROPIXEL_SIZE = 4
MISSING_FRAMES = 0
PIXEL_SUBSAMPLING_FLAG = N
SIGNAL_CHAIN_ID = 2
/* RADIOMETRIC DATA ELEMENTS */
BANDWIDTH = 88.0
CENTER_FILTER_WAVELENGTH = 538.0
RADIANCE_OFFSET = 0.305019
RADIANCE_SCALING_FACTOR = 0.00478461
REFLECTANCE_SCALING_FACTOR = 0.000248374
MEX:REFLECTANCE_OFFSET = 0.0158338
/* IMAGE OBJECT DEFINITIONS */
OBJECT = IMAGE
  INTERCHANGE_FORMAT = BINARY
  LINES = 10075
  LINE_SAMPLES = 2965
  SAMPLE_TYPE = UNSIGNED_INTEGER
  SAMPLE_BITS = 8
  BANDS = 1
  BAND_STORAGE_TYPE = BAND_SEQUENTIAL
  MAXIMUM = 255
  MEAN = 100.445
  MINIMUM = 1
  STANDARD_DEVIATION = 16.45
END_OBJECT = IMAGE
/* MAP OBJECT DEFINITIONS */
OBJECT = IMAGE_MAP_PROJECTION
  ^DATA_SET_MAP_PROJECTION_CATALOG= "DSMAP.CAT"
  A_AXIS_RADIUS = 3396.0
  B_AXIS_RADIUS = 3396.0
  C_AXIS_RADIUS = 3396.0
  CENTER_LATITUDE = 0.0
  CENTER_LONGITUDE = 253.0
  COORDINATE_SYSTEM_NAME = PLANETOGRAPHIC
  COORDINATE_SYSTEM_TYPE = "BODY-FIXED ROTATING"
  EASTERNMOST_LONGITUDE = 259.197
  FIRST_STANDARD_PARALLEL = "N/A"
  LINE_FIRST_PIXEL = 1
  LINE_LAST_PIXEL = 10075
  LINE_PROJECTION_OFFSET = 36249.625
  MAP_PROJECTION_ROTATION = 0.0
  MAP_PROJECTION_TYPE = SINUSOIDAL
  MAP_RESOLUTION = 592.713803866667
  MAP_SCALE = 0.1
  MAXIMUM_LATITUDE = 61.1789
  MINIMUM_LATITUDE = 44.181
  POSITIVE_LONGITUDE_DIRECTION = EAST
  REFERENCE_LATITUDE = "N/A"
  REFERENCE_LONGITUDE = "N/A"
  SAMPLE_FIRST_PIXEL = 1
  SAMPLE_LAST_PIXEL = 2965
  SAMPLE_PROJECTION_OFFSET = 1229.375
  SECOND_STANDARD_PARALLEL = "N/A"
  WESTERNMOST_LONGITUDE = 248.548
END_OBJECT = IMAGE_MAP_PROJECTION
END
