PDS_VERSION_ID = PDS3
/* FILE DATA ELEMENTS */
RECORD_TYPE = UNDEFINED
/* POINTERS TO DATA OBJECTS */
^IMAGE = ("H8223_0000_S24.TIF")
/* IDENTIFICATION DATA ELEMENTS */
DATA_SET_ID = "MEX-M-HRSC-4-REFDR-MAPPROJECT-EXT3-V4.0"
DATA_SET_NAME = "MARS EXPRESS HRSC MAP PROJECTED REFDR EXTENSION3 V4.0"
DETECTOR_ID = MEX_HRSC_S2
EVENT_TYPE = "MARS-REGIONAL-MAPPING-Vo-Te-Pf"
INSTRUMENT_HOST_ID = MEX
INSTRUMENT_HOST_NAME = "MARS EXPRESS"
INSTRUMENT_ID = HRSC
INSTRUMENT_NAME = "HIGH RESOLUTION STEREO CAMERA"
MISSION_NAME = "MARS EXPRESS"
MISSION_PHASE_NAME = ME_Phase_20
PROCESSING_LEVEL_ID = 4
PRODUCT_CREATION_TIME = 2023-02-03T04:36:48.000Z
PRODUCT_ID = "H8223_0000_S24.TIF"
RELEASE_ID = 0004
REVISION_ID = 0000
/* QUALITY DATA ELEMENTS */
DATA_QUALITY_ID = 1
DATA_QUALITY_DESC = "Data calculated based on original SPICE kernels"
/* TIME DATA ELEMENTS */
SPACECRAFT_CLOCK_START_COUNT = "1/0223749280.08252"
SPACECRAFT_CLOCK_STOP_COUNT = "1/0223750100.45329"
START_TIME = 2010-06-04T16:34:42.707Z
STOP_TIME = 2010-06-04T16:38:54.893Z
/* ORBITAL DATA ELEMENTS */
ASCENDING_NODE_LONGITUDE = 60.28
MAXIMUM_RESOLUTION = 0.0802
FOOTPRINT_POINT_LATITUDE = (53.276,53.3004,53.3263,53.3439,53.3576 ,53.3675,53.3743,53.3744,53.4951, 53.9695,54.4495,54.8125,55.3007,55.7937 ,56.2929,56.7963,57.3054,57.8195, 58.3403,58.8662,59.3982,59.9364,60.2074 ,60.48,60.754,61.0296,61.3067,61.5855, 61.8657,62.1479,62.4315,62.7166,63.0036 ,63.2922,63.5821,63.8739,64.1676, 64.4631,64.7598,65.0591,65.3597,65.6623 ,65.9664,66.2724,66.5801,66.8898, 67.0455,67.0485,67.046,67.0372,67.016, 67.0001,66.969,66.9418,66.9103,66.8798, 66.8463,66.8042,66.7074,66.7009,66.697, 66.3964,66.0971,65.7993,65.5032,65.2084 ,64.9148,64.623,64.333,64.0443,63.7571, 63.4713,63.187,62.9044,62.6232,62.3437, 62.0651,61.7881,61.5126,61.2387,60.9658 ,60.6946,60.425,59.8891,59.3592,58.8348 ,58.3148,57.8007,57.2915,56.7881, 56.2892,55.7954,55.428,54.9426,54.582, 54.2234,53.867,53.5125,53.3952,53.276)
FOOTPRINT_POINT_LONGITUDE = (297.151,296.36,295.358,294.514,293.671 ,292.826,291.766,291.713,291.635, 291.601,291.566,291.54,291.503,291.466, 291.427,291.387,291.346,291.304,291.259 ,291.214,291.167,291.118,291.092, 291.067,291.041,291.014,290.987,290.959 ,290.931,290.902,290.873,290.843, 290.812,290.781,290.749,290.716,290.683 ,290.648,290.613,290.577,290.541, 290.503,290.465,290.425,290.385,290.343 ,290.322,290.322,291.113,292.246, 293.715,294.503,295.738,296.635,297.531 ,298.313,299.094,299.985,301.761, 301.872,301.911,301.732,301.558,301.391 ,301.23,301.073,300.922,300.776,300.635 ,300.498,300.365,300.237,300.112, 299.992,299.875,299.761,299.651,299.544 ,299.44,299.339,299.24,299.145,299.052, 298.874,298.706,298.546,298.395,298.251 ,298.114,297.984,297.86,297.741,297.656 ,297.547,297.469,297.393,297.32,297.248 ,297.225,297.151)
ORBIT_NUMBER = 8223
ORBITAL_ECCENTRICITY = 0.579
ORBITAL_INCLINATION = 86.82
ORBITAL_SEMIMAJOR_AXIS = 8860.69
PERIAPSIS_ALTITUDE = 335.27
PERIAPSIS_ARGUMENT_ANGLE = 357.16
PERIAPSIS_TIME = 2010-06-04T16:20:23.000Z
SPACECRAFT_ORIENTATION = (0.0,1.0,0.0)
^MEX_ORIENTATION_DESC = "MEX_ORIENTATION_DESC.TXT"
SPACECRAFT_POINTING_MODE = NADIR
^MEX_POINTING_DESC = "MEX_POINTING_DESC.TXT"
RIGHT_ASCENSION = -1e+32
DECLINATION = -1e+32
OFFSET_ANGLE = -1e+32
SPACECRAFT_SOLAR_DISTANCE = 2.46062e+08
TARGET_NAME = MARS
/* CAMERA DATA ELEMENTS */
DETECTOR_TEMPERATURE = 18.3705
FOCAL_PLANE_TEMPERATURE = 7.7677
INST_CMPRS_NAME = "DISCRETE COSINE TRANSFORMATION (DCT)"
INST_CMPRS_RATIO = 13.2436
INST_CMPRS_QUALITY = 0
INST_CMPRS_QUANTZ_TBL_ID = 0
INSTRUMENT_TEMPERATURE = 11.0301
LENS_TEMPERATURE = 8.1755
MACROPIXEL_SIZE = 2
MISSING_FRAMES = 0
PIXEL_SUBSAMPLING_FLAG = N
SIGNAL_CHAIN_ID = 1
/* RADIOMETRIC DATA ELEMENTS */
BANDWIDTH = 178.0
CENTER_FILTER_WAVELENGTH = 679.0
RADIANCE_OFFSET = 1.16557
RADIANCE_SCALING_FACTOR = 0.00966117
REFLECTANCE_SCALING_FACTOR = 0.000309774
MEX:REFLECTANCE_OFFSET = 0.0373728
/* IMAGE OBJECT DEFINITIONS */
OBJECT = IMAGE
  INTERCHANGE_FORMAT = BINARY
  LINES = 8134
  LINE_SAMPLES = 3221
  SAMPLE_TYPE = UNSIGNED_INTEGER
  SAMPLE_BITS = 8
  BANDS = 1
  BAND_STORAGE_TYPE = BAND_SEQUENTIAL
  MAXIMUM = 255
  MEAN = 97.112
  MINIMUM = 1
  STANDARD_DEVIATION = 29.0339
END_OBJECT = IMAGE
/* MAP OBJECT DEFINITIONS */
OBJECT = IMAGE_MAP_PROJECTION
  ^DATA_SET_MAP_PROJECTION_CATALOG= "DSMAP.CAT"
  A_AXIS_RADIUS = 3396.0
  B_AXIS_RADIUS = 3396.0
  C_AXIS_RADIUS = 3396.0
  CENTER_LATITUDE = 0.0
  CENTER_LONGITUDE = 295.0
  COORDINATE_SYSTEM_NAME = PLANETOGRAPHIC
  COORDINATE_SYSTEM_TYPE = "BODY-FIXED ROTATING"
  EASTERNMOST_LONGITUDE = 301.911
  FIRST_STANDARD_PARALLEL = "N/A"
  LINE_FIRST_PIXEL = 1
  LINE_LAST_PIXEL = 8134
  LINE_PROJECTION_OFFSET = 39741.75
  MAP_PROJECTION_ROTATION = 0.0
  MAP_PROJECTION_TYPE = SINUSOIDAL
  MAP_RESOLUTION = 592.713803866667
  MAP_SCALE = 0.1
  MAXIMUM_LATITUDE = 67.0485
  MINIMUM_LATITUDE = 53.276
  POSITIVE_LONGITUDE_DIRECTION = EAST
  REFERENCE_LATITUDE = "N/A"
  REFERENCE_LONGITUDE = "N/A"
  SAMPLE_FIRST_PIXEL = 1
  SAMPLE_LAST_PIXEL = 3221
  SAMPLE_PROJECTION_OFFSET = 1308.75
  SECOND_STANDARD_PARALLEL = "N/A"
  WESTERNMOST_LONGITUDE = 290.322
END_OBJECT = IMAGE_MAP_PROJECTION
END
