PDS_VERSION_ID = PDS3
/* FILE DATA ELEMENTS */
RECORD_TYPE = UNDEFINED
/* POINTERS TO DATA OBJECTS */
^IMAGE = ("H8223_0000_IR4.TIF")
/* IDENTIFICATION DATA ELEMENTS */
DATA_SET_ID = "MEX-M-HRSC-4-REFDR-MAPPROJECT-EXT3-V4.0"
DATA_SET_NAME = "MARS EXPRESS HRSC MAP PROJECTED REFDR EXTENSION3 V4.0"
DETECTOR_ID = MEX_HRSC_IR
EVENT_TYPE = "MARS-REGIONAL-MAPPING-Vo-Te-Pf"
INSTRUMENT_HOST_ID = MEX
INSTRUMENT_HOST_NAME = "MARS EXPRESS"
INSTRUMENT_ID = HRSC
INSTRUMENT_NAME = "HIGH RESOLUTION STEREO CAMERA"
MISSION_NAME = "MARS EXPRESS"
MISSION_PHASE_NAME = ME_Phase_20
PROCESSING_LEVEL_ID = 4
PRODUCT_CREATION_TIME = 2023-02-03T04:36:48.000Z
PRODUCT_ID = "H8223_0000_IR4.TIF"
RELEASE_ID = 0004
REVISION_ID = 0000
/* QUALITY DATA ELEMENTS */
DATA_QUALITY_ID = 1
DATA_QUALITY_DESC = "Data calculated based on original SPICE kernels"
/* TIME DATA ELEMENTS */
SPACECRAFT_CLOCK_START_COUNT = "1/0223749280.08252"
SPACECRAFT_CLOCK_STOP_COUNT = "1/0223750100.45329"
START_TIME = 2010-06-04T16:39:00.378Z
STOP_TIME = 2010-06-04T16:46:42.103Z
/* ORBITAL DATA ELEMENTS */
ASCENDING_NODE_LONGITUDE = 60.28
MAXIMUM_RESOLUTION = 0.2138
FOOTPRINT_POINT_LATITUDE = (53.3419,53.3794,53.4137,53.4447, 53.4881,53.5105,53.5296,53.5454,53.5564 ,53.566,53.5723,53.5753,53.5725,53.5719 ,53.4718,54.0452,54.3346,54.6251, 54.9175,55.211,55.5062,55.8027,56.1008, 56.4003,56.7014,57.0041,57.3071,57.6081 ,57.9068,58.2034,58.4975,58.7894, 59.0793,59.367,59.6522,60.2165,60.7726, 61.3201,61.8593,62.39,62.9133,63.4285, 63.9359,64.4356,64.9277,65.4124,65.8899 ,66.3601,66.8226,66.9369,67.0477, 67.0602,67.0691,67.0664,67.0501,67.0208 ,66.9781,66.9222,66.824,66.737,66.6239, 66.5399,66.4486,66.3157,66.208,66.1892, 66.1814,65.759,65.3288,64.8902,64.4432, 63.9878,63.5235,63.0506,62.5689,62.0786 ,61.579,61.0704,60.553,60.0263,59.4895, 58.9436,58.3884,58.1073,57.8232,57.5373 ,57.2487,56.8114,56.518,56.2254,55.9345 ,55.6443,55.3557,55.0683,54.7819, 54.4968,53.9311,53.5111,53.3718, 53.3419)
FOOTPRINT_POINT_LONGITUDE = (298.134,297.582,297.031,296.48,295.583 ,295.03,294.477,293.924,293.439,292.885 ,292.33,291.773,290.798,290.728,290.648 ,290.559,290.514,290.467,290.419,290.37 ,290.32,290.268,290.215,290.161,290.105 ,290.047,289.988,289.929,289.868, 289.806,289.743,289.68,289.615,289.549, 289.483,289.346,289.205,289.06,288.91, 288.754,288.594,288.429,288.258,288.082 ,287.899,287.711,287.516,287.315, 287.106,287.052,287.0,287.829,289.177, 290.354,291.695,293.029,294.359,295.682 ,297.489,298.794,300.251,301.214, 302.171,303.437,304.38,304.536,304.587, 304.231,303.884,303.546,303.217,302.896 ,302.584,302.281,301.986,301.699,301.42 ,301.149,300.885,300.63,300.382,300.141 ,299.907,299.793,299.68,299.569,299.46, 299.3,299.195,299.094,298.995,298.899, 298.805,298.714,298.626,298.539,298.374 ,298.254,298.215,298.134)
ORBIT_NUMBER = 8223
ORBITAL_ECCENTRICITY = 0.579
ORBITAL_INCLINATION = 86.82
ORBITAL_SEMIMAJOR_AXIS = 8860.69
PERIAPSIS_ALTITUDE = 335.27
PERIAPSIS_ARGUMENT_ANGLE = 357.16
PERIAPSIS_TIME = 2010-06-04T16:20:23.000Z
SPACECRAFT_ORIENTATION = (0.0,1.0,0.0)
^MEX_ORIENTATION_DESC = "MEX_ORIENTATION_DESC.TXT"
SPACECRAFT_POINTING_MODE = NADIR
^MEX_POINTING_DESC = "MEX_POINTING_DESC.TXT"
RIGHT_ASCENSION = -1e+32
DECLINATION = -1e+32
OFFSET_ANGLE = -1e+32
SPACECRAFT_SOLAR_DISTANCE = 2.46062e+08
TARGET_NAME = MARS
/* CAMERA DATA ELEMENTS */
DETECTOR_TEMPERATURE = 17.1471
FOCAL_PLANE_TEMPERATURE = 7.7677
INST_CMPRS_NAME = "DISCRETE COSINE TRANSFORMATION (DCT)"
INST_CMPRS_RATIO = 15.2858
INST_CMPRS_QUALITY = 0
INST_CMPRS_QUANTZ_TBL_ID = 0
INSTRUMENT_TEMPERATURE = 11.0301
LENS_TEMPERATURE = 8.1755
MACROPIXEL_SIZE = 4
MISSING_FRAMES = 0
PIXEL_SUBSAMPLING_FLAG = N
SIGNAL_CHAIN_ID = 2
/* RADIOMETRIC DATA ELEMENTS */
BANDWIDTH = 81.0
CENTER_FILTER_WAVELENGTH = 955.5
RADIANCE_OFFSET = 0.220227
RADIANCE_SCALING_FACTOR = 0.00240198
REFLECTANCE_SCALING_FACTOR = 0.000313749
MEX:REFLECTANCE_OFFSET = 0.0287662
/* IMAGE OBJECT DEFINITIONS */
OBJECT = IMAGE
  INTERCHANGE_FORMAT = BINARY
  LINES = 4067
  LINE_SAMPLES = 1611
  SAMPLE_TYPE = UNSIGNED_INTEGER
  SAMPLE_BITS = 8
  BANDS = 1
  BAND_STORAGE_TYPE = BAND_SEQUENTIAL
  MAXIMUM = 255
  MEAN = 90.6374
  MINIMUM = 1
  STANDARD_DEVIATION = 34.7353
END_OBJECT = IMAGE
/* MAP OBJECT DEFINITIONS */
OBJECT = IMAGE_MAP_PROJECTION
  ^DATA_SET_MAP_PROJECTION_CATALOG= "DSMAP.CAT"
  A_AXIS_RADIUS = 3396.0
  B_AXIS_RADIUS = 3396.0
  C_AXIS_RADIUS = 3396.0
  CENTER_LATITUDE = 0.0
  CENTER_LONGITUDE = 295.0
  COORDINATE_SYSTEM_NAME = PLANETOGRAPHIC
  COORDINATE_SYSTEM_TYPE = "BODY-FIXED ROTATING"
  EASTERNMOST_LONGITUDE = 304.587
  FIRST_STANDARD_PARALLEL = "N/A"
  LINE_FIRST_PIXEL = 1
  LINE_LAST_PIXEL = 4067
  LINE_PROJECTION_OFFSET = 19870.625
  MAP_PROJECTION_ROTATION = 0.0
  MAP_PROJECTION_TYPE = SINUSOIDAL
  MAP_RESOLUTION = 296.356901933333
  MAP_SCALE = 0.2
  MAXIMUM_LATITUDE = 67.06910000000001
  MINIMUM_LATITUDE = 53.3419
  POSITIVE_LONGITUDE_DIRECTION = EAST
  REFERENCE_LATITUDE = "N/A"
  REFERENCE_LONGITUDE = "N/A"
  SAMPLE_FIRST_PIXEL = 1
  SAMPLE_LAST_PIXEL = 1611
  SAMPLE_PROJECTION_OFFSET = 654.125
  SECOND_STANDARD_PARALLEL = "N/A"
  WESTERNMOST_LONGITUDE = 287.0
END_OBJECT = IMAGE_MAP_PROJECTION
END
