PDS_VERSION_ID = PDS3
/* FILE DATA ELEMENTS */
RECORD_TYPE = UNDEFINED
/* POINTERS TO DATA OBJECTS */
^IMAGE = ("H8218_0000_S14.TIF")
/* IDENTIFICATION DATA ELEMENTS */
DATA_SET_ID = "MEX-M-HRSC-4-REFDR-MAPPROJECT-EXT3-V4.0"
DATA_SET_NAME = "MARS EXPRESS HRSC MAP PROJECTED REFDR EXTENSION3 V4.0"
DETECTOR_ID = MEX_HRSC_S1
EVENT_TYPE = "MARS-LOCAL-COLOR-Pf-Ts"
INSTRUMENT_HOST_ID = MEX
INSTRUMENT_HOST_NAME = "MARS EXPRESS"
INSTRUMENT_ID = HRSC
INSTRUMENT_NAME = "HIGH RESOLUTION STEREO CAMERA"
MISSION_NAME = "MARS EXPRESS"
MISSION_PHASE_NAME = ME_Phase_20
PROCESSING_LEVEL_ID = 4
PRODUCT_CREATION_TIME = 2023-02-03T04:36:48.000Z
PRODUCT_ID = "H8218_0000_S14.TIF"
RELEASE_ID = 0004
REVISION_ID = 0000
/* QUALITY DATA ELEMENTS */
DATA_QUALITY_ID = 1
DATA_QUALITY_DESC = "Data calculated based on original SPICE kernels"
/* TIME DATA ELEMENTS */
SPACECRAFT_CLOCK_START_COUNT = "1/0223623161.07295"
SPACECRAFT_CLOCK_STOP_COUNT = "1/0223623617.06331"
START_TIME = 2010-06-03T05:35:40.669Z
STOP_TIME = 2010-06-03T05:40:17.776Z
/* ORBITAL DATA ELEMENTS */
ASCENDING_NODE_LONGITUDE = 60.38
MAXIMUM_RESOLUTION = 0.0758
FOOTPRINT_POINT_LATITUDE = (41.7603,41.7843,41.7953,41.8051, 41.8172,41.8236,41.8287,41.8325,41.835, 41.8361,41.836,41.8337,41.8334,41.7504, 42.0394,42.4273,42.8174,43.1131,43.5087 ,43.9074,44.4113,44.8186,45.2269, 45.6387,46.0546,46.4737,46.8954,47.3208 ,47.7501,47.9652,48.1817,48.3991, 48.6176,48.8367,49.0567,49.2776,49.4992 ,49.7229,50.0582,50.2827,50.5081, 50.7345,50.9618,51.1901,51.419,51.6493, 51.8806,52.2286,52.3448,52.3867,52.3901 ,52.3912,52.3893,52.3838,52.3755, 52.3576,52.3401,52.3192,52.2912,52.2659 ,52.2383,52.1948,52.1654,52.1602, 52.1573,51.9295,51.7024,51.476,51.2501, 51.0253,50.8017,50.5788,50.3566,50.1349 ,49.9141,49.6939,49.4748,49.2563, 48.9292,48.7126,48.497,47.9609,47.5352, 47.1128,46.6943,46.2792,45.8666,45.4567 ,45.0499,44.6462,44.145,43.7478,43.3532 ,43.0591,42.7667,42.476,42.1867,41.8033 ,41.7082,41.7603)
FOOTPRINT_POINT_LONGITUDE = (87.5444,86.9435,86.6231,86.3029, 85.8223,85.5019,85.1817,84.8615,84.5411 ,84.2202,83.899,83.4568,83.4166,83.3696 ,83.346,83.3139,83.2806,83.2554,83.2203 ,83.1843,83.1383,83.1002,83.0604, 83.0193,82.9771,82.9337,82.8886,82.8421 ,82.7942,82.7692,82.744,82.7186,82.6927 ,82.6662,82.6393,82.6118,82.5838, 82.5558,82.5121,82.4823,82.4517,82.4208 ,82.3892,82.3571,82.3243,82.291,82.2571 ,82.2046,82.1868,82.1803,82.6026, 83.1685,83.663,84.2274,84.7202,85.4935, 86.0556,86.6177,87.2494,87.7401,88.2306 ,88.9306,89.3507,89.4207,89.4457, 89.3878,89.3313,89.2759,89.2217,89.1684 ,89.1162,89.0651,89.015,88.9658,88.9176 ,88.8705,88.8241,88.7788,88.7126, 88.6694,88.6269,88.5246,88.4462,88.3707 ,88.2977,88.2272,88.1595,88.0943, 88.0313,87.9707,87.8979,87.8418,87.7879 ,87.7485,87.7102,87.6728,87.6365, 87.5894,87.5778,87.5444)
ORBIT_NUMBER = 8218
ORBITAL_ECCENTRICITY = 0.579
ORBITAL_INCLINATION = 86.83
ORBITAL_SEMIMAJOR_AXIS = 8863.71
PERIAPSIS_ALTITUDE = 335.2
PERIAPSIS_ARGUMENT_ANGLE = 357.98
PERIAPSIS_TIME = 2010-06-03T05:21:58.000Z
SPACECRAFT_ORIENTATION = (0.0,1.0,0.0)
^MEX_ORIENTATION_DESC = "MEX_ORIENTATION_DESC.TXT"
SPACECRAFT_POINTING_MODE = NADIR
^MEX_POINTING_DESC = "MEX_POINTING_DESC.TXT"
RIGHT_ASCENSION = -1e+32
DECLINATION = -1e+32
OFFSET_ANGLE = -1e+32
SPACECRAFT_SOLAR_DISTANCE = 2.46198e+08
TARGET_NAME = MARS
/* CAMERA DATA ELEMENTS */
DETECTOR_TEMPERATURE = 17.351
FOCAL_PLANE_TEMPERATURE = 8.1755
INST_CMPRS_NAME = "DISCRETE COSINE TRANSFORMATION (DCT)"
INST_CMPRS_RATIO = 12.2176
INST_CMPRS_QUALITY = 0
INST_CMPRS_QUANTZ_TBL_ID = 0
INSTRUMENT_TEMPERATURE = 11.234
LENS_TEMPERATURE = 8.5833
MACROPIXEL_SIZE = 2
MISSING_FRAMES = 0
PIXEL_SUBSAMPLING_FLAG = N
SIGNAL_CHAIN_ID = 1
/* RADIOMETRIC DATA ELEMENTS */
BANDWIDTH = 180.0
CENTER_FILTER_WAVELENGTH = 677.0
RADIANCE_OFFSET = 1.0541
RADIANCE_SCALING_FACTOR = 0.00816664
REFLECTANCE_SCALING_FACTOR = 0.000258258
MEX:REFLECTANCE_OFFSET = 0.0333344
/* IMAGE OBJECT DEFINITIONS */
OBJECT = IMAGE
  INTERCHANGE_FORMAT = BINARY
  LINES = 12638
  LINE_SAMPLES = 4258
  SAMPLE_TYPE = UNSIGNED_INTEGER
  SAMPLE_BITS = 8
  BANDS = 1
  BAND_STORAGE_TYPE = BAND_SEQUENTIAL
  MAXIMUM = 255
  MEAN = 64.5712
  MINIMUM = 1
  STANDARD_DEVIATION = 23.5751
END_OBJECT = IMAGE
/* MAP OBJECT DEFINITIONS */
OBJECT = IMAGE_MAP_PROJECTION
  ^DATA_SET_MAP_PROJECTION_CATALOG= "DSMAP.CAT"
  A_AXIS_RADIUS = 3396.0
  B_AXIS_RADIUS = 3396.0
  C_AXIS_RADIUS = 3396.0
  CENTER_LATITUDE = 0.0
  CENTER_LONGITUDE = 86.0
  COORDINATE_SYSTEM_NAME = PLANETOGRAPHIC
  COORDINATE_SYSTEM_TYPE = "BODY-FIXED ROTATING"
  EASTERNMOST_LONGITUDE = 89.4457
  FIRST_STANDARD_PARALLEL = "N/A"
  LINE_FIRST_PIXEL = 1
  LINE_LAST_PIXEL = 12638
  LINE_PROJECTION_OFFSET = 62085.25
  MAP_PROJECTION_ROTATION = 0.0
  MAP_PROJECTION_TYPE = SINUSOIDAL
  MAP_RESOLUTION = 1185.42760773333
  MAP_SCALE = 0.05
  MAXIMUM_LATITUDE = 52.3912
  MINIMUM_LATITUDE = 41.7082
  POSITIVE_LONGITUDE_DIRECTION = EAST
  REFERENCE_LATITUDE = "N/A"
  REFERENCE_LONGITUDE = "N/A"
  SAMPLE_FIRST_PIXEL = 1
  SAMPLE_LAST_PIXEL = 4258
  SAMPLE_PROJECTION_OFFSET = 2194.25
  SECOND_STANDARD_PARALLEL = "N/A"
  WESTERNMOST_LONGITUDE = 82.1803
END_OBJECT = IMAGE_MAP_PROJECTION
END
