PDS_VERSION_ID = PDS3
/* FILE DATA ELEMENTS */
RECORD_TYPE = UNDEFINED
/* POINTERS TO DATA OBJECTS */
^IMAGE = ("H8212_0000_ND4.TIF")
/* IDENTIFICATION DATA ELEMENTS */
DATA_SET_ID = "MEX-M-HRSC-4-REFDR-MAPPROJECT-EXT3-V4.0"
DATA_SET_NAME = "MARS EXPRESS HRSC MAP PROJECTED REFDR EXTENSION3 V4.0"
DETECTOR_ID = MEX_HRSC_NADIR
EVENT_TYPE = "MARS-REGIONAL-MAPPING-Pf-Eo"
INSTRUMENT_HOST_ID = MEX
INSTRUMENT_HOST_NAME = "MARS EXPRESS"
INSTRUMENT_ID = HRSC
INSTRUMENT_NAME = "HIGH RESOLUTION STEREO CAMERA"
MISSION_NAME = "MARS EXPRESS"
MISSION_PHASE_NAME = ME_Phase_20
PROCESSING_LEVEL_ID = 4
PRODUCT_CREATION_TIME = 2023-02-03T04:36:48.000Z
PRODUCT_ID = "H8212_0000_ND4.TIF"
RELEASE_ID = 0004
REVISION_ID = 0000
/* QUALITY DATA ELEMENTS */
DATA_QUALITY_ID = 1
DATA_QUALITY_DESC = "Data calculated based on original SPICE kernels"
/* TIME DATA ELEMENTS */
SPACECRAFT_CLOCK_START_COUNT = "1/0223472365.07282"
SPACECRAFT_CLOCK_STOP_COUNT = "1/0223473164.19754"
START_TIME = 2010-06-01T11:41:41.573Z
STOP_TIME = 2010-06-01T11:46:05.573Z
/* ORBITAL DATA ELEMENTS */
ASCENDING_NODE_LONGITUDE = 60.5
MAXIMUM_RESOLUTION = 0.0477
FOOTPRINT_POINT_LATITUDE = (58.8679,58.9093,58.9428,58.9733, 59.0073,59.0309,59.0517,59.0788,59.0915 ,59.1001,59.1072,59.1121,59.1122, 59.1149,59.5023,59.8927,60.286,60.6822, 61.0817,61.4842,61.89,62.2989,62.7108, 63.126,63.5443,63.9663,64.3915,64.8199, 65.2519,65.6874,65.9064,66.1264,66.3472 ,66.5689,66.7914,67.0149,67.2392, 67.4645,67.6907,67.9179,68.1461,68.3752 ,68.605,68.836,69.0678,69.4152,69.6457, 69.7607,69.788,69.7865,69.7807,69.7736, 69.7526,69.7184,69.6787,69.6301,69.5728 ,69.5155,69.4611,69.3811,69.2926, 69.2452,69.1956,69.1438,69.1305,69.1233 ,68.9076,68.6907,68.4727,68.1452, 67.9275,67.7104,67.4939,67.278,67.0625, 66.848,66.634,66.4206,66.2078,65.9958, 65.7844,65.3631,64.9445,64.5287,64.1155 ,63.7046,63.2965,62.8911,62.4884, 62.0883,61.6909,61.2959,60.9038,60.5142 ,60.1272,59.7426,59.3608,58.9819, 58.8873,58.8679)
FOOTPRINT_POINT_LONGITUDE = (344.235,343.532,342.907,342.282, 341.499,340.871,340.244,339.223,338.594 ,338.043,337.411,336.382,336.303, 336.181,336.137,336.093,336.048,336.0, 335.952,335.902,335.85,335.797,335.742, 335.685,335.626,335.564,335.501,335.436 ,335.368,335.297,335.26,335.223,335.186 ,335.147,335.108,335.067,335.026, 334.984,334.941,334.897,334.852,334.806 ,334.759,334.711,334.662,334.587, 334.536,334.51,334.504,335.926,336.717, 337.349,338.608,340.018,341.265,342.507 ,343.744,344.821,345.74,346.957,348.167 ,348.768,349.368,349.966,350.115, 350.187,349.99,349.797,349.607,349.33, 349.152,348.978,348.809,348.644,348.483 ,348.327,348.174,348.025,347.88,347.738 ,347.601,347.334,347.08,346.838,346.607 ,346.386,346.175,345.973,345.78,345.595 ,345.417,345.247,345.084,344.927, 344.777,344.632,344.493,344.359,344.326 ,344.235)
ORBIT_NUMBER = 8212
ORBITAL_ECCENTRICITY = 0.578
ORBITAL_INCLINATION = 86.83
ORBITAL_SEMIMAJOR_AXIS = 8854.49
PERIAPSIS_ALTITUDE = 336.68
PERIAPSIS_ARGUMENT_ANGLE = 359.03
PERIAPSIS_TIME = 2010-06-01T11:24:01.000Z
SPACECRAFT_ORIENTATION = (0.0,1.0,0.0)
^MEX_ORIENTATION_DESC = "MEX_ORIENTATION_DESC.TXT"
SPACECRAFT_POINTING_MODE = NADIR
^MEX_POINTING_DESC = "MEX_POINTING_DESC.TXT"
RIGHT_ASCENSION = -1e+32
DECLINATION = -1e+32
OFFSET_ANGLE = -1e+32
SPACECRAFT_SOLAR_DISTANCE = 2.46358e+08
TARGET_NAME = MARS
/* CAMERA DATA ELEMENTS */
DETECTOR_TEMPERATURE = 18.1666
FOCAL_PLANE_TEMPERATURE = 8.3794
INST_CMPRS_NAME = "DISCRETE COSINE TRANSFORMATION (DCT)"
INST_CMPRS_RATIO = 8.1511
INST_CMPRS_QUALITY = 0
INST_CMPRS_QUANTZ_TBL_ID = 0
INSTRUMENT_TEMPERATURE = 11.0301
LENS_TEMPERATURE = 8.7872
MACROPIXEL_SIZE = 1
MISSING_FRAMES = 0
PIXEL_SUBSAMPLING_FLAG = N
SIGNAL_CHAIN_ID = 0
/* RADIOMETRIC DATA ELEMENTS */
BANDWIDTH = 177.0
CENTER_FILTER_WAVELENGTH = 677.5
RADIANCE_OFFSET = 1.11066
RADIANCE_SCALING_FACTOR = 0.0103938
REFLECTANCE_SCALING_FACTOR = 0.000335112
MEX:REFLECTANCE_OFFSET = 0.0358091
/* IMAGE OBJECT DEFINITIONS */
OBJECT = IMAGE
  INTERCHANGE_FORMAT = BINARY
  LINES = 12949
  LINE_SAMPLES = 6814
  SAMPLE_TYPE = UNSIGNED_INTEGER
  SAMPLE_BITS = 8
  BANDS = 1
  BAND_STORAGE_TYPE = BAND_SEQUENTIAL
  MAXIMUM = 255
  MEAN = 93.7911
  MINIMUM = 1
  STANDARD_DEVIATION = 35.0869
END_OBJECT = IMAGE
/* MAP OBJECT DEFINITIONS */
OBJECT = IMAGE_MAP_PROJECTION
  ^DATA_SET_MAP_PROJECTION_CATALOG= "DSMAP.CAT"
  A_AXIS_RADIUS = 3396.0
  B_AXIS_RADIUS = 3396.0
  C_AXIS_RADIUS = 3396.0
  CENTER_LATITUDE = 0.0
  CENTER_LONGITUDE = 341.0
  COORDINATE_SYSTEM_NAME = PLANETOGRAPHIC
  COORDINATE_SYSTEM_TYPE = "BODY-FIXED ROTATING"
  EASTERNMOST_LONGITUDE = 350.187
  FIRST_STANDARD_PARALLEL = "N/A"
  LINE_FIRST_PIXEL = 1
  LINE_LAST_PIXEL = 12949
  LINE_PROJECTION_OFFSET = 82728.0
  MAP_PROJECTION_ROTATION = 0.0
  MAP_PROJECTION_TYPE = SINUSOIDAL
  MAP_RESOLUTION = 1185.42760773333
  MAP_SCALE = 0.05
  MAXIMUM_LATITUDE = 69.788
  MINIMUM_LATITUDE = 58.8679
  POSITIVE_LONGITUDE_DIRECTION = EAST
  REFERENCE_LATITUDE = "N/A"
  REFERENCE_LONGITUDE = "N/A"
  SAMPLE_FIRST_PIXEL = 1
  SAMPLE_LAST_PIXEL = 6814
  SAMPLE_PROJECTION_OFFSET = 2932.0
  SECOND_STANDARD_PARALLEL = "N/A"
  WESTERNMOST_LONGITUDE = 334.504
END_OBJECT = IMAGE_MAP_PROJECTION
END
