PDS_VERSION_ID = PDS3
/* FILE DATA ELEMENTS */
RECORD_TYPE = UNDEFINED
/* POINTERS TO DATA OBJECTS */
^IMAGE = ("H8210_0000_S24.TIF")
/* IDENTIFICATION DATA ELEMENTS */
DATA_SET_ID = "MEX-M-HRSC-4-REFDR-MAPPROJECT-EXT3-V4.0"
DATA_SET_NAME = "MARS EXPRESS HRSC MAP PROJECTED REFDR EXTENSION3 V4.0"
DETECTOR_ID = MEX_HRSC_S2
EVENT_TYPE = "MARS-REGIONAL-MAPPING-Vo-Im-Pf"
INSTRUMENT_HOST_ID = MEX
INSTRUMENT_HOST_NAME = "MARS EXPRESS"
INSTRUMENT_ID = HRSC
INSTRUMENT_NAME = "HIGH RESOLUTION STEREO CAMERA"
MISSION_NAME = "MARS EXPRESS"
MISSION_PHASE_NAME = ME_Phase_20
PROCESSING_LEVEL_ID = 4
PRODUCT_CREATION_TIME = 2023-02-03T04:36:48.000Z
PRODUCT_ID = "H8210_0000_S24.TIF"
RELEASE_ID = 0004
REVISION_ID = 0000
/* QUALITY DATA ELEMENTS */
DATA_QUALITY_ID = 1
DATA_QUALITY_DESC = "Data calculated based on original SPICE kernels"
/* TIME DATA ELEMENTS */
SPACECRAFT_CLOCK_START_COUNT = "1/0223421901.07281"
SPACECRAFT_CLOCK_STOP_COUNT = "1/0223422934.19443"
START_TIME = 2010-05-31T21:38:23.728Z
STOP_TIME = 2010-05-31T21:44:23.954Z
/* ORBITAL DATA ELEMENTS */
ASCENDING_NODE_LONGITUDE = 60.54
MAXIMUM_RESOLUTION = 0.0758
FOOTPRINT_POINT_LATITUDE = (52.9392,52.9743,52.9933,53.009,53.0213 ,53.0302,53.0351,53.0354,53.1601, 53.7986,54.4459,55.102,55.768,56.4438, 57.1292,57.8245,58.53,59.246,59.9729, 60.7112,61.0848,61.4614,61.8406,62.2229 ,62.6082,62.9971,63.3884,63.7819, 64.1805,64.5811,64.9854,65.3926,65.8034 ,66.2183,66.6368,67.0586,67.4835,67.912 ,68.3438,68.7794,69.2185,69.6616,70.109 ,70.5603,71.0149,71.474,72.1698,72.4038 ,72.439,72.4306,72.4009,72.375,72.3282, 72.287,72.2391,72.1244,71.974,71.8727, 71.8623,71.8569,71.4152,70.9759,70.5368 ,70.1073,69.4621,69.0357,68.6118, 68.1904,67.772,67.3566,66.9448,66.5346, 66.1274,65.7233,65.322,64.9234,64.5277, 64.1349,63.745,63.358,62.9734,62.5918, 62.213,61.8361,61.4628,61.0919,60.7239, 59.9948,59.2768,58.5681,57.87,57.1814, 56.502,55.8318,55.1708,54.5187,53.8754, 53.2412,53.0837,52.9392)
FOOTPRINT_POINT_LONGITUDE = (186.779,185.595,184.807,184.018, 183.229,182.439,181.745,181.695,181.617 ,181.578,181.538,181.496,181.452, 181.407,181.359,181.31,181.258,181.204, 181.148,181.089,181.058,181.026,180.994 ,180.96,180.926,180.891,180.855,180.818 ,180.78,180.741,180.7,180.659,180.616, 180.571,180.524,180.476,180.427,180.376 ,180.323,180.268,180.211,180.151, 180.089,180.024,179.957,179.886,179.773 ,179.734,179.728,181.299,183.496, 184.744,186.452,187.688,188.919,191.364 ,193.931,195.427,195.576,195.628,195.17 ,194.739,194.329,193.953,193.419, 193.087,192.772,192.472,192.188,191.919 ,191.663,191.419,191.186,190.964, 190.751,190.549,190.355,190.17,189.993, 189.823,189.66,189.504,189.354,189.21, 189.072,188.939,188.811,188.569,188.345 ,188.136,187.941,187.76,187.59,187.431, 187.282,187.143,187.011,186.887,186.858 ,186.779)
ORBIT_NUMBER = 8210
ORBITAL_ECCENTRICITY = 0.578
ORBITAL_INCLINATION = 86.84
ORBITAL_SEMIMAJOR_AXIS = 8853.31
PERIAPSIS_ALTITUDE = 336.83
PERIAPSIS_ARGUMENT_ANGLE = 359.39
PERIAPSIS_TIME = 2010-05-31T21:24:49.000Z
SPACECRAFT_ORIENTATION = (0.0,1.0,0.0)
^MEX_ORIENTATION_DESC = "MEX_ORIENTATION_DESC.TXT"
SPACECRAFT_POINTING_MODE = NADIR
^MEX_POINTING_DESC = "MEX_POINTING_DESC.TXT"
RIGHT_ASCENSION = -1e+32
DECLINATION = -1e+32
OFFSET_ANGLE = -1e+32
SPACECRAFT_SOLAR_DISTANCE = 2.4641e+08
TARGET_NAME = MARS
/* CAMERA DATA ELEMENTS */
DETECTOR_TEMPERATURE = 18.3705
FOCAL_PLANE_TEMPERATURE = 7.5638
INST_CMPRS_NAME = "DISCRETE COSINE TRANSFORMATION (DCT)"
INST_CMPRS_RATIO = 14.9223
INST_CMPRS_QUALITY = 0
INST_CMPRS_QUANTZ_TBL_ID = 0
INSTRUMENT_TEMPERATURE = 11.0301
LENS_TEMPERATURE = 7.9716
MACROPIXEL_SIZE = 2
MISSING_FRAMES = 0
PIXEL_SUBSAMPLING_FLAG = N
SIGNAL_CHAIN_ID = 1
/* RADIOMETRIC DATA ELEMENTS */
BANDWIDTH = 178.0
CENTER_FILTER_WAVELENGTH = 679.0
RADIANCE_OFFSET = 1.63695
RADIANCE_SCALING_FACTOR = 0.0105146
REFLECTANCE_SCALING_FACTOR = 0.000338092
MEX:REFLECTANCE_OFFSET = 0.0526356
/* IMAGE OBJECT DEFINITIONS */
OBJECT = IMAGE
  INTERCHANGE_FORMAT = BINARY
  LINES = 11532
  LINE_SAMPLES = 3611
  SAMPLE_TYPE = UNSIGNED_INTEGER
  SAMPLE_BITS = 8
  BANDS = 1
  BAND_STORAGE_TYPE = BAND_SEQUENTIAL
  MAXIMUM = 255
  MEAN = 101.314
  MINIMUM = 1
  STANDARD_DEVIATION = 29.6762
END_OBJECT = IMAGE
/* MAP OBJECT DEFINITIONS */
OBJECT = IMAGE_MAP_PROJECTION
  ^DATA_SET_MAP_PROJECTION_CATALOG= "DSMAP.CAT"
  A_AXIS_RADIUS = 3396.0
  B_AXIS_RADIUS = 3396.0
  C_AXIS_RADIUS = 3396.0
  CENTER_LATITUDE = 0.0
  CENTER_LONGITUDE = 185.0
  COORDINATE_SYSTEM_NAME = PLANETOGRAPHIC
  COORDINATE_SYSTEM_TYPE = "BODY-FIXED ROTATING"
  EASTERNMOST_LONGITUDE = 195.628
  FIRST_STANDARD_PARALLEL = "N/A"
  LINE_FIRST_PIXEL = 1
  LINE_LAST_PIXEL = 11532
  LINE_PROJECTION_OFFSET = 42935.25
  MAP_PROJECTION_ROTATION = 0.0
  MAP_PROJECTION_TYPE = SINUSOIDAL
  MAP_RESOLUTION = 592.713803866667
  MAP_SCALE = 0.1
  MAXIMUM_LATITUDE = 72.43899999999999
  MINIMUM_LATITUDE = 52.9392
  POSITIVE_LONGITUDE_DIRECTION = EAST
  REFERENCE_LATITUDE = "N/A"
  REFERENCE_LONGITUDE = "N/A"
  SAMPLE_FIRST_PIXEL = 1
  SAMPLE_LAST_PIXEL = 3611
  SAMPLE_PROJECTION_OFFSET = 1306.75
  SECOND_STANDARD_PARALLEL = "N/A"
  WESTERNMOST_LONGITUDE = 179.728
END_OBJECT = IMAGE_MAP_PROJECTION
END
