PDS_VERSION_ID = PDS3
/* FILE DATA ELEMENTS */
RECORD_TYPE = UNDEFINED
/* POINTERS TO DATA OBJECTS */
^IMAGE = ("H8204_0000_RE4.TIF")
/* IDENTIFICATION DATA ELEMENTS */
DATA_SET_ID = "MEX-M-HRSC-4-REFDR-MAPPROJECT-EXT3-V4.0"
DATA_SET_NAME = "MARS EXPRESS HRSC MAP PROJECTED REFDR EXTENSION3 V4.0"
DETECTOR_ID = MEX_HRSC_RED
EVENT_TYPE = "MARS-REGIONAL-MAPPING-Im-Fl-Pf"
INSTRUMENT_HOST_ID = MEX
INSTRUMENT_HOST_NAME = "MARS EXPRESS"
INSTRUMENT_ID = HRSC
INSTRUMENT_NAME = "HIGH RESOLUTION STEREO CAMERA"
MISSION_NAME = "MARS EXPRESS"
MISSION_PHASE_NAME = ME_Phase_20
PROCESSING_LEVEL_ID = 4
PRODUCT_CREATION_TIME = 2023-02-03T04:36:48.000Z
PRODUCT_ID = "H8204_0000_RE4.TIF"
RELEASE_ID = 0004
REVISION_ID = 0000
/* QUALITY DATA ELEMENTS */
DATA_QUALITY_ID = 1
DATA_QUALITY_DESC = "Data calculated based on original SPICE kernels"
/* TIME DATA ELEMENTS */
SPACECRAFT_CLOCK_START_COUNT = "1/0223270781.07289"
SPACECRAFT_CLOCK_STOP_COUNT = "1/0223271667.48039"
START_TIME = 2010-05-30T03:39:58.349Z
STOP_TIME = 2010-05-30T03:45:45.823Z
/* ORBITAL DATA ELEMENTS */
ASCENDING_NODE_LONGITUDE = 60.65
MAXIMUM_RESOLUTION = 0.0706
FOOTPRINT_POINT_LATITUDE = (51.17,51.1991,51.2212,51.2408,51.2493, 51.2552,51.2554,51.3457,51.8057,52.4241 ,53.0536,53.6905,54.3367,54.992,55.6563 ,56.3302,57.0139,57.7082,58.4128, 58.7695,59.1285,59.4903,59.8544,60.2219 ,60.5916,60.9641,61.3399,61.7187, 62.1007,62.485,62.8729,63.2639,63.6577, 64.0549,64.4552,64.8587,65.2652,65.6752 ,66.0892,66.5057,66.9263,67.3504, 67.7778,68.209,68.6436,69.0825,69.5202, 69.7386,69.7473,69.7361,69.7221,69.6826 ,69.6463,69.5873,69.539,69.4372,69.356, 69.2912,69.2826,69.2782,68.6488,68.2283 ,67.8101,67.3946,66.9824,66.5728, 66.1659,65.7621,65.3605,64.9628,64.5669 ,64.1737,63.7837,63.3961,63.0117, 62.6296,62.2505,61.8742,61.5004,61.1292 ,60.7602,60.3948,60.0314,59.6705, 59.3122,58.9561,58.6025,57.9038,57.2141 ,56.5337,55.8637,55.2022,54.5499,53.906 ,53.2711,52.6441,52.0257,51.4154, 51.2637,51.17)
FOOTPRINT_POINT_LONGITUDE = (80.1929,79.2032,78.2595,77.136,76.4162 ,75.6033,75.558,75.4921,75.4665,75.4322 ,75.3954,75.3578,75.3188,75.2783, 75.2363,75.1926,75.1471,75.0995,75.0499 ,75.024,74.9977,74.9708,74.9435,74.9151 ,74.8865,74.8569,74.8267,74.7955, 74.7632,74.7306,74.6968,74.662,74.6264, 74.5897,74.552,74.5131,74.4734,74.4322, 74.3893,74.3454,74.2999,74.2525,74.2037 ,74.1534,74.101,74.046,73.9906,73.9622, 73.961,75.5086,76.5387,78.4602,79.7356, 81.3867,82.5255,84.5371,85.9126,86.9095 ,87.0336,87.0772,86.5945,86.2907, 86.0013,85.7268,85.4658,85.2172,84.9804 ,84.7545,84.5385,84.3334,84.1361, 83.9473,83.7671,83.5941,83.4287,83.2697 ,83.1174,82.9711,82.8305,82.6953,82.565 ,82.4401,82.3196,82.2036,82.0916, 81.9835,81.8792,81.6823,81.498,81.3255, 81.1647,81.0135,80.8719,80.7388,80.6135 ,80.4952,80.3841,80.2789,80.2534, 80.1929)
ORBIT_NUMBER = 8204
ORBITAL_ECCENTRICITY = 0.579
ORBITAL_INCLINATION = 86.84
ORBITAL_SEMIMAJOR_AXIS = 8863.47
PERIAPSIS_ALTITUDE = 336.51
PERIAPSIS_ARGUMENT_ANGLE = 0.42
PERIAPSIS_TIME = 2010-05-30T03:26:58.000Z
SPACECRAFT_ORIENTATION = (0.0,1.0,0.0)
^MEX_ORIENTATION_DESC = "MEX_ORIENTATION_DESC.TXT"
SPACECRAFT_POINTING_MODE = NADIR
^MEX_POINTING_DESC = "MEX_POINTING_DESC.TXT"
RIGHT_ASCENSION = -1e+32
DECLINATION = -1e+32
OFFSET_ANGLE = -1e+32
SPACECRAFT_SOLAR_DISTANCE = 2.46564e+08
TARGET_NAME = MARS
/* CAMERA DATA ELEMENTS */
DETECTOR_TEMPERATURE = 18.3705
FOCAL_PLANE_TEMPERATURE = 7.7677
INST_CMPRS_NAME = "DISCRETE COSINE TRANSFORMATION (DCT)"
INST_CMPRS_RATIO = 21.6184
INST_CMPRS_QUALITY = 0
INST_CMPRS_QUANTZ_TBL_ID = 0
INSTRUMENT_TEMPERATURE = 10.8262
LENS_TEMPERATURE = 8.1755
MACROPIXEL_SIZE = 2
MISSING_FRAMES = 0
PIXEL_SUBSAMPLING_FLAG = N
SIGNAL_CHAIN_ID = 3
/* RADIOMETRIC DATA ELEMENTS */
BANDWIDTH = 48.0
CENTER_FILTER_WAVELENGTH = 748.0
RADIANCE_OFFSET = 0.271979
RADIANCE_SCALING_FACTOR = 0.00269783
REFLECTANCE_SCALING_FACTOR = 0.000374282
MEX:REFLECTANCE_OFFSET = 0.0377329
/* IMAGE OBJECT DEFINITIONS */
OBJECT = IMAGE
  INTERCHANGE_FORMAT = BINARY
  LINES = 21958
  LINE_SAMPLES = 6636
  SAMPLE_TYPE = UNSIGNED_INTEGER
  SAMPLE_BITS = 8
  BANDS = 1
  BAND_STORAGE_TYPE = BAND_SEQUENTIAL
  MAXIMUM = 255
  MEAN = 93.0151
  MINIMUM = 1
  STANDARD_DEVIATION = 48.3735
END_OBJECT = IMAGE
/* MAP OBJECT DEFINITIONS */
OBJECT = IMAGE_MAP_PROJECTION
  ^DATA_SET_MAP_PROJECTION_CATALOG= "DSMAP.CAT"
  A_AXIS_RADIUS = 3396.0
  B_AXIS_RADIUS = 3396.0
  C_AXIS_RADIUS = 3396.0
  CENTER_LATITUDE = 0.0
  CENTER_LONGITUDE = 79.0
  COORDINATE_SYSTEM_NAME = PLANETOGRAPHIC
  COORDINATE_SYSTEM_TYPE = "BODY-FIXED ROTATING"
  EASTERNMOST_LONGITUDE = 87.0772
  FIRST_STANDARD_PARALLEL = "N/A"
  LINE_FIRST_PIXEL = 1
  LINE_LAST_PIXEL = 21958
  LINE_PROJECTION_OFFSET = 82680.75
  MAP_PROJECTION_ROTATION = 0.0
  MAP_PROJECTION_TYPE = SINUSOIDAL
  MAP_RESOLUTION = 1185.42760773333
  MAP_SCALE = 0.05
  MAXIMUM_LATITUDE = 69.7473
  MINIMUM_LATITUDE = 51.17
  POSITIVE_LONGITUDE_DIRECTION = EAST
  REFERENCE_LATITUDE = "N/A"
  REFERENCE_LONGITUDE = "N/A"
  SAMPLE_FIRST_PIXEL = 1
  SAMPLE_LAST_PIXEL = 6636
  SAMPLE_PROJECTION_OFFSET = 2755.75
  SECOND_STANDARD_PARALLEL = "N/A"
  WESTERNMOST_LONGITUDE = 73.961
END_OBJECT = IMAGE_MAP_PROJECTION
END
