PDS_VERSION_ID = PDS3
/* FILE DATA ELEMENTS */
RECORD_TYPE = UNDEFINED
/* POINTERS TO DATA OBJECTS */
^IMAGE = ("H8202_0000_RE4.TIF")
/* IDENTIFICATION DATA ELEMENTS */
DATA_SET_ID = "MEX-M-HRSC-4-REFDR-MAPPROJECT-EXT3-V4.0"
DATA_SET_NAME = "MARS EXPRESS HRSC MAP PROJECTED REFDR EXTENSION3 V4.0"
DETECTOR_ID = MEX_HRSC_RED
EVENT_TYPE = "MARS-REGIONAL-MAPPING-Im-Pf-Eo"
INSTRUMENT_HOST_ID = MEX
INSTRUMENT_HOST_NAME = "MARS EXPRESS"
INSTRUMENT_ID = HRSC
INSTRUMENT_NAME = "HIGH RESOLUTION STEREO CAMERA"
MISSION_NAME = "MARS EXPRESS"
MISSION_PHASE_NAME = ME_Phase_20
PROCESSING_LEVEL_ID = 4
PRODUCT_CREATION_TIME = 2023-02-03T04:36:48.000Z
PRODUCT_ID = "H8202_0000_RE4.TIF"
RELEASE_ID = 0004
REVISION_ID = 0000
/* QUALITY DATA ELEMENTS */
DATA_QUALITY_ID = 1
DATA_QUALITY_DESC = "Data calculated based on original SPICE kernels"
/* TIME DATA ELEMENTS */
SPACECRAFT_CLOCK_START_COUNT = "1/0223220608.08271"
SPACECRAFT_CLOCK_STOP_COUNT = "1/0223221565.40700"
START_TIME = 2010-05-29T13:43:51.399Z
STOP_TIME = 2010-05-29T13:48:11.346Z
/* ORBITAL DATA ELEMENTS */
ASCENDING_NODE_LONGITUDE = 60.69
MAXIMUM_RESOLUTION = 0.0899
FOOTPRINT_POINT_LATITUDE = (61.3467,61.393,61.421,61.4468,61.4705, 61.492,61.5114,61.5288,61.5441,61.5572, 61.5708,61.5792,61.5856,61.5862,61.7061 ,62.1919,62.6832,63.1791,63.6797, 64.1862,64.6973,65.214,65.4745,65.7361, 65.9992,66.2638,66.5297,66.7974,67.2013 ,67.4713,67.7408,68.0093,68.2776, 68.5449,68.8116,69.0775,69.3428,69.6077 ,69.8718,70.1352,70.3981,70.6603, 70.9219,71.4433,71.9621,72.4783,72.9923 ,73.5038,74.0127,74.5196,74.646,74.6643 ,74.6335,74.6017,74.5321,74.478,74.4157 ,74.3628,74.2863,74.1895,74.0946, 73.9916,73.8805,73.7917,73.7764,73.7697 ,73.3097,72.8449,72.3755,71.9014, 71.4227,70.9396,70.4523,69.9607,69.4649 ,69.2156,68.9654,68.7141,68.4616, 68.2084,67.9541,67.6987,67.4426,67.1856 ,66.7981,66.5393,66.2817,66.0255, 65.7698,65.5155,65.0101,64.5091,64.0128 ,63.5207,63.033,62.5494,62.0699,61.5941 ,61.4761,61.3467)
FOOTPRINT_POINT_LONGITUDE = (288.542,287.634,287.031,286.428, 285.825,285.223,284.622,284.021,283.42, 282.821,282.07,281.469,280.868,280.793, 280.714,280.696,280.677,280.659,280.64, 280.62,280.601,280.581,280.57,280.56, 280.55,280.54,280.529,280.518,280.502, 280.491,280.48,280.47,280.459,280.448, 280.437,280.426,280.416,280.405,280.394 ,280.383,280.373,280.362,280.351,280.33 ,280.309,280.288,280.267,280.246, 280.225,280.205,280.2,280.199,282.426, 283.907,286.297,287.758,289.21,290.293, 291.731,293.335,294.747,296.146,297.535 ,298.569,298.74,298.8,298.097,297.432, 296.803,296.206,295.64,295.102,294.59, 294.104,293.641,293.418,293.201,292.988 ,292.78,292.578,292.379,292.186,291.997 ,291.812,291.543,291.369,291.2,291.036, 290.877,290.722,290.426,290.147,289.883 ,289.632,289.395,289.17,288.956,288.752 ,288.703,288.542)
ORBIT_NUMBER = 8202
ORBITAL_ECCENTRICITY = 0.579
ORBITAL_INCLINATION = 86.83
ORBITAL_SEMIMAJOR_AXIS = 8864.69
PERIAPSIS_ALTITUDE = 337.13
PERIAPSIS_ARGUMENT_ANGLE = 0.8
PERIAPSIS_TIME = 2010-05-29T13:27:49.000Z
SPACECRAFT_ORIENTATION = (0.0,1.0,0.0)
^MEX_ORIENTATION_DESC = "MEX_ORIENTATION_DESC.TXT"
SPACECRAFT_POINTING_MODE = ACROSSTRACK
^MEX_POINTING_DESC = "MEX_POINTING_DESC.TXT"
RIGHT_ASCENSION = -1e+32
DECLINATION = -1e+32
OFFSET_ANGLE = -0.6
SPACECRAFT_SOLAR_DISTANCE = 2.46615e+08
TARGET_NAME = MARS
/* CAMERA DATA ELEMENTS */
DETECTOR_TEMPERATURE = 18.5744
FOCAL_PLANE_TEMPERATURE = 7.7677
INST_CMPRS_NAME = "DISCRETE COSINE TRANSFORMATION (DCT)"
INST_CMPRS_RATIO = 19.4215
INST_CMPRS_QUALITY = 0
INST_CMPRS_QUANTZ_TBL_ID = 0
INSTRUMENT_TEMPERATURE = 11.234
LENS_TEMPERATURE = 8.1755
MACROPIXEL_SIZE = 2
MISSING_FRAMES = 0
PIXEL_SUBSAMPLING_FLAG = N
SIGNAL_CHAIN_ID = 3
/* RADIOMETRIC DATA ELEMENTS */
BANDWIDTH = 48.0
CENTER_FILTER_WAVELENGTH = 748.0
RADIANCE_OFFSET = 0.315727
RADIANCE_SCALING_FACTOR = 0.00227551
REFLECTANCE_SCALING_FACTOR = 0.000315821
MEX:REFLECTANCE_OFFSET = 0.0438202
/* IMAGE OBJECT DEFINITIONS */
OBJECT = IMAGE
  INTERCHANGE_FORMAT = BINARY
  LINES = 7930
  LINE_SAMPLES = 4142
  SAMPLE_TYPE = UNSIGNED_INTEGER
  SAMPLE_BITS = 8
  BANDS = 1
  BAND_STORAGE_TYPE = BAND_SEQUENTIAL
  MAXIMUM = 255
  MEAN = 106.603
  MINIMUM = 1
  STANDARD_DEVIATION = 33.0568
END_OBJECT = IMAGE
/* MAP OBJECT DEFINITIONS */
OBJECT = IMAGE_MAP_PROJECTION
  ^DATA_SET_MAP_PROJECTION_CATALOG= "DSMAP.CAT"
  A_AXIS_RADIUS = 3396.0
  B_AXIS_RADIUS = 3396.0
  C_AXIS_RADIUS = 3396.0
  CENTER_LATITUDE = 0.0
  CENTER_LONGITUDE = 287.0
  COORDINATE_SYSTEM_NAME = PLANETOGRAPHIC
  COORDINATE_SYSTEM_TYPE = "BODY-FIXED ROTATING"
  EASTERNMOST_LONGITUDE = 298.8
  FIRST_STANDARD_PARALLEL = "N/A"
  LINE_FIRST_PIXEL = 1
  LINE_LAST_PIXEL = 7930
  LINE_PROJECTION_OFFSET = 44283.75
  MAP_PROJECTION_ROTATION = 0.0
  MAP_PROJECTION_TYPE = SINUSOIDAL
  MAP_RESOLUTION = 592.713803866667
  MAP_SCALE = 0.1
  MAXIMUM_LATITUDE = 74.6643
  MINIMUM_LATITUDE = 61.3467
  POSITIVE_LONGITUDE_DIRECTION = EAST
  REFERENCE_LATITUDE = "N/A"
  REFERENCE_LONGITUDE = "N/A"
  SAMPLE_FIRST_PIXEL = 1
  SAMPLE_LAST_PIXEL = 4142
  SAMPLE_PROJECTION_OFFSET = 1894.75
  SECOND_STANDARD_PARALLEL = "N/A"
  WESTERNMOST_LONGITUDE = 280.199
END_OBJECT = IMAGE_MAP_PROJECTION
END
