PDS_VERSION_ID = PDS3
/* FILE DATA ELEMENTS */
RECORD_TYPE = UNDEFINED
/* POINTERS TO DATA OBJECTS */
^IMAGE = ("H8202_0000_IR4.TIF")
/* IDENTIFICATION DATA ELEMENTS */
DATA_SET_ID = "MEX-M-HRSC-4-REFDR-MAPPROJECT-EXT3-V4.0"
DATA_SET_NAME = "MARS EXPRESS HRSC MAP PROJECTED REFDR EXTENSION3 V4.0"
DETECTOR_ID = MEX_HRSC_IR
EVENT_TYPE = "MARS-REGIONAL-MAPPING-Im-Pf-Eo"
INSTRUMENT_HOST_ID = MEX
INSTRUMENT_HOST_NAME = "MARS EXPRESS"
INSTRUMENT_ID = HRSC
INSTRUMENT_NAME = "HIGH RESOLUTION STEREO CAMERA"
MISSION_NAME = "MARS EXPRESS"
MISSION_PHASE_NAME = ME_Phase_20
PROCESSING_LEVEL_ID = 4
PRODUCT_CREATION_TIME = 2023-02-03T04:36:48.000Z
PRODUCT_ID = "H8202_0000_IR4.TIF"
RELEASE_ID = 0004
REVISION_ID = 0000
/* QUALITY DATA ELEMENTS */
DATA_QUALITY_ID = 1
DATA_QUALITY_DESC = "Data calculated based on original SPICE kernels"
/* TIME DATA ELEMENTS */
SPACECRAFT_CLOCK_START_COUNT = "1/0223220608.08271"
SPACECRAFT_CLOCK_STOP_COUNT = "1/0223221565.40700"
START_TIME = 2010-05-29T13:48:45.356Z
STOP_TIME = 2010-05-29T13:57:07.455Z
/* ORBITAL DATA ELEMENTS */
ASCENDING_NODE_LONGITUDE = 60.69
MAXIMUM_RESOLUTION = 0.1243
FOOTPRINT_POINT_LATITUDE = (61.2686,61.3332,61.4137,61.4879, 61.5558,61.6174,61.6727,61.7217,61.7643 ,61.8007,61.8308,61.8547,61.874,61.8836 ,61.8846,61.7618,62.2322,62.5428, 62.8513,63.1577,63.4603,63.761,64.0594, 64.3553,64.649,65.2293,65.8001,66.3621, 66.9151,67.4585,67.9938,68.5208,69.0398 ,69.55,70.0521,70.5466,71.033,71.5113, 71.9821,72.4456,72.9019,73.3507,73.7917 ,74.226,74.6531,74.7588,74.7977,74.8046 ,74.8056,74.7878,74.7622,74.7346, 74.6993,74.6577,74.6088,74.5534,74.4913 ,74.4226,74.3469,74.2654,74.106,74.0064 ,73.9006,73.7888,73.6708,73.5469, 73.4166,73.2808,73.1393,72.8781,72.8396 ,72.8251,72.477,72.12,71.7536,71.3779, 70.9927,70.5979,70.1934,69.7795,69.3559 ,68.9227,68.4792,68.0261,67.5627, 67.0895,66.6061,66.1123,65.6082,65.0937 ,64.5683,64.0322,63.4855,62.9273, 62.3582,62.0694,61.7779,61.3351,61.1862 ,61.2686)
FOOTPRINT_POINT_LONGITUDE = (289.984,289.366,288.54,287.713,286.883 ,286.051,285.217,284.382,283.546, 282.708,281.869,281.027,280.079,279.34, 279.234,279.12,279.033,278.974,278.914, 278.852,278.789,278.724,278.659,278.592 ,278.523,278.382,278.235,278.081, 277.921,277.753,277.578,277.395,277.204 ,277.005,276.796,276.577,276.349, 276.109,275.857,275.594,275.318,275.028 ,274.723,274.403,274.066,273.979, 273.947,275.13,276.325,278.408,279.89, 281.071,282.245,283.412,284.571,285.723 ,286.866,287.999,289.122,290.235, 292.153,293.232,294.299,295.351,296.389 ,297.413,298.422,299.416,300.396, 302.074,302.311,302.394,301.708,301.04, 300.389,299.757,299.142,298.545,297.964 ,297.4,296.853,296.322,295.807,295.308, 294.823,294.354,293.899,293.459,293.032 ,292.619,292.219,291.832,291.458, 291.096,290.746,290.576,290.409,290.163 ,290.082,289.984)
ORBIT_NUMBER = 8202
ORBITAL_ECCENTRICITY = 0.579
ORBITAL_INCLINATION = 86.83
ORBITAL_SEMIMAJOR_AXIS = 8864.69
PERIAPSIS_ALTITUDE = 337.13
PERIAPSIS_ARGUMENT_ANGLE = 0.8
PERIAPSIS_TIME = 2010-05-29T13:27:49.000Z
SPACECRAFT_ORIENTATION = (0.0,1.0,0.0)
^MEX_ORIENTATION_DESC = "MEX_ORIENTATION_DESC.TXT"
SPACECRAFT_POINTING_MODE = ACROSSTRACK
^MEX_POINTING_DESC = "MEX_POINTING_DESC.TXT"
RIGHT_ASCENSION = -1e+32
DECLINATION = -1e+32
OFFSET_ANGLE = -0.6
SPACECRAFT_SOLAR_DISTANCE = 2.46615e+08
TARGET_NAME = MARS
/* CAMERA DATA ELEMENTS */
DETECTOR_TEMPERATURE = 17.351
FOCAL_PLANE_TEMPERATURE = 7.7677
INST_CMPRS_NAME = "DISCRETE COSINE TRANSFORMATION (DCT)"
INST_CMPRS_RATIO = 8.78825
INST_CMPRS_QUALITY = 0
INST_CMPRS_QUANTZ_TBL_ID = 0
INSTRUMENT_TEMPERATURE = 11.234
LENS_TEMPERATURE = 8.1755
MACROPIXEL_SIZE = 2
MISSING_FRAMES = 0
PIXEL_SUBSAMPLING_FLAG = N
SIGNAL_CHAIN_ID = 3
/* RADIOMETRIC DATA ELEMENTS */
BANDWIDTH = 81.0
CENTER_FILTER_WAVELENGTH = 955.5
RADIANCE_OFFSET = 0.259481
RADIANCE_SCALING_FACTOR = 0.00222016
REFLECTANCE_SCALING_FACTOR = 0.000291304
MEX:REFLECTANCE_OFFSET = 0.0340461
/* IMAGE OBJECT DEFINITIONS */
OBJECT = IMAGE
  INTERCHANGE_FORMAT = BINARY
  LINES = 7930
  LINE_SAMPLES = 4142
  SAMPLE_TYPE = UNSIGNED_INTEGER
  SAMPLE_BITS = 8
  BANDS = 1
  BAND_STORAGE_TYPE = BAND_SEQUENTIAL
  MAXIMUM = 255
  MEAN = 110.603
  MINIMUM = 5
  STANDARD_DEVIATION = 44.1635
END_OBJECT = IMAGE
/* MAP OBJECT DEFINITIONS */
OBJECT = IMAGE_MAP_PROJECTION
  ^DATA_SET_MAP_PROJECTION_CATALOG= "DSMAP.CAT"
  A_AXIS_RADIUS = 3396.0
  B_AXIS_RADIUS = 3396.0
  C_AXIS_RADIUS = 3396.0
  CENTER_LATITUDE = 0.0
  CENTER_LONGITUDE = 287.0
  COORDINATE_SYSTEM_NAME = PLANETOGRAPHIC
  COORDINATE_SYSTEM_TYPE = "BODY-FIXED ROTATING"
  EASTERNMOST_LONGITUDE = 302.394
  FIRST_STANDARD_PARALLEL = "N/A"
  LINE_FIRST_PIXEL = 1
  LINE_LAST_PIXEL = 7930
  LINE_PROJECTION_OFFSET = 44283.75
  MAP_PROJECTION_ROTATION = 0.0
  MAP_PROJECTION_TYPE = SINUSOIDAL
  MAP_RESOLUTION = 592.713803866667
  MAP_SCALE = 0.1
  MAXIMUM_LATITUDE = 74.8056
  MINIMUM_LATITUDE = 61.1862
  POSITIVE_LONGITUDE_DIRECTION = EAST
  REFERENCE_LATITUDE = "N/A"
  REFERENCE_LONGITUDE = "N/A"
  SAMPLE_FIRST_PIXEL = 1
  SAMPLE_LAST_PIXEL = 4142
  SAMPLE_PROJECTION_OFFSET = 1894.75
  SECOND_STANDARD_PARALLEL = "N/A"
  WESTERNMOST_LONGITUDE = 273.947
END_OBJECT = IMAGE_MAP_PROJECTION
END
