PDS_VERSION_ID = PDS3
/* FILE DATA ELEMENTS */
RECORD_TYPE = UNDEFINED
/* POINTERS TO DATA OBJECTS */
^IMAGE = ("H8202_0000_BL4.TIF")
/* IDENTIFICATION DATA ELEMENTS */
DATA_SET_ID = "MEX-M-HRSC-4-REFDR-MAPPROJECT-EXT3-V4.0"
DATA_SET_NAME = "MARS EXPRESS HRSC MAP PROJECTED REFDR EXTENSION3 V4.0"
DETECTOR_ID = MEX_HRSC_BLUE
EVENT_TYPE = "MARS-REGIONAL-MAPPING-Im-Pf-Eo"
INSTRUMENT_HOST_ID = MEX
INSTRUMENT_HOST_NAME = "MARS EXPRESS"
INSTRUMENT_ID = HRSC
INSTRUMENT_NAME = "HIGH RESOLUTION STEREO CAMERA"
MISSION_NAME = "MARS EXPRESS"
MISSION_PHASE_NAME = ME_Phase_20
PROCESSING_LEVEL_ID = 4
PRODUCT_CREATION_TIME = 2023-02-03T04:36:48.000Z
PRODUCT_ID = "H8202_0000_BL4.TIF"
RELEASE_ID = 0004
REVISION_ID = 0000
/* QUALITY DATA ELEMENTS */
DATA_QUALITY_ID = 1
DATA_QUALITY_DESC = "Data calculated based on original SPICE kernels"
/* TIME DATA ELEMENTS */
SPACECRAFT_CLOCK_START_COUNT = "1/0223220608.08271"
SPACECRAFT_CLOCK_STOP_COUNT = "1/0223221565.40700"
START_TIME = 2010-05-29T13:45:21.447Z
STOP_TIME = 2010-05-29T13:50:34.204Z
/* ORBITAL DATA ELEMENTS */
ASCENDING_NODE_LONGITUDE = 60.69
MAXIMUM_RESOLUTION = 0.0947
FOOTPRINT_POINT_LATITUDE = (61.3422,61.3932,61.4351,61.4739, 61.5096,61.5421,61.5716,61.598,61.6213, 61.6415,61.6588,61.6729,61.6893,61.6903 ,61.7183,61.9927,62.2687,62.5461, 62.9614,63.2371,63.5119,63.8152,64.088, 64.3599,64.6308,64.9008,65.1698,65.438, 65.7052,65.9715,66.2369,66.5014,66.7649 ,67.0277,67.5504,68.0694,68.5849, 69.0969,69.6053,70.1101,70.6116,71.1096 ,71.6042,72.0954,72.5832,73.0678,73.549 ,74.0269,74.5016,74.6198,74.6984, 74.6782,74.641,74.595,74.5526,74.4858, 74.4073,74.3051,74.242,74.1317,74.0102, 73.825,73.6581,73.5592,73.539,73.5307, 73.1109,72.6853,72.2539,71.8169,71.3744 ,70.9265,70.4733,70.0149,69.5513, 69.0826,68.6089,68.1301,67.6465,67.1579 ,66.6645,66.1662,65.6632,65.41,65.1555, 64.8999,64.6431,64.3851,64.126,63.8656, 63.6042,63.3415,63.0492,62.7841,62.5179 ,62.1163,61.8482,61.5813,61.4483, 61.3422)
FOOTPRINT_POINT_LONGITUDE = (288.98,288.238,287.58,286.921,286.262, 285.603,284.944,284.285,283.627,282.968 ,282.309,281.649,280.576,280.493, 280.406,280.39,280.373,280.356,280.33, 280.313,280.295,280.276,280.258,280.24, 280.221,280.203,280.184,280.166,280.147 ,280.128,280.108,280.089,280.069, 280.049,280.008,279.967,279.924,279.881 ,279.837,279.792,279.746,279.698,279.65 ,279.6,279.549,279.496,279.441,279.385, 279.326,279.312,279.302,280.969,282.848 ,284.508,285.745,287.383,289.007, 290.818,291.815,293.397,294.959,297.074 ,298.774,299.708,299.893,299.958, 299.258,298.591,297.954,297.346,296.765 ,296.211,295.68,295.173,294.688,294.223 ,293.779,293.352,292.944,292.553, 292.177,291.816,291.47,291.302,291.138, 290.977,290.82,290.665,290.514,290.365, 290.22,290.077,289.922,289.785,289.651, 289.455,289.328,289.204,289.143,288.98)
ORBIT_NUMBER = 8202
ORBITAL_ECCENTRICITY = 0.579
ORBITAL_INCLINATION = 86.83
ORBITAL_SEMIMAJOR_AXIS = 8864.69
PERIAPSIS_ALTITUDE = 337.13
PERIAPSIS_ARGUMENT_ANGLE = 0.8
PERIAPSIS_TIME = 2010-05-29T13:27:49.000Z
SPACECRAFT_ORIENTATION = (0.0,1.0,0.0)
^MEX_ORIENTATION_DESC = "MEX_ORIENTATION_DESC.TXT"
SPACECRAFT_POINTING_MODE = ACROSSTRACK
^MEX_POINTING_DESC = "MEX_POINTING_DESC.TXT"
RIGHT_ASCENSION = -1e+32
DECLINATION = -1e+32
OFFSET_ANGLE = -0.6
SPACECRAFT_SOLAR_DISTANCE = 2.46615e+08
TARGET_NAME = MARS
/* CAMERA DATA ELEMENTS */
DETECTOR_TEMPERATURE = 18.3705
FOCAL_PLANE_TEMPERATURE = 7.7677
INST_CMPRS_NAME = "DISCRETE COSINE TRANSFORMATION (DCT)"
INST_CMPRS_RATIO = 7.38246
INST_CMPRS_QUALITY = 0
INST_CMPRS_QUANTZ_TBL_ID = 0
INSTRUMENT_TEMPERATURE = 11.234
LENS_TEMPERATURE = 8.1755
MACROPIXEL_SIZE = 2
MISSING_FRAMES = 3
PIXEL_SUBSAMPLING_FLAG = N
SIGNAL_CHAIN_ID = 2
/* RADIOMETRIC DATA ELEMENTS */
BANDWIDTH = 76.0
CENTER_FILTER_WAVELENGTH = 444.0
RADIANCE_OFFSET = 0.222841
RADIANCE_SCALING_FACTOR = 0.000873884
REFLECTANCE_SCALING_FACTOR = 5.46067e-05
MEX:REFLECTANCE_OFFSET = 0.0139247
/* IMAGE OBJECT DEFINITIONS */
OBJECT = IMAGE
  INTERCHANGE_FORMAT = BINARY
  LINES = 7930
  LINE_SAMPLES = 4142
  SAMPLE_TYPE = UNSIGNED_INTEGER
  SAMPLE_BITS = 8
  BANDS = 1
  BAND_STORAGE_TYPE = BAND_SEQUENTIAL
  MAXIMUM = 255
  MEAN = 128.998
  MINIMUM = 1
  STANDARD_DEVIATION = 36.593
END_OBJECT = IMAGE
/* MAP OBJECT DEFINITIONS */
OBJECT = IMAGE_MAP_PROJECTION
  ^DATA_SET_MAP_PROJECTION_CATALOG= "DSMAP.CAT"
  A_AXIS_RADIUS = 3396.0
  B_AXIS_RADIUS = 3396.0
  C_AXIS_RADIUS = 3396.0
  CENTER_LATITUDE = 0.0
  CENTER_LONGITUDE = 287.0
  COORDINATE_SYSTEM_NAME = PLANETOGRAPHIC
  COORDINATE_SYSTEM_TYPE = "BODY-FIXED ROTATING"
  EASTERNMOST_LONGITUDE = 299.958
  FIRST_STANDARD_PARALLEL = "N/A"
  LINE_FIRST_PIXEL = 1
  LINE_LAST_PIXEL = 7930
  LINE_PROJECTION_OFFSET = 44283.75
  MAP_PROJECTION_ROTATION = 0.0
  MAP_PROJECTION_TYPE = SINUSOIDAL
  MAP_RESOLUTION = 592.713803866667
  MAP_SCALE = 0.1
  MAXIMUM_LATITUDE = 74.69840000000001
  MINIMUM_LATITUDE = 61.3422
  POSITIVE_LONGITUDE_DIRECTION = EAST
  REFERENCE_LATITUDE = "N/A"
  REFERENCE_LONGITUDE = "N/A"
  SAMPLE_FIRST_PIXEL = 1
  SAMPLE_LAST_PIXEL = 4142
  SAMPLE_PROJECTION_OFFSET = 1894.75
  SECOND_STANDARD_PARALLEL = "N/A"
  WESTERNMOST_LONGITUDE = 279.302
END_OBJECT = IMAGE_MAP_PROJECTION
END
