PDS_VERSION_ID = PDS3
/* FILE DATA ELEMENTS */
RECORD_TYPE = UNDEFINED
/* POINTERS TO DATA OBJECTS */
^IMAGE = ("H8160_0000_S14.TIF")
/* IDENTIFICATION DATA ELEMENTS */
DATA_SET_ID = "MEX-M-HRSC-4-REFDR-MAPPROJECT-EXT3-V4.0"
DATA_SET_NAME = "MARS EXPRESS HRSC MAP PROJECTED REFDR EXTENSION3 V4.0"
DETECTOR_ID = MEX_HRSC_S1
EVENT_TYPE = "MARS-REGIONAL-VARIABLE-Gl-Eo-La"
INSTRUMENT_HOST_ID = MEX
INSTRUMENT_HOST_NAME = "MARS EXPRESS"
INSTRUMENT_ID = HRSC
INSTRUMENT_NAME = "HIGH RESOLUTION STEREO CAMERA"
MISSION_NAME = "MARS EXPRESS"
MISSION_PHASE_NAME = ME_Phase_20
PROCESSING_LEVEL_ID = 4
PRODUCT_CREATION_TIME = 2023-02-03T04:36:48.000Z
PRODUCT_ID = "H8160_0000_S14.TIF"
RELEASE_ID = 0004
REVISION_ID = 0000
/* QUALITY DATA ELEMENTS */
DATA_QUALITY_ID = 1
DATA_QUALITY_DESC = "Data calculated based on original SPICE kernels"
/* TIME DATA ELEMENTS */
SPACECRAFT_CLOCK_START_COUNT = "1/0222163478.09068"
SPACECRAFT_CLOCK_STOP_COUNT = "1/0222164411.25082"
START_TIME = 2010-05-17T08:11:34.279Z
STOP_TIME = 2010-05-17T08:20:11.990Z
/* ORBITAL DATA ELEMENTS */
ASCENDING_NODE_LONGITUDE = 61.5
MAXIMUM_RESOLUTION = 0.1799
FOOTPRINT_POINT_LATITUDE = (76.2276,76.6182,76.989,77.3392,77.6679 ,77.9739,78.2561,78.513,78.7435,78.9466 ,79.1211,79.2659,79.4449,79.4539, 79.2653,79.9565,80.4165,80.8788,81.3364 ,82.0218,82.4769,83.1581,83.6098, 84.2859,84.7343,85.1809,85.848,86.2922, 86.7315,87.1663,87.5987,88.0223,88.4323 ,88.8157,89.1386,89.3114,89.1028, 88.5818,87.9793,86.9248,86.0668,85.4201 ,84.5561,83.6923,83.0435,82.1792,81.316 ,80.4533,79.5907,78.7286,78.5131, 78.4352,78.4071,78.3209,78.2314,78.0738 ,77.8742,77.6335,77.3535,77.0362, 76.6837,76.2981,75.8808,75.4334,75.0792 ,75.0186,74.9974,75.6764,76.3344, 76.9681,77.5736,78.2841,78.6821,79.0552 ,79.4009,79.9969,80.4503,80.6601, 80.7869,80.829,80.7848,80.6957,80.6069, 80.4385,80.1456,79.9708,79.6787,79.4629 ,79.2295,78.9837,78.724,78.4518,78.0208 ,77.7202,77.4086,77.0873,76.5891, 76.2464,76.072,76.2276)
FOOTPRINT_POINT_LONGITUDE = (288.089,286.203,284.214,282.119, 279.916,277.601,275.174,272.64,270.002, 267.264,264.43,261.512,256.242,255.859, 255.423,255.635,255.798,255.986,256.188 ,256.542,256.816,257.303,257.685,258.38 ,258.944,259.614,260.898,262.032, 263.457,265.312,267.882,271.549,277.164 ,286.549,303.795,334.413,381.544, 402.324,411.345,418.215,421.002,422.39, 423.71,424.657,425.2,425.775,426.228, 426.59,426.88,427.118,427.171,427.189, 423.037,418.909,416.198,412.654,409.209 ,405.878,402.667,399.587,396.646, 393.846,391.184,388.659,386.852,386.558 ,386.451,384.433,382.204,379.74,377.014 ,373.204,370.691,367.983,365.082,358.67 ,351.542,346.432,341.095,335.644, 330.182,326.142,323.481,319.607,314.672 ,312.317,308.947,306.805,304.744, 302.777,300.895,299.1,296.563,294.972, 293.457,292.016,289.986,288.715,288.103 ,288.089)
ORBIT_NUMBER = 8160
ORBITAL_ECCENTRICITY = 0.579
ORBITAL_INCLINATION = 86.82
ORBITAL_SEMIMAJOR_AXIS = 8871.27
PERIAPSIS_ALTITUDE = 340.42
PERIAPSIS_ARGUMENT_ANGLE = 8.1
PERIAPSIS_TIME = 2010-05-17T07:43:47.000Z
SPACECRAFT_ORIENTATION = (0.0,1.0,0.0)
^MEX_ORIENTATION_DESC = "MEX_ORIENTATION_DESC.TXT"
SPACECRAFT_POINTING_MODE = INERT
^MEX_POINTING_DESC = "MEX_POINTING_DESC.TXT"
RIGHT_ASCENSION = 280.396
DECLINATION = -39.786
OFFSET_ANGLE = -1e+32
SPACECRAFT_SOLAR_DISTANCE = 2.47567e+08
TARGET_NAME = MARS
/* CAMERA DATA ELEMENTS */
DETECTOR_TEMPERATURE = 17.351
FOCAL_PLANE_TEMPERATURE = 8.3794
INST_CMPRS_NAME = "DISCRETE COSINE TRANSFORMATION (DCT)"
INST_CMPRS_RATIO = 14.4848
INST_CMPRS_QUALITY = 0
INST_CMPRS_QUANTZ_TBL_ID = 0
INSTRUMENT_TEMPERATURE = 11.0301
LENS_TEMPERATURE = 8.7872
MACROPIXEL_SIZE = 2
MISSING_FRAMES = 0
PIXEL_SUBSAMPLING_FLAG = N
SIGNAL_CHAIN_ID = 1
/* RADIOMETRIC DATA ELEMENTS */
BANDWIDTH = 180.0
CENTER_FILTER_WAVELENGTH = 677.0
RADIANCE_OFFSET = 1.56115
RADIANCE_SCALING_FACTOR = 0.0299111
REFLECTANCE_SCALING_FACTOR = 0.000956433
MEX:REFLECTANCE_OFFSET = 0.0499191
/* IMAGE OBJECT DEFINITIONS */
OBJECT = IMAGE
  INTERCHANGE_FORMAT = BINARY
  LINES = 8826
  LINE_SAMPLES = 13832
  SAMPLE_TYPE = UNSIGNED_INTEGER
  SAMPLE_BITS = 8
  BANDS = 1
  BAND_STORAGE_TYPE = BAND_SEQUENTIAL
  MAXIMUM = 255
  MEAN = 105.267
  MINIMUM = 1
  STANDARD_DEVIATION = 55.9998
END_OBJECT = IMAGE
/* MAP OBJECT DEFINITIONS */
OBJECT = IMAGE_MAP_PROJECTION
  ^DATA_SET_MAP_PROJECTION_CATALOG= "DSMAP.CAT"
  A_AXIS_RADIUS = 3396.0
  B_AXIS_RADIUS = 3396.0
  C_AXIS_RADIUS = 3396.0
  CENTER_LATITUDE = 90.0
  CENTER_LONGITUDE = 0.0
  COORDINATE_SYSTEM_NAME = PLANETOGRAPHIC
  COORDINATE_SYSTEM_TYPE = "BODY-FIXED ROTATING"
  EASTERNMOST_LONGITUDE = 67.18899999999999
  FIRST_STANDARD_PARALLEL = "N/A"
  LINE_FIRST_PIXEL = 1
  LINE_LAST_PIXEL = 8826
  LINE_PROJECTION_OFFSET = 1163.75
  MAP_PROJECTION_ROTATION = 0.0
  MAP_PROJECTION_TYPE = STEREOGRAPHIC
  MAP_RESOLUTION = 592.713803866667
  MAP_SCALE = 0.1
  MAXIMUM_LATITUDE = 89.31140000000001
  MINIMUM_LATITUDE = 74.9974
  POSITIVE_LONGITUDE_DIRECTION = EAST
  REFERENCE_LATITUDE = "N/A"
  REFERENCE_LONGITUDE = "N/A"
  SAMPLE_FIRST_PIXEL = 1
  SAMPLE_LAST_PIXEL = 13832
  SAMPLE_PROJECTION_OFFSET = 7669.25
  SECOND_STANDARD_PARALLEL = "N/A"
  WESTERNMOST_LONGITUDE = -104.577
END_OBJECT = IMAGE_MAP_PROJECTION
END
