PDS_VERSION_ID = PDS3
/* FILE DATA ELEMENTS */
RECORD_TYPE = UNDEFINED
/* POINTERS TO DATA OBJECTS */
^IMAGE = ("H8080_0000_P24.TIF")
/* IDENTIFICATION DATA ELEMENTS */
DATA_SET_ID = "MEX-M-HRSC-4-REFDR-MAPPROJECT-EXT3-V4.0"
DATA_SET_NAME = "MARS EXPRESS HRSC MAP PROJECTED REFDR EXTENSION3 V4.0"
DETECTOR_ID = MEX_HRSC_P2
EVENT_TYPE = "MARS-REGIONAL-VARIABLE-Gl-At"
INSTRUMENT_HOST_ID = MEX
INSTRUMENT_HOST_NAME = "MARS EXPRESS"
INSTRUMENT_ID = HRSC
INSTRUMENT_NAME = "HIGH RESOLUTION STEREO CAMERA"
MISSION_NAME = "MARS EXPRESS"
MISSION_PHASE_NAME = ME_Phase_20
PROCESSING_LEVEL_ID = 4
PRODUCT_CREATION_TIME = 2023-02-03T04:36:48.000Z
PRODUCT_ID = "H8080_0000_P24.TIF"
RELEASE_ID = 0004
REVISION_ID = 0000
/* QUALITY DATA ELEMENTS */
DATA_QUALITY_ID = 1
DATA_QUALITY_DESC = "Data calculated based on original SPICE kernels"
/* TIME DATA ELEMENTS */
SPACECRAFT_CLOCK_START_COUNT = "1/0220148837.07288"
SPACECRAFT_CLOCK_STOP_COUNT = "1/0220149945.63885"
START_TIME = 2010-04-24T00:27:58.704Z
STOP_TIME = 2010-04-24T00:35:54.243Z
/* ORBITAL DATA ELEMENTS */
ASCENDING_NODE_LONGITUDE = 63.05
MAXIMUM_RESOLUTION = 0.1716
FOOTPRINT_POINT_LATITUDE = (78.9515,79.1355,79.337,79.5041,79.7193 ,79.8264,79.9171,79.9212,80.0436,80.778 ,81.2648,81.7496,82.2321,82.7124, 83.1904,83.6664,84.1381,84.608,85.0755, 85.5365,85.9926,86.673,87.3387,87.773, 88.1903,88.5831,88.9214,89.1461,89.1622 ,88.9618,88.6388,88.2616,87.859,87.4463 ,86.8158,86.1788,85.3289,84.4763, 83.8461,82.8053,81.7697,80.9479,80.1309 ,79.5219,78.7188,77.9215,77.7232, 77.6957,77.6861,77.6583,77.6133,77.5512 ,77.427,77.3233,77.2038,77.0321,76.7956 ,76.6197,76.2774,76.2514,76.2432, 76.9714,77.5119,78.2315,78.9471,79.6551 ,80.351,81.0373,82.005,82.6164,83.0418, 83.4341,83.8888,84.0815,84.2475,84.3839 ,84.4881,84.5789,84.5926,84.5704, 84.5102,84.4128,84.2794,84.1125,83.9141 ,83.6867,83.433,83.1552,82.856,82.5374, 82.2015,81.8499,81.4843,81.1064,80.717, 80.317,79.9078,79.2784,79.0646,78.9515)
FOOTPRINT_POINT_LONGITUDE = (181.519,179.266,176.444,173.701, 169.263,166.334,162.967,162.778,162.511 ,162.856,163.12,163.414,163.746,164.122 ,164.552,165.045,165.624,166.3,167.104, 168.085,169.292,171.705,175.335,178.936 ,184.224,192.533,206.493,230.026, 260.851,285.687,300.616,309.423,314.999 ,318.728,322.474,324.965,327.191, 328.735,329.564,330.591,331.351,331.82, 332.205,332.449,332.717,332.942,332.993 ,332.999,330.36,328.244,326.146,324.07, 321.007,319.005,317.036,314.631,311.834 ,310.026,306.971,306.759,306.687, 305.427,304.37,302.782,300.955,298.84, 296.378,293.48,288.169,283.768,279.942, 275.593,268.926,265.206,261.231,257.022 ,252.607,245.702,241.019,236.272, 231.576,226.985,222.609,218.418,214.45, 210.739,207.294,204.101,201.159,198.452 ,195.966,193.682,191.586,189.665, 187.896,186.267,184.768,182.733,182.106 ,181.519)
ORBIT_NUMBER = 8080
ORBITAL_ECCENTRICITY = 0.577
ORBITAL_INCLINATION = 86.84
ORBITAL_SEMIMAJOR_AXIS = 8840.83
PERIAPSIS_ALTITUDE = 349.09
PERIAPSIS_ARGUMENT_ANGLE = 22.0
PERIAPSIS_TIME = 2010-04-24T00:12:27.000Z
SPACECRAFT_ORIENTATION = (0.0,1.0,0.0)
^MEX_ORIENTATION_DESC = "MEX_ORIENTATION_DESC.TXT"
SPACECRAFT_POINTING_MODE = NADIR
^MEX_POINTING_DESC = "MEX_POINTING_DESC.TXT"
RIGHT_ASCENSION = -1e+32
DECLINATION = -1e+32
OFFSET_ANGLE = -1e+32
SPACECRAFT_SOLAR_DISTANCE = 2.48792e+08
TARGET_NAME = MARS
/* CAMERA DATA ELEMENTS */
DETECTOR_TEMPERATURE = 18.1666
FOCAL_PLANE_TEMPERATURE = 7.9716
INST_CMPRS_NAME = "DISCRETE COSINE TRANSFORMATION (DCT)"
INST_CMPRS_RATIO = 15.5369
INST_CMPRS_QUALITY = 0
INST_CMPRS_QUANTZ_TBL_ID = 0
INSTRUMENT_TEMPERATURE = 10.8262
LENS_TEMPERATURE = 7.9716
MACROPIXEL_SIZE = 4
MISSING_FRAMES = 0
PIXEL_SUBSAMPLING_FLAG = N
SIGNAL_CHAIN_ID = 1
/* RADIOMETRIC DATA ELEMENTS */
BANDWIDTH = 177.0
CENTER_FILTER_WAVELENGTH = 676.5
RADIANCE_OFFSET = 2.45159
RADIANCE_SCALING_FACTOR = 0.0309526
REFLECTANCE_SCALING_FACTOR = 0.00101584
MEX:REFLECTANCE_OFFSET = 0.0804588
/* IMAGE OBJECT DEFINITIONS */
OBJECT = IMAGE
  INTERCHANGE_FORMAT = BINARY
  LINES = 6623
  LINE_SAMPLES = 4357
  SAMPLE_TYPE = UNSIGNED_INTEGER
  SAMPLE_BITS = 8
  BANDS = 1
  BAND_STORAGE_TYPE = BAND_SEQUENTIAL
  MAXIMUM = 255
  MEAN = 103.602
  MINIMUM = 1
  STANDARD_DEVIATION = 54.4084
END_OBJECT = IMAGE
/* MAP OBJECT DEFINITIONS */
OBJECT = IMAGE_MAP_PROJECTION
  ^DATA_SET_MAP_PROJECTION_CATALOG= "DSMAP.CAT"
  A_AXIS_RADIUS = 3396.0
  B_AXIS_RADIUS = 3396.0
  C_AXIS_RADIUS = 3396.0
  CENTER_LATITUDE = 90.0
  CENTER_LONGITUDE = 0.0
  COORDINATE_SYSTEM_NAME = PLANETOGRAPHIC
  COORDINATE_SYSTEM_TYPE = "BODY-FIXED ROTATING"
  EASTERNMOST_LONGITUDE = 332.999
  FIRST_STANDARD_PARALLEL = "N/A"
  LINE_FIRST_PIXEL = 1
  LINE_LAST_PIXEL = 6623
  LINE_PROJECTION_OFFSET = 3293.75
  MAP_PROJECTION_ROTATION = 0.0
  MAP_PROJECTION_TYPE = STEREOGRAPHIC
  MAP_RESOLUTION = 296.356901933333
  MAP_SCALE = 0.2
  MAXIMUM_LATITUDE = 89.1622
  MINIMUM_LATITUDE = 76.2432
  POSITIVE_LONGITUDE_DIRECTION = EAST
  REFERENCE_LATITUDE = "N/A"
  REFERENCE_LONGITUDE = "N/A"
  SAMPLE_FIRST_PIXEL = 1
  SAMPLE_LAST_PIXEL = 4357
  SAMPLE_PROJECTION_OFFSET = 3422.25
  SECOND_STANDARD_PARALLEL = "N/A"
  WESTERNMOST_LONGITUDE = 162.511
END_OBJECT = IMAGE_MAP_PROJECTION
END
