PDS_VERSION_ID = PDS3
/* FILE DATA ELEMENTS */
RECORD_TYPE = UNDEFINED
/* POINTERS TO DATA OBJECTS */
^IMAGE = ("H8038_0000_S14.TIF")
/* IDENTIFICATION DATA ELEMENTS */
DATA_SET_ID = "MEX-M-HRSC-4-REFDR-MAPPROJECT-EXT3-V4.0"
DATA_SET_NAME = "MARS EXPRESS HRSC MAP PROJECTED REFDR EXTENSION3 V4.0"
DETECTOR_ID = MEX_HRSC_S1
EVENT_TYPE = "MARS-REGIONAL-VARIABLE-Gl-At"
INSTRUMENT_HOST_ID = MEX
INSTRUMENT_HOST_NAME = "MARS EXPRESS"
INSTRUMENT_ID = HRSC
INSTRUMENT_NAME = "HIGH RESOLUTION STEREO CAMERA"
MISSION_NAME = "MARS EXPRESS"
MISSION_PHASE_NAME = ME_Phase_20
PROCESSING_LEVEL_ID = 4
PRODUCT_CREATION_TIME = 2023-02-03T04:36:48.000Z
PRODUCT_ID = "H8038_0000_S14.TIF"
RELEASE_ID = 0004
REVISION_ID = 0000
/* QUALITY DATA ELEMENTS */
DATA_QUALITY_ID = 1
DATA_QUALITY_DESC = "Data calculated based on original SPICE kernels"
/* TIME DATA ELEMENTS */
SPACECRAFT_CLOCK_START_COUNT = "1/0219091214.09052"
SPACECRAFT_CLOCK_STOP_COUNT = "1/0219092346.64411"
START_TIME = 2010-04-11T18:44:24.354Z
STOP_TIME = 2010-04-11T18:59:49.415Z
/* ORBITAL DATA ELEMENTS */
ASCENDING_NODE_LONGITUDE = 63.86
MAXIMUM_RESOLUTION = 0.1987
FOOTPRINT_POINT_LATITUDE = (79.4412,79.8289,80.0744,80.3343, 80.5023,80.6329,80.7245,80.7289,80.563, 81.2352,81.8977,82.55,83.1925,83.824, 84.4512,85.0651,85.6753,86.2726,86.8598 ,87.4389,88.0063,88.5617,89.1029, 89.6014,89.681,89.2226,88.7193,88.2166, 87.7168,87.2247,86.7394,86.2629,85.795, 85.3307,84.8707,84.4231,83.3338,82.4837 ,81.6557,80.8573,80.0828,79.3302, 78.5986,77.8879,77.1975,76.5276,75.8768 ,75.7168,75.7091,75.8148,75.9113, 75.9802,76.0206,76.0263,75.9932,75.9314 ,75.831,75.7128,75.5679,75.2763,75.0643 ,75.0361,75.0268,75.5533,76.0961, 76.6559,77.2311,77.8208,78.4244,79.039, 79.6631,80.2914,80.9189,81.5356,82.1372 ,82.7069,82.9725,83.2225,83.4522, 83.7517,83.914,84.0911,84.1585,84.181, 84.1554,84.0807,83.9549,83.7795,83.5562 ,83.2869,82.9744,82.6223,82.2334, 81.8105,81.3564,80.8733,80.3639,79.5553 ,79.2749,79.4412)
FOOTPRINT_POINT_LONGITUDE = (160.294,156.255,153.133,149.019,145.58 ,142.02,138.362,138.131,137.613,137.746 ,137.897,138.066,138.261,138.482,138.77 ,139.097,139.54,140.083,140.802,141.835 ,143.393,146.071,151.942,173.095, 268.997,299.16,306.277,309.362,311.072, 312.181,312.962,313.558,314.036,314.407 ,314.705,314.987,315.556,315.892, 316.173,316.442,316.691,316.922,317.141 ,317.352,317.558,317.764,317.968, 318.018,318.021,315.596,312.768,309.922 ,307.065,302.423,299.576,296.745, 293.589,290.819,288.09,283.753,281.15, 280.828,280.721,279.944,279.067,278.069 ,276.93,275.624,274.111,272.355,270.292 ,267.863,264.978,261.562,257.406, 252.358,249.473,246.285,242.821,236.98, 232.716,225.819,220.919,215.858,210.706 ,205.569,200.507,195.615,190.957, 186.572,182.489,178.722,175.265,172.108 ,169.232,166.618,164.243,161.084, 160.128,160.294)
ORBIT_NUMBER = 8038
ORBITAL_ECCENTRICITY = 0.576
ORBITAL_INCLINATION = 86.82
ORBITAL_SEMIMAJOR_AXIS = 8836.6
PERIAPSIS_ALTITUDE = 353.79
PERIAPSIS_ARGUMENT_ANGLE = 29.28
PERIAPSIS_TIME = 2010-04-11T18:27:22.000Z
SPACECRAFT_ORIENTATION = (0.0,1.0,0.0)
^MEX_ORIENTATION_DESC = "MEX_ORIENTATION_DESC.TXT"
SPACECRAFT_POINTING_MODE = NADIR
^MEX_POINTING_DESC = "MEX_POINTING_DESC.TXT"
RIGHT_ASCENSION = -1e+32
DECLINATION = -1e+32
OFFSET_ANGLE = -1e+32
SPACECRAFT_SOLAR_DISTANCE = 2.49117e+08
TARGET_NAME = MARS
/* CAMERA DATA ELEMENTS */
DETECTOR_TEMPERATURE = 17.351
FOCAL_PLANE_TEMPERATURE = 7.9716
INST_CMPRS_NAME = "DISCRETE COSINE TRANSFORMATION (DCT)"
INST_CMPRS_RATIO = 21.9029
INST_CMPRS_QUALITY = 0
INST_CMPRS_QUANTZ_TBL_ID = 0
INSTRUMENT_TEMPERATURE = 11.234
LENS_TEMPERATURE = 8.5833
MACROPIXEL_SIZE = 4
MISSING_FRAMES = 0
PIXEL_SUBSAMPLING_FLAG = N
SIGNAL_CHAIN_ID = 1
/* RADIOMETRIC DATA ELEMENTS */
BANDWIDTH = 180.0
CENTER_FILTER_WAVELENGTH = 677.0
RADIANCE_OFFSET = 2.87673
RADIANCE_SCALING_FACTOR = 0.0299086
REFLECTANCE_SCALING_FACTOR = 0.000968379
MEX:REFLECTANCE_OFFSET = 0.0931427
/* IMAGE OBJECT DEFINITIONS */
OBJECT = IMAGE
  INTERCHANGE_FORMAT = BINARY
  LINES = 5536
  LINE_SAMPLES = 6169
  SAMPLE_TYPE = UNSIGNED_INTEGER
  SAMPLE_BITS = 8
  BANDS = 1
  BAND_STORAGE_TYPE = BAND_SEQUENTIAL
  MAXIMUM = 203
  MEAN = 50.0161
  MINIMUM = 3
  STANDARD_DEVIATION = 29.7614
END_OBJECT = IMAGE
/* MAP OBJECT DEFINITIONS */
OBJECT = IMAGE_MAP_PROJECTION
  ^DATA_SET_MAP_PROJECTION_CATALOG= "DSMAP.CAT"
  A_AXIS_RADIUS = 3396.0
  B_AXIS_RADIUS = 3396.0
  C_AXIS_RADIUS = 3396.0
  CENTER_LATITUDE = 90.0
  CENTER_LONGITUDE = 0.0
  COORDINATE_SYSTEM_NAME = PLANETOGRAPHIC
  COORDINATE_SYSTEM_TYPE = "BODY-FIXED ROTATING"
  EASTERNMOST_LONGITUDE = 318.021
  FIRST_STANDARD_PARALLEL = "N/A"
  LINE_FIRST_PIXEL = 1
  LINE_LAST_PIXEL = 5536
  LINE_PROJECTION_OFFSET = 2912.75
  MAP_PROJECTION_ROTATION = 0.0
  MAP_PROJECTION_TYPE = STEREOGRAPHIC
  MAP_RESOLUTION = 296.356901933333
  MAP_SCALE = 0.2
  MAXIMUM_LATITUDE = 89.681
  MINIMUM_LATITUDE = 75.02679999999999
  POSITIVE_LONGITUDE_DIRECTION = EAST
  REFERENCE_LATITUDE = "N/A"
  REFERENCE_LONGITUDE = "N/A"
  SAMPLE_FIRST_PIXEL = 1
  SAMPLE_LAST_PIXEL = 6169
  SAMPLE_PROJECTION_OFFSET = 4367.25
  SECOND_STANDARD_PARALLEL = "N/A"
  WESTERNMOST_LONGITUDE = 137.613
END_OBJECT = IMAGE_MAP_PROJECTION
END
