PDS_VERSION_ID = PDS3
/* FILE DATA ELEMENTS */
RECORD_TYPE = UNDEFINED
/* POINTERS TO DATA OBJECTS */
^IMAGE = ("H8038_0000_IR4.TIF")
/* IDENTIFICATION DATA ELEMENTS */
DATA_SET_ID = "MEX-M-HRSC-4-REFDR-MAPPROJECT-EXT3-V4.0"
DATA_SET_NAME = "MARS EXPRESS HRSC MAP PROJECTED REFDR EXTENSION3 V4.0"
DETECTOR_ID = MEX_HRSC_IR
EVENT_TYPE = "MARS-REGIONAL-VARIABLE-Gl-At"
INSTRUMENT_HOST_ID = MEX
INSTRUMENT_HOST_NAME = "MARS EXPRESS"
INSTRUMENT_ID = HRSC
INSTRUMENT_NAME = "HIGH RESOLUTION STEREO CAMERA"
MISSION_NAME = "MARS EXPRESS"
MISSION_PHASE_NAME = ME_Phase_20
PROCESSING_LEVEL_ID = 4
PRODUCT_CREATION_TIME = 2023-02-03T04:36:48.000Z
PRODUCT_ID = "H8038_0000_IR4.TIF"
RELEASE_ID = 0004
REVISION_ID = 0000
/* QUALITY DATA ELEMENTS */
DATA_QUALITY_ID = 1
DATA_QUALITY_DESC = "Data calculated based on original SPICE kernels"
/* TIME DATA ELEMENTS */
SPACECRAFT_CLOCK_START_COUNT = "1/0219091214.09052"
SPACECRAFT_CLOCK_STOP_COUNT = "1/0219092346.64411"
START_TIME = 2010-04-11T18:43:53.243Z
STOP_TIME = 2010-04-11T18:57:23.172Z
/* ORBITAL DATA ELEMENTS */
ASCENDING_NODE_LONGITUDE = 63.86
MAXIMUM_RESOLUTION = 0.1875
FOOTPRINT_POINT_LATITUDE = (79.4569,79.7105,79.9541,80.2871, 80.4501,80.5796,80.6787,80.6833,80.5513 ,81.4887,82.1038,82.7112,83.311,83.9038 ,84.4913,85.0671,85.9258,86.4851, 87.0323,87.8422,88.3655,88.8661,89.3129 ,89.5408,89.3068,88.8778,88.4095, 87.6929,87.2174,86.746,86.2808,85.8165, 85.3608,84.6842,83.5882,82.9449,82.1021 ,81.2775,80.4745,79.6893,78.9227,78.173 ,77.4406,76.7259,76.0271,75.855,75.8489 ,75.9113,75.9617,75.9884,75.9911, 75.9707,75.9266,75.8594,75.7307,75.6111 ,75.3698,75.1932,74.917,74.8901,74.8812 ,75.4809,76.0926,76.7162,77.3505,77.994 ,78.645,79.3016,79.9601,80.6159,81.1016 ,81.7332,82.3411,82.9076,83.1687, 83.4123,83.6331,83.8284,83.9945,84.1264 ,84.2194,84.2713,84.2781,84.2388, 84.1533,84.0199,83.8406,83.6177,83.3533 ,83.0505,82.7125,82.3423,81.9424, 81.5155,81.0636,80.5892,80.0938,79.5799 ,79.3166,79.4569)
FOOTPRINT_POINT_LONGITUDE = (159.975,157.347,154.409,149.342, 146.064,142.676,138.976,138.755,138.269 ,138.586,138.832,139.115,139.444, 139.834,140.313,140.868,142.05,143.104, 144.481,147.914,151.972,159.559,177.634 ,226.661,274.281,291.649,299.042, 304.392,306.392,307.801,308.858,309.655 ,310.309,311.065,311.996,312.414, 312.859,313.217,313.526,313.789,314.022 ,314.228,314.416,314.591,314.755, 314.794,314.796,312.596,310.041,307.482 ,304.926,302.379,299.844,297.329, 293.911,291.462,287.565,285.224,282.077 ,281.795,281.702,280.855,279.896, 278.804,277.555,276.119,274.458,272.519 ,270.244,267.556,265.218,261.6,257.214, 251.927,248.911,245.563,241.966,238.058 ,233.764,229.324,224.566,219.644, 214.587,209.499,204.471,199.553,194.826 ,190.345,186.141,182.235,178.631, 175.326,172.303,169.547,167.036,164.749 ,162.667,160.771,159.886,159.975)
ORBIT_NUMBER = 8038
ORBITAL_ECCENTRICITY = 0.576
ORBITAL_INCLINATION = 86.82
ORBITAL_SEMIMAJOR_AXIS = 8836.6
PERIAPSIS_ALTITUDE = 353.79
PERIAPSIS_ARGUMENT_ANGLE = 29.28
PERIAPSIS_TIME = 2010-04-11T18:27:22.000Z
SPACECRAFT_ORIENTATION = (0.0,1.0,0.0)
^MEX_ORIENTATION_DESC = "MEX_ORIENTATION_DESC.TXT"
SPACECRAFT_POINTING_MODE = NADIR
^MEX_POINTING_DESC = "MEX_POINTING_DESC.TXT"
RIGHT_ASCENSION = -1e+32
DECLINATION = -1e+32
OFFSET_ANGLE = -1e+32
SPACECRAFT_SOLAR_DISTANCE = 2.49117e+08
TARGET_NAME = MARS
/* CAMERA DATA ELEMENTS */
DETECTOR_TEMPERATURE = 17.351
FOCAL_PLANE_TEMPERATURE = 7.9716
INST_CMPRS_NAME = "DISCRETE COSINE TRANSFORMATION (DCT)"
INST_CMPRS_RATIO = 13.5886
INST_CMPRS_QUALITY = 0
INST_CMPRS_QUANTZ_TBL_ID = 0
INSTRUMENT_TEMPERATURE = 11.234
LENS_TEMPERATURE = 8.5833
MACROPIXEL_SIZE = 4
MISSING_FRAMES = 1
PIXEL_SUBSAMPLING_FLAG = N
SIGNAL_CHAIN_ID = 2
/* RADIOMETRIC DATA ELEMENTS */
BANDWIDTH = 81.0
CENTER_FILTER_WAVELENGTH = 955.5
RADIANCE_OFFSET = 0.514341
RADIANCE_SCALING_FACTOR = 0.00765078
REFLECTANCE_SCALING_FACTOR = 0.00102433
MEX:REFLECTANCE_OFFSET = 0.0688631
/* IMAGE OBJECT DEFINITIONS */
OBJECT = IMAGE
  INTERCHANGE_FORMAT = BINARY
  LINES = 5536
  LINE_SAMPLES = 6169
  SAMPLE_TYPE = UNSIGNED_INTEGER
  SAMPLE_BITS = 8
  BANDS = 1
  BAND_STORAGE_TYPE = BAND_SEQUENTIAL
  MAXIMUM = 205
  MEAN = 48.2476
  MINIMUM = 2
  STANDARD_DEVIATION = 30.2601
END_OBJECT = IMAGE
/* MAP OBJECT DEFINITIONS */
OBJECT = IMAGE_MAP_PROJECTION
  ^DATA_SET_MAP_PROJECTION_CATALOG= "DSMAP.CAT"
  A_AXIS_RADIUS = 3396.0
  B_AXIS_RADIUS = 3396.0
  C_AXIS_RADIUS = 3396.0
  CENTER_LATITUDE = 90.0
  CENTER_LONGITUDE = 0.0
  COORDINATE_SYSTEM_NAME = PLANETOGRAPHIC
  COORDINATE_SYSTEM_TYPE = "BODY-FIXED ROTATING"
  EASTERNMOST_LONGITUDE = 314.796
  FIRST_STANDARD_PARALLEL = "N/A"
  LINE_FIRST_PIXEL = 1
  LINE_LAST_PIXEL = 5536
  LINE_PROJECTION_OFFSET = 2912.75
  MAP_PROJECTION_ROTATION = 0.0
  MAP_PROJECTION_TYPE = STEREOGRAPHIC
  MAP_RESOLUTION = 296.356901933333
  MAP_SCALE = 0.2
  MAXIMUM_LATITUDE = 89.5408
  MINIMUM_LATITUDE = 74.88120000000001
  POSITIVE_LONGITUDE_DIRECTION = EAST
  REFERENCE_LATITUDE = "N/A"
  REFERENCE_LONGITUDE = "N/A"
  SAMPLE_FIRST_PIXEL = 1
  SAMPLE_LAST_PIXEL = 6169
  SAMPLE_PROJECTION_OFFSET = 4367.25
  SECOND_STANDARD_PARALLEL = "N/A"
  WESTERNMOST_LONGITUDE = 138.269
END_OBJECT = IMAGE_MAP_PROJECTION
END
