PDS_VERSION_ID = PDS3
/* FILE DATA ELEMENTS */
RECORD_TYPE = UNDEFINED
/* POINTERS TO DATA OBJECTS */
^IMAGE = ("H8038_0000_GR4.TIF")
/* IDENTIFICATION DATA ELEMENTS */
DATA_SET_ID = "MEX-M-HRSC-4-REFDR-MAPPROJECT-EXT3-V4.0"
DATA_SET_NAME = "MARS EXPRESS HRSC MAP PROJECTED REFDR EXTENSION3 V4.0"
DETECTOR_ID = MEX_HRSC_GREEN
EVENT_TYPE = "MARS-REGIONAL-VARIABLE-Gl-At"
INSTRUMENT_HOST_ID = MEX
INSTRUMENT_HOST_NAME = "MARS EXPRESS"
INSTRUMENT_ID = HRSC
INSTRUMENT_NAME = "HIGH RESOLUTION STEREO CAMERA"
MISSION_NAME = "MARS EXPRESS"
MISSION_PHASE_NAME = ME_Phase_20
PROCESSING_LEVEL_ID = 4
PRODUCT_CREATION_TIME = 2023-02-03T04:36:48.000Z
PRODUCT_ID = "H8038_0000_GR4.TIF"
RELEASE_ID = 0004
REVISION_ID = 0000
/* QUALITY DATA ELEMENTS */
DATA_QUALITY_ID = 1
DATA_QUALITY_DESC = "Data calculated based on original SPICE kernels"
/* TIME DATA ELEMENTS */
SPACECRAFT_CLOCK_START_COUNT = "1/0219091214.09052"
SPACECRAFT_CLOCK_STOP_COUNT = "1/0219092346.64411"
START_TIME = 2010-04-11T18:42:17.794Z
STOP_TIME = 2010-04-11T18:52:11.851Z
/* ORBITAL DATA ELEMENTS */
ASCENDING_NODE_LONGITUDE = 63.86
MAXIMUM_RESOLUTION = 0.1587
FOOTPRINT_POINT_LATITUDE = (79.5082,79.9036,80.1357,80.2859, 80.4122,80.55,80.5548,80.5393,81.3613, 81.904,82.4423,82.9764,83.5059,84.0308, 84.5509,85.0658,85.5752,86.0778,86.5727 ,87.0579,87.5302,87.9869,88.4067, 88.7645,88.9963,89.0156,88.8137,88.482, 88.0891,87.6679,87.2329,86.791,86.3463, 85.9005,85.4552,85.011,84.5679,83.6884, 82.8194,81.9604,81.1115,80.2736,79.4469 ,78.6314,77.8265,77.0325,76.2494, 76.0552,76.0146,76.0104,75.9626,75.8571 ,75.7684,75.674,75.5651,75.3579,75.1543 ,74.8584,74.8357,74.8285,75.5447, 76.2659,76.991,77.7185,78.4466,79.1729, 79.8939,80.6053,81.3012,81.974,82.6113, 82.9124,83.1994,83.4688,83.7176,83.9427 ,84.141,84.3081,84.4413,84.5371,84.5919 ,84.6029,84.5669,84.4886,84.2894, 84.1054,83.8838,83.6272,83.3388,83.0218 ,82.6792,82.3135,81.9271,81.522,81.1002 ,80.6632,80.2123,79.749,79.513,79.5082)
FOOTPRINT_POINT_LONGITUDE = (158.919,154.122,150.557,147.739, 144.839,140.537,140.347,139.981,140.515 ,140.93,141.402,141.944,142.573,143.309 ,144.189,145.25,146.569,148.201,150.292 ,153.06,156.897,162.515,171.107,185.075 ,207.505,235.876,259.621,274.506, 283.614,289.483,293.5,296.391,298.565, 300.248,301.594,302.686,303.585,304.988 ,306.041,306.844,307.471,307.976, 308.391,308.738,309.028,309.275,309.488 ,309.536,309.546,305.85,302.655,299.018 ,296.868,294.982,293.116,290.147, 287.701,284.673,284.461,284.39,283.428, 282.334,281.085,279.65,277.992,276.063, 273.804,271.14,267.98,264.21,259.662, 257.05,254.194,251.06,247.632,243.899, 239.865,235.531,230.93,226.099,221.046, 215.937,210.802,205.744,198.41,193.834, 189.533,185.531,181.834,178.438,175.331 ,172.494,169.909,167.553,165.406, 163.448,161.66,160.024,159.258,158.919)
ORBIT_NUMBER = 8038
ORBITAL_ECCENTRICITY = 0.576
ORBITAL_INCLINATION = 86.82
ORBITAL_SEMIMAJOR_AXIS = 8836.6
PERIAPSIS_ALTITUDE = 353.79
PERIAPSIS_ARGUMENT_ANGLE = 29.28
PERIAPSIS_TIME = 2010-04-11T18:27:22.000Z
SPACECRAFT_ORIENTATION = (0.0,1.0,0.0)
^MEX_ORIENTATION_DESC = "MEX_ORIENTATION_DESC.TXT"
SPACECRAFT_POINTING_MODE = NADIR
^MEX_POINTING_DESC = "MEX_POINTING_DESC.TXT"
RIGHT_ASCENSION = -1e+32
DECLINATION = -1e+32
OFFSET_ANGLE = -1e+32
SPACECRAFT_SOLAR_DISTANCE = 2.49117e+08
TARGET_NAME = MARS
/* CAMERA DATA ELEMENTS */
DETECTOR_TEMPERATURE = 18.1666
FOCAL_PLANE_TEMPERATURE = 7.9716
INST_CMPRS_NAME = "DISCRETE COSINE TRANSFORMATION (DCT)"
INST_CMPRS_RATIO = 19.5879
INST_CMPRS_QUALITY = 0
INST_CMPRS_QUANTZ_TBL_ID = 0
INSTRUMENT_TEMPERATURE = 11.234
LENS_TEMPERATURE = 8.5833
MACROPIXEL_SIZE = 4
PIXEL_SUBSAMPLING_FLAG = N
SIGNAL_CHAIN_ID = 2
/* RADIOMETRIC DATA ELEMENTS */
BANDWIDTH = 88.0
CENTER_FILTER_WAVELENGTH = 538.0
RADIANCE_OFFSET = 0.946912
RADIANCE_SCALING_FACTOR = 0.010792
REFLECTANCE_SCALING_FACTOR = 0.000576629
MEX:REFLECTANCE_OFFSET = 0.0505946
/* IMAGE OBJECT DEFINITIONS */
OBJECT = IMAGE
  INTERCHANGE_FORMAT = BINARY
  LINES = 5536
  LINE_SAMPLES = 6169
  SAMPLE_TYPE = UNSIGNED_INTEGER
  SAMPLE_BITS = 8
  BANDS = 1
  BAND_STORAGE_TYPE = BAND_SEQUENTIAL
  MAXIMUM = 255
  MEAN = 101.513
  MINIMUM = 1
  STANDARD_DEVIATION = 56.7035
END_OBJECT = IMAGE
/* MAP OBJECT DEFINITIONS */
OBJECT = IMAGE_MAP_PROJECTION
  ^DATA_SET_MAP_PROJECTION_CATALOG= "DSMAP.CAT"
  A_AXIS_RADIUS = 3396.0
  B_AXIS_RADIUS = 3396.0
  C_AXIS_RADIUS = 3396.0
  CENTER_LATITUDE = 90.0
  CENTER_LONGITUDE = 0.0
  COORDINATE_SYSTEM_NAME = PLANETOGRAPHIC
  COORDINATE_SYSTEM_TYPE = "BODY-FIXED ROTATING"
  EASTERNMOST_LONGITUDE = 309.546
  FIRST_STANDARD_PARALLEL = "N/A"
  LINE_FIRST_PIXEL = 1
  LINE_LAST_PIXEL = 5536
  LINE_PROJECTION_OFFSET = 2912.75
  MAP_PROJECTION_ROTATION = 0.0
  MAP_PROJECTION_TYPE = STEREOGRAPHIC
  MAP_RESOLUTION = 296.356901933333
  MAP_SCALE = 0.2
  MAXIMUM_LATITUDE = 89.01560000000001
  MINIMUM_LATITUDE = 74.82850000000001
  POSITIVE_LONGITUDE_DIRECTION = EAST
  REFERENCE_LATITUDE = "N/A"
  REFERENCE_LONGITUDE = "N/A"
  SAMPLE_FIRST_PIXEL = 1
  SAMPLE_LAST_PIXEL = 6169
  SAMPLE_PROJECTION_OFFSET = 4367.25
  SECOND_STANDARD_PARALLEL = "N/A"
  WESTERNMOST_LONGITUDE = 139.981
END_OBJECT = IMAGE_MAP_PROJECTION
END
