PDS_VERSION_ID = PDS3
/* FILE DATA ELEMENTS */
RECORD_TYPE = UNDEFINED
/* POINTERS TO DATA OBJECTS */
^IMAGE = ("H8037_0000_S14.TIF")
/* IDENTIFICATION DATA ELEMENTS */
DATA_SET_ID = "MEX-M-HRSC-4-REFDR-MAPPROJECT-EXT3-V4.0"
DATA_SET_NAME = "MARS EXPRESS HRSC MAP PROJECTED REFDR EXTENSION3 V4.0"
DETECTOR_ID = MEX_HRSC_S1
EVENT_TYPE = "MARS-REGIONAL-VARIABLE-Gl-At"
INSTRUMENT_HOST_ID = MEX
INSTRUMENT_HOST_NAME = "MARS EXPRESS"
INSTRUMENT_ID = HRSC
INSTRUMENT_NAME = "HIGH RESOLUTION STEREO CAMERA"
MISSION_NAME = "MARS EXPRESS"
MISSION_PHASE_NAME = ME_Phase_20
PROCESSING_LEVEL_ID = 4
PRODUCT_CREATION_TIME = 2023-02-03T04:36:48.000Z
PRODUCT_ID = "H8037_0000_S14.TIF"
RELEASE_ID = 0004
REVISION_ID = 0000
/* QUALITY DATA ELEMENTS */
DATA_QUALITY_ID = 1
DATA_QUALITY_DESC = "Data calculated based on original SPICE kernels"
/* TIME DATA ELEMENTS */
SPACECRAFT_CLOCK_START_COUNT = "1/0219066052.08253"
SPACECRAFT_CLOCK_STOP_COUNT = "1/0219066739.15970"
START_TIME = 2010-04-11T11:44:21.480Z
STOP_TIME = 2010-04-11T11:52:19.771Z
/* ORBITAL DATA ELEMENTS */
ASCENDING_NODE_LONGITUDE = 63.89
MAXIMUM_RESOLUTION = 0.2041
FOOTPRINT_POINT_LATITUDE = (77.4548,77.6296,77.7738,77.886,77.9645 ,78.0082,78.0022,78.0001,77.7549, 78.2747,78.7915,79.3073,80.0795,80.5915 ,81.1019,81.6112,82.3749,82.8812, 83.3859,83.887,84.3959,84.893,85.3995, 85.898,86.3915,86.8875,87.3768,87.8609, 88.3368,88.7946,89.2056,89.4525,89.3258 ,88.955,88.5135,88.0491,87.3376,86.6189 ,86.1373,85.656,84.6914,83.7281,83.0058 ,82.2856,81.5632,80.3652,79.646,78.6882 ,77.7317,77.4928,77.4544,77.4706, 77.4176,77.3043,77.1318,76.9033,76.622, 76.4417,76.4207,76.4142,77.3153,78.2085 ,79.3098,79.9601,80.8129,81.4375, 82.2462,83.0165,83.7327,84.0643,84.3743 ,84.9053,85.1193,85.4194,85.4964, 85.5202,85.4899,85.4059,85.272,85.09, 84.8657,84.4618,84.1536,83.6414,83.0855 ,82.6947,82.2866,81.8688,81.4397, 80.9958,80.5509,80.097,79.6376,79.1722, 78.7019,77.9867,77.5049,77.2636, 77.4548)
FOOTPRINT_POINT_LONGITUDE = (252.819,250.117,247.331,244.468, 241.541,238.564,233.645,233.455,232.983 ,232.862,232.729,232.585,232.345, 232.163,231.961,231.736,231.352,231.05, 230.702,230.292,229.848,229.274,228.632 ,227.804,226.736,225.369,223.469, 220.715,216.385,208.704,192.498,154.696 ,108.584,86.4895,76.6628,71.4154, 67.0491,64.5338,63.3636,62.4654,61.1394 ,60.2261,59.6997,59.2835,58.9122, 58.4464,58.2062,57.9311,57.6974,57.644, 57.6357,53.4026,48.9385,44.8284,40.8268 ,36.9624,33.2542,31.2411,31.0209, 30.9468,29.5929,28.019,25.6684,24.0026, 21.3956,19.0934,15.4213,10.8846,5.22929 ,1.88249,358.118,349.415,344.398, 333.151,327.057,320.807,314.558,308.446 ,302.633,297.162,292.119,285.408, 281.476,276.313,271.959,269.435,267.158 ,265.12,263.281,261.606,260.105,258.737 ,257.491,256.352,255.308,253.896, 253.046,252.647,252.819)
ORBIT_NUMBER = 8037
ORBITAL_ECCENTRICITY = 0.577
ORBITAL_INCLINATION = 86.82
ORBITAL_SEMIMAJOR_AXIS = 8844.46
PERIAPSIS_ALTITUDE = 353.46
PERIAPSIS_ARGUMENT_ANGLE = 29.44
PERIAPSIS_TIME = 2010-04-11T11:27:39.000Z
SPACECRAFT_ORIENTATION = (0.0,1.0,0.0)
^MEX_ORIENTATION_DESC = "MEX_ORIENTATION_DESC.TXT"
SPACECRAFT_POINTING_MODE = INERT
^MEX_POINTING_DESC = "MEX_POINTING_DESC.TXT"
RIGHT_ASCENSION = 270.854
DECLINATION = -60.534
OFFSET_ANGLE = -1e+32
SPACECRAFT_SOLAR_DISTANCE = 2.49122e+08
TARGET_NAME = MARS
/* CAMERA DATA ELEMENTS */
DETECTOR_TEMPERATURE = 16.9432
FOCAL_PLANE_TEMPERATURE = 7.3599
INST_CMPRS_NAME = "DISCRETE COSINE TRANSFORMATION (DCT)"
INST_CMPRS_RATIO = 25.6538
INST_CMPRS_QUALITY = 0
INST_CMPRS_QUANTZ_TBL_ID = 0
INSTRUMENT_TEMPERATURE = 10.8262
LENS_TEMPERATURE = 7.7677
MACROPIXEL_SIZE = 4
MISSING_FRAMES = 0
PIXEL_SUBSAMPLING_FLAG = N
SIGNAL_CHAIN_ID = 1
/* RADIOMETRIC DATA ELEMENTS */
BANDWIDTH = 180.0
CENTER_FILTER_WAVELENGTH = 677.0
RADIANCE_OFFSET = 1.80632
RADIANCE_SCALING_FACTOR = 0.0304333
REFLECTANCE_SCALING_FACTOR = 0.000985409
MEX:REFLECTANCE_OFFSET = 0.0584874
/* IMAGE OBJECT DEFINITIONS */
OBJECT = IMAGE
  INTERCHANGE_FORMAT = BINARY
  LINES = 5407
  LINE_SAMPLES = 6761
  SAMPLE_TYPE = UNSIGNED_INTEGER
  SAMPLE_BITS = 8
  BANDS = 1
  BAND_STORAGE_TYPE = BAND_SEQUENTIAL
  MAXIMUM = 255
  MEAN = 143.002
  MINIMUM = 1
  STANDARD_DEVIATION = 54.0039
END_OBJECT = IMAGE
/* MAP OBJECT DEFINITIONS */
OBJECT = IMAGE_MAP_PROJECTION
  ^DATA_SET_MAP_PROJECTION_CATALOG= "DSMAP.CAT"
  A_AXIS_RADIUS = 3396.0
  B_AXIS_RADIUS = 3396.0
  C_AXIS_RADIUS = 3396.0
  CENTER_LATITUDE = 90.0
  CENTER_LONGITUDE = 0.0
  COORDINATE_SYSTEM_NAME = PLANETOGRAPHIC
  COORDINATE_SYSTEM_TYPE = "BODY-FIXED ROTATING"
  EASTERNMOST_LONGITUDE = 360.0
  FIRST_STANDARD_PARALLEL = "N/A"
  LINE_FIRST_PIXEL = 1
  LINE_LAST_PIXEL = 5407
  LINE_PROJECTION_OFFSET = 2041.25
  MAP_PROJECTION_ROTATION = 0.0
  MAP_PROJECTION_TYPE = STEREOGRAPHIC
  MAP_RESOLUTION = 296.356901933333
  MAP_SCALE = 0.2
  MAXIMUM_LATITUDE = 90.0
  MINIMUM_LATITUDE = 76.41419999999999
  POSITIVE_LONGITUDE_DIRECTION = EAST
  REFERENCE_LATITUDE = "N/A"
  REFERENCE_LONGITUDE = "N/A"
  SAMPLE_FIRST_PIXEL = 1
  SAMPLE_LAST_PIXEL = 6761
  SAMPLE_PROJECTION_OFFSET = 3596.25
  SECOND_STANDARD_PARALLEL = "N/A"
  WESTERNMOST_LONGITUDE = 0.0
END_OBJECT = IMAGE_MAP_PROJECTION
END
